Workbook
Name start_day: About!$P$12

Sheet About
B2: How to Use This Template
N4: Time Entry
C5: Step 1: | E5: Enter the Year and Start Month
C7: Step 2: | E7: Choose the Start Day
O8: Year | P8: 2026
C9: Step 3: | E9: Customize the Theme Colors / Fonts
E10: Go to Page Layout > Themes to choose different colors and fonts. | O10: Start Month | P10: 1
C12: Step 4: | E12: Print to Paper or PDF | O12: Start Day of Week | P12: 1
E13: Print the entire workbook, or print only the selected worksheets.

Sheet January
B2: =DATE(About!P8,About!P10,1) -> 46023
C3: =DATE(About!P8,About!P10,1) -> 46023
C5: =C6 -> 46019 | E5: =E6 -> 46020 | G5: =G6 -> 46021 | I5: =I6 -> 46022 | K5: =K6 -> 46023 | O5: =O6 -> 46024 | W5: =W6 -> 46025
C6: =$C$3-(WEEKDAY($C$3,1)-(start_day-1))-IF((WEEKDAY($C$3,1)-(start_day-1))<=0,7,0)+1 -> 46019 | E6: =C6+1 -> 46020 | G6: =E6+1 -> 46021 | I6: =G6+1 -> 46022 | K6: =I6+1 -> 46023 | O6: =K6+1 -> 46024 | W6: =O6+1 -> 46025
C8: =W6+1 -> 46026
E9: =C8+1 -> 46027 | G9: =E9+1 -> 46028 | I9: =G9+1 -> 46029 | K9: =I9+1 -> 46030 | O9: =K9+1 -> 46031 | W9: =O9+1 -> 46032
C11: =W9+1 -> 46033
E12: =C11+1 -> 46034 | G12: =E12+1 -> 46035 | I12: =G12+1 -> 46036 | K12: =I12+1 -> 46037 | O12: =K12+1 -> 46038 | W12: =O12+1 -> 46039
C14: =W12+1 -> 46040
E15: =C14+1 -> 46041 | G15: =E15+1 -> 46042 | I15: =G15+1 -> 46043 | K15: =I15+1 -> 46044 | O15: =K15+1 -> 46045 | W15: =O15+1 -> 46046
C17: =W15+1 -> 46047
E18: =C17+1 -> 46048 | G18: =E18+1 -> 46049 | I18: =G18+1 -> 46050 | K18: =I18+1 -> 46051 | O18: =K18+1 -> 46052 | W18: =O18+1 -> 46053
C20: =W18+1 -> 46054
E21: =C20+1 -> 46055 | G21: =E21+1 -> 46056 | I21: =G21+1 -> 46057 | K21: =I21+1 -> 46058 | O21: =K21+1 -> 46059 | W21: =O21+1 -> 46060
C26: Notes | O26: =DATE(YEAR(C3),MONTH(C3)-1,1) -> 45992 | X26: =DATE(YEAR(C3),MONTH(C3)+1,1) -> 46054
O27: {=INDEX({"S";"M";"T";"W";"T";"F";"S"},1+MOD(start_day+1-2,7))} -> S | P27: {=INDEX({"S";"M";"T";"W";"T";"F";"S"},1+MOD(start_day+2-2,7))} -> M | Q27: {=INDEX({"S";"M";"T";"W";"T";"F";"S"},1+MOD(start_day+3-2,7))} -> T | R27: {=INDEX({"S";"M";"T";"W";"T";"F";"S"},1+MOD(start_day+4-2,7))} -> W | S27: {=INDEX({"S";"M";"T";"W";"T";"F";"S"},1+MOD(start_day+5-2,7))} -> T | T27: {=INDEX({"S";"M";"T";"W";"T";"F";"S"},1+MOD(start_day+6-2,7))} -> F | U27: {=INDEX({"S";"M";"T";"W";"T";"F";"S"},1+MOD(start_day+7-2,7))} -> S | X27: {=INDEX({"S";"M";"T";"W";"T";"F";"S"},1+MOD(start_day+1-2,7))} -> S | Y27: {=INDEX({"S";"M";"T";"W";"T";"F";"S"},1+MOD(start_day+2-2,7))} -> M | Z27: {=INDEX({"S";"M";"T";"W";"T";"F";"S"},1+MOD(start_day+3-2,7))} -> T | AA27: {=INDEX({"S";"M";"T";"W";"T";"F";"S"},1+MOD(start_day+4-2,7))} -> W | AB27: {=INDEX({"S";"M";"T";"W";"T";"F";"S"},1+MOD(start_day+5-2,7))} -> T | AC27: {=INDEX({"S";"M";"T";"W";"T";"F";"S"},1+MOD(start_day+6-2,7))} -> F | AD27: {=INDEX({"S";"M";"T";"W";"T";"F";"S"},1+MOD(start_day+7-2,7))} -> S
O28: =IF(MONTH($O$26)<>MONTH($O$26-(WEEKDAY($O$26,1)-(start_day-1))-IF((WEEKDAY($O$26,1)-(start_day-1))<=0,7,0)+(ROW(O28)-ROW($O$28))*7+(COLUMN(O28)-COLUMN($O$28)+1)),"",$O$26-(WEEKDAY($O$26,1)-(start_day-1))-IF((WEEKDAY($O$26,1)-(start_day-1))<=0,7,0)+(ROW(O28)-ROW($O$28))*7+(COLUMN(O28)-COLUMN($O$28)+1)) | P28: =IF(MONTH($O$26)<>MONTH($O$26-(WEEKDAY($O$26,1)-(start_day-1))-IF((WEEKDAY($O$26,1)-(start_day-1))<=0,7,0)+(ROW(P28)-ROW($O$28))*7+(COLUMN(P28)-COLUMN($O$28)+1)),"",$O$26-(WEEKDAY($O$26,1)-(start_day-1))-IF((WEEKDAY($O$26,1)-(start_day-1))<=0,7,0)+(ROW(P28)-ROW($O$28))*7+(COLUMN(P28)-COLUMN($O$28)+1)) -> 45992 | Q28: =IF(MONTH($O$26)<>MONTH($O$26-(WEEKDAY($O$26,1)-(start_day-1))-IF((WEEKDAY($O$26,1)-(start_day-1))<=0,7,0)+(ROW(Q28)-ROW($O$28))*7+(COLUMN(Q28)-COLUMN($O$28)+1)),"",$O$26-(WEEKDAY($O$26,1)-(start_day-1))-IF((WEEKDAY($O$26,1)-(start_day-1))<=0,7,0)+(ROW(Q28)-ROW($O$28))*7+(COLUMN(Q28)-COLUMN($O$28)+1)) -> 45993 | R28: =IF(MONTH($O$26)<>MONTH($O$26-(WEEKDAY($O$26,1)-(start_day-1))-IF((WEEKDAY($O$26,1)-(start_day-1))<=0,7,0)+(ROW(R28)-ROW($O$28))*7+(COLUMN(R28)-COLUMN($O$28)+1)),"",$O$26-(WEEKDAY($O$26,1)-(start_day-1))-IF((WEEKDAY($O$26,1)-(start_day-1))<=0,7,0)+(ROW(R28)-ROW($O$28))*7+(COLUMN(R28)-COLUMN($O$28)+1)) -> 45994 | S28: =IF(MONTH($O$26)<>MONTH($O$26-(WEEKDAY($O$26,1)-(start_day-1))-IF((WEEKDAY($O$26,1)-(start_day-1))<=0,7,0)+(ROW(S28)-ROW($O$28))*7+(COLUMN(S28)-COLUMN($O$28)+1)),"",$O$26-(WEEKDAY($O$26,1)-(start_day-1))-IF((WEEKDAY($O$26,1)-(start_day-1))<=0,7,0)+(ROW(S28)-ROW($O$28))*7+(COLUMN(S28)-COLUMN($O$28)+1)) -> 45995 | T28: =IF(MONTH($O$26)<>MONTH($O$26-(WEEKDAY($O$26,1)-(start_day-1))-IF((WEEKDAY($O$26,1)-(start_day-1))<=0,7,0)+(ROW(T28)-ROW($O$28))*7+(COLUMN(T28)-COLUMN($O$28)+1)),"",$O$26-(WEEKDAY($O$26,1)-(start_day-1))-IF((WEEKDAY($O$26,1)-(start_day-1))<=0,7,0)+(ROW(T28)-ROW($O$28))*7+(COLUMN(T28)-COLUMN($O$28)+1)) -> 45996 | U28: =IF(MONTH($O$26)<>MONTH($O$26-(WEEKDAY($O$26,1)-(start_day-1))-IF((WEEKDAY($O$26,1)-(start_day-1))<=0,7,0)+(ROW(U28)-ROW($O$28))*7+(COLUMN(U28)-COLUMN($O$28)+1)),"",$O$26-(WEEKDAY($O$26,1)-(start_day-1))-IF((WEEKDAY($O$26,1)-(start_day-1))<=0,7,0)+(ROW(U28)-ROW($O$28))*7+(COLUMN(U28)-COLUMN($O$28)+1)) -> 45997 | X28: =IF(MONTH($X$26)<>MONTH($X$26-(WEEKDAY($X$26,1)-(start_day-1))-IF((WEEKDAY($X$26,1)-(start_day-1))<=0,7,0)+(ROW(X28)-ROW($X$28))*7+(COLUMN(X28)-COLUMN($X$28)+1)),"",$X$26-(WEEKDAY($X$26,1)-(start_day-1))-IF((WEEKDAY($X$26,1)-(start_day-1))<=0,7,0)+(ROW(X28)-ROW($X$28))*7+(COLUMN(X28)-COLUMN($X$28)+1)) -> 46054 | Y28: =IF(MONTH($X$26)<>MONTH($X$26-(WEEKDAY($X$26,1)-(start_day-1))-IF((WEEKDAY($X$26,1)-(start_day-1))<=0,7,0)+(ROW(Y28)-ROW($X$28))*7+(COLUMN(Y28)-COLUMN($X$28)+1)),"",$X$26-(WEEKDAY($X$26,1)-(start_day-1))-IF((WEEKDAY($X$26,1)-(start_day-1))<=0,7,0)+(ROW(Y28)-ROW($X$28))*7+(COLUMN(Y28)-COLUMN($X$28)+1)) -> 46055 | Z28: =IF(MONTH($X$26)<>MONTH($X$26-(WEEKDAY($X$26,1)-(start_day-1))-IF((WEEKDAY($X$26,1)-(start_day-1))<=0,7,0)+(ROW(Z28)-ROW($X$28))*7+(COLUMN(Z28)-COLUMN($X$28)+1)),"",$X$26-(WEEKDAY($X$26,1)-(start_day-1))-IF((WEEKDAY($X$26,1)-(start_day-1))<=0,7,0)+(ROW(Z28)-ROW($X$28))*7+(COLUMN(Z28)-COLUMN($X$28)+1)) -> 46056 | AA28: =IF(MONTH($X$26)<>MONTH($X$26-(WEEKDAY($X$26,1)-(start_day-1))-IF((WEEKDAY($X$26,1)-(start_day-1))<=0,7,0)+(ROW(AA28)-ROW($X$28))*7+(COLUMN(AA28)-COLUMN($X$28)+1)),"",$X$26-(WEEKDAY($X$26,1)-(start_day-1))-IF((WEEKDAY($X$26,1)-(start_day-1))<=0,7,0)+(ROW(AA28)-ROW($X$28))*7+(COLUMN(AA28)-COLUMN($X$28)+1)) -> 46057 | AB28: =IF(MONTH($X$26)<>MONTH($X$26-(WEEKDAY($X$26,1)-(start_day-1))-IF((WEEKDAY($X$26,1)-(start_day-1))<=0,7,0)+(ROW(AB28)-ROW($X$28))*7+(COLUMN(AB28)-COLUMN($X$28)+1)),"",$X$26-(WEEKDAY($X$26,1)-(start_day-1))-IF((WEEKDAY($X$26,1)-(start_day-1))<=0,7,0)+(ROW(AB28)-ROW($X$28))*7+(COLUMN(AB28)-COLUMN($X$28)+1)) -> 46058 | AC28: =IF(MONTH($X$26)<>MONTH($X$26-(WEEKDAY($X$26,1)-(start_day-1))-IF((WEEKDAY($X$26,1)-(start_day-1))<=0,7,0)+(ROW(AC28)-ROW($X$28))*7+(COLUMN(AC28)-COLUMN($X$28)+1)),"",$X$26-(WEEKDAY($X$26,1)-(start_day-1))-IF((WEEKDAY($X$26,1)-(start_day-1))<=0,7,0)+(ROW(AC28)-ROW($X$28))*7+(COLUMN(AC28)-COLUMN($X$28)+1)) -> 46059 | AD28: =IF(MONTH($X$26)<>MONTH($X$26-(WEEKDAY($X$26,1)-(start_day-1))-IF((WEEKDAY($X$26,1)-(start_day-1))<=0,7,0)+(ROW(AD28)-ROW($X$28))*7+(COLUMN(AD28)-COLUMN($X$28)+1)),"",$X$26-(WEEKDAY($X$26,1)-(start_day-1))-IF((WEEKDAY($X$26,1)-(start_day-1))<=0,7,0)+(ROW(AD28)-ROW($X$28))*7+(COLUMN(AD28)-COLUMN($X$28)+1)) -> 46060
O29: =IF(MONTH($O$26)<>MONTH($O$26-(WEEKDAY($O$26,1)-(start_day-1))-IF((WEEKDAY($O$26,1)-(start_day-1))<=0,7,0)+(ROW(O29)-ROW($O$28))*7+(COLUMN(O29)-COLUMN($O$28)+1)),"",$O$26-(WEEKDAY($O$26,1)-(start_day-1))-IF((WEEKDAY($O$26,1)-(start_day-1))<=0,7,0)+(ROW(O29)-ROW($O$28))*7+(COLUMN(O29)-COLUMN($O$28)+1)) -> 45998 | P29: =IF(MONTH($O$26)<>MONTH($O$26-(WEEKDAY($O$26,1)-(start_day-1))-IF((WEEKDAY($O$26,1)-(start_day-1))<=0,7,0)+(ROW(P29)-ROW($O$28))*7+(COLUMN(P29)-COLUMN($O$28)+1)),"",$O$26-(WEEKDAY($O$26,1)-(start_day-1))-IF((WEEKDAY($O$26,1)-(start_day-1))<=0,7,0)+(ROW(P29)-ROW($O$28))*7+(COLUMN(P29)-COLUMN($O$28)+1)) -> 45999 | Q29: =IF(MONTH($O$26)<>MONTH($O$26-(WEEKDAY($O$26,1)-(start_day-1))-IF((WEEKDAY($O$26,1)-(start_day-1))<=0,7,0)+(ROW(Q29)-ROW($O$28))*7+(COLUMN(Q29)-COLUMN($O$28)+1)),"",$O$26-(WEEKDAY($O$26,1)-(start_day-1))-IF((WEEKDAY($O$26,1)-(start_day-1))<=0,7,0)+(ROW(Q29)-ROW($O$28))*7+(COLUMN(Q29)-COLUMN($O$28)+1)) -> 46000 | R29: =IF(MONTH($O$26)<>MONTH($O$26-(WEEKDAY($O$26,1)-(start_day-1))-IF((WEEKDAY($O$26,1)-(start_day-1))<=0,7,0)+(ROW(R29)-ROW($O$28))*7+(COLUMN(R29)-COLUMN($O$28)+1)),"",$O$26-(WEEKDAY($O$26,1)-(start_day-1))-IF((WEEKDAY($O$26,1)-(start_day-1))<=0,7,0)+(ROW(R29)-ROW($O$28))*7+(COLUMN(R29)-COLUMN($O$28)+1)) -> 46001 | S29: =IF(MONTH($O$26)<>MONTH($O$26-(WEEKDAY($O$26,1)-(start_day-1))-IF((WEEKDAY($O$26,1)-(start_day-1))<=0,7,0)+(ROW(S29)-ROW($O$28))*7+(COLUMN(S29)-COLUMN($O$28)+1)),"",$O$26-(WEEKDAY($O$26,1)-(start_day-1))-IF((WEEKDAY($O$26,1)-(start_day-1))<=0,7,0)+(ROW(S29)-ROW($O$28))*7+(COLUMN(S29)-COLUMN($O$28)+1)) -> 46002 | T29: =IF(MONTH($O$26)<>MONTH($O$26-(WEEKDAY($O$26,1)-(start_day-1))-IF((WEEKDAY($O$26,1)-(start_day-1))<=0,7,0)+(ROW(T29)-ROW($O$28))*7+(COLUMN(T29)-COLUMN($O$28)+1)),"",$O$26-(WEEKDAY($O$26,1)-(start_day-1))-IF((WEEKDAY($O$26,1)-(start_day-1))<=0,7,0)+(ROW(T29)-ROW($O$28))*7+(COLUMN(T29)-COLUMN($O$28)+1)) -> 46003 | U29: =IF(MONTH($O$26)<>MONTH($O$26-(WEEKDAY($O$26,1)-(start_day-1))-IF((WEEKDAY($O$26,1)-(start_day-1))<=0,7,0)+(ROW(U29)-ROW($O$28))*7+(COLUMN(U29)-COLUMN($O$28)+1)),"",$O$26-(WEEKDAY($O$26,1)-(start_day-1))-IF((WEEKDAY($O$26,1)-(start_day-1))<=0,7,0)+(ROW(U29)-ROW($O$28))*7+(COLUMN(U29)-COLUMN($O$28)+1)) -> 46004 | X29: =IF(MONTH($X$26)<>MONTH($X$26-(WEEKDAY($X$26,1)-(start_day-1))-IF((WEEKDAY($X$26,1)-(start_day-1))<=0,7,0)+(ROW(X29)-ROW($X$28))*7+(COLUMN(X29)-COLUMN($X$28)+1)),"",$X$26-(WEEKDAY($X$26,1)-(start_day-1))-IF((WEEKDAY($X$26,1)-(start_day-1))<=0,7,0)+(ROW(X29)-ROW($X$28))*7+(COLUMN(X29)-COLUMN($X$28)+1)) -> 46061 | Y29: =IF(MONTH($X$26)<>MONTH($X$26-(WEEKDAY($X$26,1)-(start_day-1))-IF((WEEKDAY($X$26,1)-(start_day-1))<=0,7,0)+(ROW(Y29)-ROW($X$28))*7+(COLUMN(Y29)-COLUMN($X$28)+1)),"",$X$26-(WEEKDAY($X$26,1)-(start_day-1))-IF((WEEKDAY($X$26,1)-(start_day-1))<=0,7,0)+(ROW(Y29)-ROW($X$28))*7+(COLUMN(Y29)-COLUMN($X$28)+1)) -> 46062 | Z29: =IF(MONTH($X$26)<>MONTH($X$26-(WEEKDAY($X$26,1)-(start_day-1))-IF((WEEKDAY($X$26,1)-(start_day-1))<=0,7,0)+(ROW(Z29)-ROW($X$28))*7+(COLUMN(Z29)-COLUMN($X$28)+1)),"",$X$26-(WEEKDAY($X$26,1)-(start_day-1))-IF((WEEKDAY($X$26,1)-(start_day-1))<=0,7,0)+(ROW(Z29)-ROW($X$28))*7+(COLUMN(Z29)-COLUMN($X$28)+1)) -> 46063 | AA29: =IF(MONTH($X$26)<>MONTH($X$26-(WEEKDAY($X$26,1)-(start_day-1))-IF((WEEKDAY($X$26,1)-(start_day-1))<=0,7,0)+(ROW(AA29)-ROW($X$28))*7+(COLUMN(AA29)-COLUMN($X$28)+1)),"",$X$26-(WEEKDAY($X$26,1)-(start_day-1))-IF((WEEKDAY($X$26,1)-(start_day-1))<=0,7,0)+(ROW(AA29)-ROW($X$28))*7+(COLUMN(AA29)-COLUMN($X$28)+1)) -> 46064 | AB29: =IF(MONTH($X$26)<>MONTH($X$26-(WEEKDAY($X$26,1)-(start_day-1))-IF((WEEKDAY($X$26,1)-(start_day-1))<=0,7,0)+(ROW(AB29)-ROW($X$28))*7+(COLUMN(AB29)-COLUMN($X$28)+1)),"",$X$26-(WEEKDAY($X$26,1)-(start_day-1))-IF((WEEKDAY($X$26,1)-(start_day-1))<=0,7,0)+(ROW(AB29)-ROW($X$28))*7+(COLUMN(AB29)-COLUMN($X$28)+1)) -> 46065 | AC29: =IF(MONTH($X$26)<>MONTH($X$26-(WEEKDAY($X$26,1)-(start_day-1))-IF((WEEKDAY($X$26,1)-(start_day-1))<=0,7,0)+(ROW(AC29)-ROW($X$28))*7+(COLUMN(AC29)-COLUMN($X$28)+1)),"",$X$26-(WEEKDAY($X$26,1)-(start_day-1))-IF((WEEKDAY($X$26,1)-(start_day-1))<=0,7,0)+(ROW(AC29)-ROW($X$28))*7+(COLUMN(AC29)-COLUMN($X$28)+1)) -> 46066 | AD29: =IF(MONTH($X$26)<>MONTH($X$26-(WEEKDAY($X$26,1)-(start_day-1))-IF((WEEKDAY($X$26,1)-(start_day-1))<=0,7,0)+(ROW(AD29)-ROW($X$28))*7+(COLUMN(AD29)-COLUMN($X$28)+1)),"",$X$26-(WEEKDAY($X$26,1)-(start_day-1))-IF((WEEKDAY($X$26,1)-(start_day-1))<=0,7,0)+(ROW(AD29)-ROW($X$28))*7+(COLUMN(AD29)-COLUMN($X$28)+1)) -> 46067
O30: =IF(MONTH($O$26)<>MONTH($O$26-(WEEKDAY($O$26,1)-(start_day-1))-IF((WEEKDAY($O$26,1)-(start_day-1))<=0,7,0)+(ROW(O30)-ROW($O$28))*7+(COLUMN(O30)-COLUMN($O$28)+1)),"",$O$26-(WEEKDAY($O$26,1)-(start_day-1))-IF((WEEKDAY($O$26,1)-(start_day-1))<=0,7,0)+(ROW(O30)-ROW($O$28))*7+(COLUMN(O30)-COLUMN($O$28)+1)) -> 46005 | P30: =IF(MONTH($O$26)<>MONTH($O$26-(WEEKDAY($O$26,1)-(start_day-1))-IF((WEEKDAY($O$26,1)-(start_day-1))<=0,7,0)+(ROW(P30)-ROW($O$28))*7+(COLUMN(P30)-COLUMN($O$28)+1)),"",$O$26-(WEEKDAY($O$26,1)-(start_day-1))-IF((WEEKDAY($O$26,1)-(start_day-1))<=0,7,0)+(ROW(P30)-ROW($O$28))*7+(COLUMN(P30)-COLUMN($O$28)+1)) -> 46006 | Q30: =IF(MONTH($O$26)<>MONTH($O$26-(WEEKDAY($O$26,1)-(start_day-1))-IF((WEEKDAY($O$26,1)-(start_day-1))<=0,7,0)+(ROW(Q30)-ROW($O$28))*7+(COLUMN(Q30)-COLUMN($O$28)+1)),"",$O$26-(WEEKDAY($O$26,1)-(start_day-1))-IF((WEEKDAY($O$26,1)-(start_day-1))<=0,7,0)+(ROW(Q30)-ROW($O$28))*7+(COLUMN(Q30)-COLUMN($O$28)+1)) -> 46007 | R30: =IF(MONTH($O$26)<>MONTH($O$26-(WEEKDAY($O$26,1)-(start_day-1))-IF((WEEKDAY($O$26,1)-(start_day-1))<=0,7,0)+(ROW(R30)-ROW($O$28))*7+(COLUMN(R30)-COLUMN($O$28)+1)),"",$O$26-(WEEKDAY($O$26,1)-(start_day-1))-IF((WEEKDAY($O$26,1)-(start_day-1))<=0,7,0)+(ROW(R30)-ROW($O$28))*7+(COLUMN(R30)-COLUMN($O$28)+1)) -> 46008 | S30: =IF(MONTH($O$26)<>MONTH($O$26-(WEEKDAY($O$26,1)-(start_day-1))-IF((WEEKDAY($O$26,1)-(start_day-1))<=0,7,0)+(ROW(S30)-ROW($O$28))*7+(COLUMN(S30)-COLUMN($O$28)+1)),"",$O$26-(WEEKDAY($O$26,1)-(start_day-1))-IF((WEEKDAY($O$26,1)-(start_day-1))<=0,7,0)+(ROW(S30)-ROW($O$28))*7+(COLUMN(S30)-COLUMN($O$28)+1)) -> 46009 | T30: =IF(MONTH($O$26)<>MONTH($O$26-(WEEKDAY($O$26,1)-(start_day-1))-IF((WEEKDAY($O$26,1)-(start_day-1))<=0,7,0)+(ROW(T30)-ROW($O$28))*7+(COLUMN(T30)-COLUMN($O$28)+1)),"",$O$26-(WEEKDAY($O$26,1)-(start_day-1))-IF((WEEKDAY($O$26,1)-(start_day-1))<=0,7,0)+(ROW(T30)-ROW($O$28))*7+(COLUMN(T30)-COLUMN($O$28)+1)) -> 46010 | U30: =IF(MONTH($O$26)<>MONTH($O$26-(WEEKDAY($O$26,1)-(start_day-1))-IF((WEEKDAY($O$26,1)-(start_day-1))<=0,7,0)+(ROW(U30)-ROW($O$28))*7+(COLUMN(U30)-COLUMN($O$28)+1)),"",$O$26-(WEEKDAY($O$26,1)-(start_day-1))-IF((WEEKDAY($O$26,1)-(start_day-1))<=0,7,0)+(ROW(U30)-ROW($O$28))*7+(COLUMN(U30)-COLUMN($O$28)+1)) -> 46011 | X30: =IF(MONTH($X$26)<>MONTH($X$26-(WEEKDAY($X$26,1)-(start_day-1))-IF((WEEKDAY($X$26,1)-(start_day-1))<=0,7,0)+(ROW(X30)-ROW($X$28))*7+(COLUMN(X30)-COLUMN($X$28)+1)),"",$X$26-(WEEKDAY($X$26,1)-(start_day-1))-IF((WEEKDAY($X$26,1)-(start_day-1))<=0,7,0)+(ROW(X30)-ROW($X$28))*7+(COLUMN(X30)-COLUMN($X$28)+1)) -> 46068 | Y30: =IF(MONTH($X$26)<>MONTH($X$26-(WEEKDAY($X$26,1)-(start_day-1))-IF((WEEKDAY($X$26,1)-(start_day-1))<=0,7,0)+(ROW(Y30)-ROW($X$28))*7+(COLUMN(Y30)-COLUMN($X$28)+1)),"",$X$26-(WEEKDAY($X$26,1)-(start_day-1))-IF((WEEKDAY($X$26,1)-(start_day-1))<=0,7,0)+(ROW(Y30)-ROW($X$28))*7+(COLUMN(Y30)-COLUMN($X$28)+1)) -> 46069 | Z30: =IF(MONTH($X$26)<>MONTH($X$26-(WEEKDAY($X$26,1)-(start_day-1))-IF((WEEKDAY($X$26,1)-(start_day-1))<=0,7,0)+(ROW(Z30)-ROW($X$28))*7+(COLUMN(Z30)-COLUMN($X$28)+1)),"",$X$26-(WEEKDAY($X$26,1)-(start_day-1))-IF((WEEKDAY($X$26,1)-(start_day-1))<=0,7,0)+(ROW(Z30)-ROW($X$28))*7+(COLUMN(Z30)-COLUMN($X$28)+1)) -> 46070 | AA30: =IF(MONTH($X$26)<>MONTH($X$26-(WEEKDAY($X$26,1)-(start_day-1))-IF((WEEKDAY($X$26,1)-(start_day-1))<=0,7,0)+(ROW(AA30)-ROW($X$28))*7+(COLUMN(AA30)-COLUMN($X$28)+1)),"",$X$26-(WEEKDAY($X$26,1)-(start_day-1))-IF((WEEKDAY($X$26,1)-(start_day-1))<=0,7,0)+(ROW(AA30)-ROW($X$28))*7+(COLUMN(AA30)-COLUMN($X$28)+1)) -> 46071 | AB30: =IF(MONTH($X$26)<>MONTH($X$26-(WEEKDAY($X$26,1)-(start_day-1))-IF((WEEKDAY($X$26,1)-(start_day-1))<=0,7,0)+(ROW(AB30)-ROW($X$28))*7+(COLUMN(AB30)-COLUMN($X$28)+1)),"",$X$26-(WEEKDAY($X$26,1)-(start_day-1))-IF((WEEKDAY($X$26,1)-(start_day-1))<=0,7,0)+(ROW(AB30)-ROW($X$28))*7+(COLUMN(AB30)-COLUMN($X$28)+1)) -> 46072 | AC30: =IF(MONTH($X$26)<>MONTH($X$26-(WEEKDAY($X$26,1)-(start_day-1))-IF((WEEKDAY($X$26,1)-(start_day-1))<=0,7,0)+(ROW(AC30)-ROW($X$28))*7+(COLUMN(AC30)-COLUMN($X$28)+1)),"",$X$26-(WEEKDAY($X$26,1)-(start_day-1))-IF((WEEKDAY($X$26,1)-(start_day-1))<=0,7,0)+(ROW(AC30)-ROW($X$28))*7+(COLUMN(AC30)-COLUMN($X$28)+1)) -> 46073 | AD30: =IF(MONTH($X$26)<>MONTH($X$26-(WEEKDAY($X$26,1)-(start_day-1))-IF((WEEKDAY($X$26,1)-(start_day-1))<=0,7,0)+(ROW(AD30)-ROW($X$28))*7+(COLUMN(AD30)-COLUMN($X$28)+1)),"",$X$26-(WEEKDAY($X$26,1)-(start_day-1))-IF((WEEKDAY($X$26,1)-(start_day-1))<=0,7,0)+(ROW(AD30)-ROW($X$28))*7+(COLUMN(AD30)-COLUMN($X$28)+1)) -> 46074
O31: =IF(MONTH($O$26)<>MONTH($O$26-(WEEKDAY($O$26,1)-(start_day-1))-IF((WEEKDAY($O$26,1)-(start_day-1))<=0,7,0)+(ROW(O31)-ROW($O$28))*7+(COLUMN(O31)-COLUMN($O$28)+1)),"",$O$26-(WEEKDAY($O$26,1)-(start_day-1))-IF((WEEKDAY($O$26,1)-(start_day-1))<=0,7,0)+(ROW(O31)-ROW($O$28))*7+(COLUMN(O31)-COLUMN($O$28)+1)) -> 46012 | P31: =IF(MONTH($O$26)<>MONTH($O$26-(WEEKDAY($O$26,1)-(start_day-1))-IF((WEEKDAY($O$26,1)-(start_day-1))<=0,7,0)+(ROW(P31)-ROW($O$28))*7+(COLUMN(P31)-COLUMN($O$28)+1)),"",$O$26-(WEEKDAY($O$26,1)-(start_day-1))-IF((WEEKDAY($O$26,1)-(start_day-1))<=0,7,0)+(ROW(P31)-ROW($O$28))*7+(COLUMN(P31)-COLUMN($O$28)+1)) -> 46013 | Q31: =IF(MONTH($O$26)<>MONTH($O$26-(WEEKDAY($O$26,1)-(start_day-1))-IF((WEEKDAY($O$26,1)-(start_day-1))<=0,7,0)+(ROW(Q31)-ROW($O$28))*7+(COLUMN(Q31)-COLUMN($O$28)+1)),"",$O$26-(WEEKDAY($O$26,1)-(start_day-1))-IF((WEEKDAY($O$26,1)-(start_day-1))<=0,7,0)+(ROW(Q31)-ROW($O$28))*7+(COLUMN(Q31)-COLUMN($O$28)+1)) -> 46014 | R31: =IF(MONTH($O$26)<>MONTH($O$26-(WEEKDAY($O$26,1)-(start_day-1))-IF((WEEKDAY($O$26,1)-(start_day-1))<=0,7,0)+(ROW(R31)-ROW($O$28))*7+(COLUMN(R31)-COLUMN($O$28)+1)),"",$O$26-(WEEKDAY($O$26,1)-(start_day-1))-IF((WEEKDAY($O$26,1)-(start_day-1))<=0,7,0)+(ROW(R31)-ROW($O$28))*7+(COLUMN(R31)-COLUMN($O$28)+1)) -> 46015 | S31: =IF(MONTH($O$26)<>MONTH($O$26-(WEEKDAY($O$26,1)-(start_day-1))-IF((WEEKDAY($O$26,1)-(start_day-1))<=0,7,0)+(ROW(S31)-ROW($O$28))*7+(COLUMN(S31)-COLUMN($O$28)+1)),"",$O$26-(WEEKDAY($O$26,1)-(start_day-1))-IF((WEEKDAY($O$26,1)-(start_day-1))<=0,7,0)+(ROW(S31)-ROW($O$28))*7+(COLUMN(S31)-COLUMN($O$28)+1)) -> 46016 | T31: =IF(MONTH($O$26)<>MONTH($O$26-(WEEKDAY($O$26,1)-(start_day-1))-IF((WEEKDAY($O$26,1)-(start_day-1))<=0,7,0)+(ROW(T31)-ROW($O$28))*7+(COLUMN(T31)-COLUMN($O$28)+1)),"",$O$26-(WEEKDAY($O$26,1)-(start_day-1))-IF((WEEKDAY($O$26,1)-(start_day-1))<=0,7,0)+(ROW(T31)-ROW($O$28))*7+(COLUMN(T31)-COLUMN($O$28)+1)) -> 46017 | U31: =IF(MONTH($O$26)<>MONTH($O$26-(WEEKDAY($O$26,1)-(start_day-1))-IF((WEEKDAY($O$26,1)-(start_day-1))<=0,7,0)+(ROW(U31)-ROW($O$28))*7+(COLUMN(U31)-COLUMN($O$28)+1)),"",$O$26-(WEEKDAY($O$26,1)-(start_day-1))-IF((WEEKDAY($O$26,1)-(start_day-1))<=0,7,0)+(ROW(U31)-ROW($O$28))*7+(COLUMN(U31)-COLUMN($O$28)+1)) -> 46018 | X31: =IF(MONTH($X$26)<>MONTH($X$26-(WEEKDAY($X$26,1)-(start_day-1))-IF((WEEKDAY($X$26,1)-(start_day-1))<=0,7,0)+(ROW(X31)-ROW($X$28))*7+(COLUMN(X31)-COLUMN($X$28)+1)),"",$X$26-(WEEKDAY($X$26,1)-(start_day-1))-IF((WEEKDAY($X$26,1)-(start_day-1))<=0,7,0)+(ROW(X31)-ROW($X$28))*7+(COLUMN(X31)-COLUMN($X$28)+1)) -> 46075 | Y31: =IF(MONTH($X$26)<>MONTH($X$26-(WEEKDAY($X$26,1)-(start_day-1))-IF((WEEKDAY($X$26,1)-(start_day-1))<=0,7,0)+(ROW(Y31)-ROW($X$28))*7+(COLUMN(Y31)-COLUMN($X$28)+1)),"",$X$26-(WEEKDAY($X$26,1)-(start_day-1))-IF((WEEKDAY($X$26,1)-(start_day-1))<=0,7,0)+(ROW(Y31)-ROW($X$28))*7+(COLUMN(Y31)-COLUMN($X$28)+1)) -> 46076 | Z31: =IF(MONTH($X$26)<>MONTH($X$26-(WEEKDAY($X$26,1)-(start_day-1))-IF((WEEKDAY($X$26,1)-(start_day-1))<=0,7,0)+(ROW(Z31)-ROW($X$28))*7+(COLUMN(Z31)-COLUMN($X$28)+1)),"",$X$26-(WEEKDAY($X$26,1)-(start_day-1))-IF((WEEKDAY($X$26,1)-(start_day-1))<=0,7,0)+(ROW(Z31)-ROW($X$28))*7+(COLUMN(Z31)-COLUMN($X$28)+1)) -> 46077 | AA31: =IF(MONTH($X$26)<>MONTH($X$26-(WEEKDAY($X$26,1)-(start_day-1))-IF((WEEKDAY($X$26,1)-(start_day-1))<=0,7,0)+(ROW(AA31)-ROW($X$28))*7+(COLUMN(AA31)-COLUMN($X$28)+1)),"",$X$26-(WEEKDAY($X$26,1)-(start_day-1))-IF((WEEKDAY($X$26,1)-(start_day-1))<=0,7,0)+(ROW(AA31)-ROW($X$28))*7+(COLUMN(AA31)-COLUMN($X$28)+1)) -> 46078 | AB31: =IF(MONTH($X$26)<>MONTH($X$26-(WEEKDAY($X$26,1)-(start_day-1))-IF((WEEKDAY($X$26,1)-(start_day-1))<=0,7,0)+(ROW(AB31)-ROW($X$28))*7+(COLUMN(AB31)-COLUMN($X$28)+1)),"",$X$26-(WEEKDAY($X$26,1)-(start_day-1))-IF((WEEKDAY($X$26,1)-(start_day-1))<=0,7,0)+(ROW(AB31)-ROW($X$28))*7+(COLUMN(AB31)-COLUMN($X$28)+1)) -> 46079 | AC31: =IF(MONTH($X$26)<>MONTH($X$26-(WEEKDAY($X$26,1)-(start_day-1))-IF((WEEKDAY($X$26,1)-(start_day-1))<=0,7,0)+(ROW(AC31)-ROW($X$28))*7+(COLUMN(AC31)-COLUMN($X$28)+1)),"",$X$26-(WEEKDAY($X$26,1)-(start_day-1))-IF((WEEKDAY($X$26,1)-(start_day-1))<=0,7,0)+(ROW(AC31)-ROW($X$28))*7+(COLUMN(AC31)-COLUMN($X$28)+1)) -> 46080 | AD31: =IF(MONTH($X$26)<>MONTH($X$26-(WEEKDAY($X$26,1)-(start_day-1))-IF((WEEKDAY($X$26,1)-(start_day-1))<=0,7,0)+(ROW(AD31)-ROW($X$28))*7+(COLUMN(AD31)-COLUMN($X$28)+1)),"",$X$26-(WEEKDAY($X$26,1)-(start_day-1))-IF((WEEKDAY($X$26,1)-(start_day-1))<=0,7,0)+(ROW(AD31)-ROW($X$28))*7+(COLUMN(AD31)-COLUMN($X$28)+1)) -> 46081
O32: =IF(MONTH($O$26)<>MONTH($O$26-(WEEKDAY($O$26,1)-(start_day-1))-IF((WEEKDAY($O$26,1)-(start_day-1))<=0,7,0)+(ROW(O32)-ROW($O$28))*7+(COLUMN(O32)-COLUMN($O$28)+1)),"",$O$26-(WEEKDAY($O$26,1)-(start_day-1))-IF((WEEKDAY($O$26,1)-(start_day-1))<=0,7,0)+(ROW(O32)-ROW($O$28))*7+(COLUMN(O32)-COLUMN($O$28)+1)) -> 46019 | P32: =IF(MONTH($O$26)<>MONTH($O$26-(WEEKDAY($O$26,1)-(start_day-1))-IF((WEEKDAY($O$26,1)-(start_day-1))<=0,7,0)+(ROW(P32)-ROW($O$28))*7+(COLUMN(P32)-COLUMN($O$28)+1)),"",$O$26-(WEEKDAY($O$26,1)-(start_day-1))-IF((WEEKDAY($O$26,1)-(start_day-1))<=0,7,0)+(ROW(P32)-ROW($O$28))*7+(COLUMN(P32)-COLUMN($O$28)+1)) -> 46020 | Q32: =IF(MONTH($O$26)<>MONTH($O$26-(WEEKDAY($O$26,1)-(start_day-1))-IF((WEEKDAY($O$26,1)-(start_day-1))<=0,7,0)+(ROW(Q32)-ROW($O$28))*7+(COLUMN(Q32)-COLUMN($O$28)+1)),"",$O$26-(WEEKDAY($O$26,1)-(start_day-1))-IF((WEEKDAY($O$26,1)-(start_day-1))<=0,7,0)+(ROW(Q32)-ROW($O$28))*7+(COLUMN(Q32)-COLUMN($O$28)+1)) -> 46021 | R32: =IF(MONTH($O$26)<>MONTH($O$26-(WEEKDAY($O$26,1)-(start_day-1))-IF((WEEKDAY($O$26,1)-(start_day-1))<=0,7,0)+(ROW(R32)-ROW($O$28))*7+(COLUMN(R32)-COLUMN($O$28)+1)),"",$O$26-(WEEKDAY($O$26,1)-(start_day-1))-IF((WEEKDAY($O$26,1)-(start_day-1))<=0,7,0)+(ROW(R32)-ROW($O$28))*7+(COLUMN(R32)-COLUMN($O$28)+1)) -> 46022 | S32: =IF(MONTH($O$26)<>MONTH($O$26-(WEEKDAY($O$26,1)-(start_day-1))-IF((WEEKDAY($O$26,1)-(start_day-1))<=0,7,0)+(ROW(S32)-ROW($O$28))*7+(COLUMN(S32)-COLUMN($O$28)+1)),"",$O$26-(WEEKDAY($O$26,1)-(start_day-1))-IF((WEEKDAY($O$26,1)-(start_day-1))<=0,7,0)+(ROW(S32)-ROW($O$28))*7+(COLUMN(S32)-COLUMN($O$28)+1)) | T32: =IF(MONTH($O$26)<>MONTH($O$26-(WEEKDAY($O$26,1)-(start_day-1))-IF((WEEKDAY($O$26,1)-(start_day-1))<=0,7,0)+(ROW(T32)-ROW($O$28))*7+(COLUMN(T32)-COLUMN($O$28)+1)),"",$O$26-(WEEKDAY($O$26,1)-(start_day-1))-IF((WEEKDAY($O$26,1)-(start_day-1))<=0,7,0)+(ROW(T32)-ROW($O$28))*7+(COLUMN(T32)-COLUMN($O$28)+1)) | U32: =IF(MONTH($O$26)<>MONTH($O$26-(WEEKDAY($O$26,1)-(start_day-1))-IF((WEEKDAY($O$26,1)-(start_day-1))<=0,7,0)+(ROW(U32)-ROW($O$28))*7+(COLUMN(U32)-COLUMN($O$28)+1)),"",$O$26-(WEEKDAY($O$26,1)-(start_day-1))-IF((WEEKDAY($O$26,1)-(start_day-1))<=0,7,0)+(ROW(U32)-ROW($O$28))*7+(COLUMN(U32)-COLUMN($O$28)+1)) | X32: =IF(MONTH($X$26)<>MONTH($X$26-(WEEKDAY($X$26,1)-(start_day-1))-IF((WEEKDAY($X$26,1)-(start_day-1))<=0,7,0)+(ROW(X32)-ROW($X$28))*7+(COLUMN(X32)-COLUMN($X$28)+1)),"",$X$26-(WEEKDAY($X$26,1)-(start_day-1))-IF((WEEKDAY($X$26,1)-(start_day-1))<=0,7,0)+(ROW(X32)-ROW($X$28))*7+(COLUMN(X32)-COLUMN($X$28)+1)) | Y32: =IF(MONTH($X$26)<>MONTH($X$26-(WEEKDAY($X$26,1)-(start_day-1))-IF((WEEKDAY($X$26,1)-(start_day-1))<=0,7,0)+(ROW(Y32)-ROW($X$28))*7+(COLUMN(Y32)-COLUMN($X$28)+1)),"",$X$26-(WEEKDAY($X$26,1)-(start_day-1))-IF((WEEKDAY($X$26,1)-(start_day-1))<=0,7,0)+(ROW(Y32)-ROW($X$28))*7+(COLUMN(Y32)-COLUMN($X$28)+1)) | Z32: =IF(MONTH($X$26)<>MONTH($X$26-(WEEKDAY($X$26,1)-(start_day-1))-IF((WEEKDAY($X$26,1)-(start_day-1))<=0,7,0)+(ROW(Z32)-ROW($X$28))*7+(COLUMN(Z32)-COLUMN($X$28)+1)),"",$X$26-(WEEKDAY($X$26,1)-(start_day-1))-IF((WEEKDAY($X$26,1)-(start_day-1))<=0,7,0)+(ROW(Z32)-ROW($X$28))*7+(COLUMN(Z32)-COLUMN($X$28)+1)) | AA32: =IF(MONTH($X$26)<>MONTH($X$26-(WEEKDAY($X$26,1)-(start_day-1))-IF((WEEKDAY($X$26,1)-(start_day-1))<=0,7,0)+(ROW(AA32)-ROW($X$28))*7+(COLUMN(AA32)-COLUMN($X$28)+1)),"",$X$26-(WEEKDAY($X$26,1)-(start_day-1))-IF((WEEKDAY($X$26,1)-(start_day-1))<=0,7,0)+(ROW(AA32)-ROW($X$28))*7+(COLUMN(AA32)-COLUMN($X$28)+1)) | AB32: =IF(MONTH($X$26)<>MONTH($X$26-(WEEKDAY($X$26,1)-(start_day-1))-IF((WEEKDAY($X$26,1)-(start_day-1))<=0,7,0)+(ROW(AB32)-ROW($X$28))*7+(COLUMN(AB32)-COLUMN($X$28)+1)),"",$X$26-(WEEKDAY($X$26,1)-(start_day-1))-IF((WEEKDAY($X$26,1)-(start_day-1))<=0,7,0)+(ROW(AB32)-ROW($X$28))*7+(COLUMN(AB32)-COLUMN($X$28)+1)) | AC32: =IF(MONTH($X$26)<>MONTH($X$26-(WEEKDAY($X$26,1)-(start_day-1))-IF((WEEKDAY($X$26,1)-(start_day-1))<=0,7,0)+(ROW(AC32)-ROW($X$28))*7+(COLUMN(AC32)-COLUMN($X$28)+1)),"",$X$26-(WEEKDAY($X$26,1)-(start_day-1))-IF((WEEKDAY($X$26,1)-(start_day-1))<=0,7,0)+(ROW(AC32)-ROW($X$28))*7+(COLUMN(AC32)-COLUMN($X$28)+1)) | AD32: =IF(MONTH($X$26)<>MONTH($X$26-(WEEKDAY($X$26,1)-(start_day-1))-IF((WEEKDAY($X$26,1)-(start_day-1))<=0,7,0)+(ROW(AD32)-ROW($X$28))*7+(COLUMN(AD32)-COLUMN($X$28)+1)),"",$X$26-(WEEKDAY($X$26,1)-(start_day-1))-IF((WEEKDAY($X$26,1)-(start_day-1))<=0,7,0)+(ROW(AD32)-ROW($X$28))*7+(COLUMN(AD32)-COLUMN($X$28)+1))
O33: =IF(MONTH($O$26)<>MONTH($O$26-(WEEKDAY($O$26,1)-(start_day-1))-IF((WEEKDAY($O$26,1)-(start_day-1))<=0,7,0)+(ROW(O33)-ROW($O$28))*7+(COLUMN(O33)-COLUMN($O$28)+1)),"",$O$26-(WEEKDAY($O$26,1)-(start_day-1))-IF((WEEKDAY($O$26,1)-(start_day-1))<=0,7,0)+(ROW(O33)-ROW($O$28))*7+(COLUMN(O33)-COLUMN($O$28)+1)) | P33: =IF(MONTH($O$26)<>MONTH($O$26-(WEEKDAY($O$26,1)-(start_day-1))-IF((WEEKDAY($O$26,1)-(start_day-1))<=0,7,0)+(ROW(P33)-ROW($O$28))*7+(COLUMN(P33)-COLUMN($O$28)+1)),"",$O$26-(WEEKDAY($O$26,1)-(start_day-1))-IF((WEEKDAY($O$26,1)-(start_day-1))<=0,7,0)+(ROW(P33)-ROW($O$28))*7+(COLUMN(P33)-COLUMN($O$28)+1)) | Q33: =IF(MONTH($O$26)<>MONTH($O$26-(WEEKDAY($O$26,1)-(start_day-1))-IF((WEEKDAY($O$26,1)-(start_day-1))<=0,7,0)+(ROW(Q33)-ROW($O$28))*7+(COLUMN(Q33)-COLUMN($O$28)+1)),"",$O$26-(WEEKDAY($O$26,1)-(start_day-1))-IF((WEEKDAY($O$26,1)-(start_day-1))<=0,7,0)+(ROW(Q33)-ROW($O$28))*7+(COLUMN(Q33)-COLUMN($O$28)+1)) | R33: =IF(MONTH($O$26)<>MONTH($O$26-(WEEKDAY($O$26,1)-(start_day-1))-IF((WEEKDAY($O$26,1)-(start_day-1))<=0,7,0)+(ROW(R33)-ROW($O$28))*7+(COLUMN(R33)-COLUMN($O$28)+1)),"",$O$26-(WEEKDAY($O$26,1)-(start_day-1))-IF((WEEKDAY($O$26,1)-(start_day-1))<=0,7,0)+(ROW(R33)-ROW($O$28))*7+(COLUMN(R33)-COLUMN($O$28)+1)) | S33: =IF(MONTH($O$26)<>MONTH($O$26-(WEEKDAY($O$26,1)-(start_day-1))-IF((WEEKDAY($O$26,1)-(start_day-1))<=0,7,0)+(ROW(S33)-ROW($O$28))*7+(COLUMN(S33)-COLUMN($O$28)+1)),"",$O$26-(WEEKDAY($O$26,1)-(start_day-1))-IF((WEEKDAY($O$26,1)-(start_day-1))<=0,7,0)+(ROW(S33)-ROW($O$28))*7+(COLUMN(S33)-COLUMN($O$28)+1)) | T33: =IF(MONTH($O$26)<>MONTH($O$26-(WEEKDAY($O$26,1)-(start_day-1))-IF((WEEKDAY($O$26,1)-(start_day-1))<=0,7,0)+(ROW(T33)-ROW($O$28))*7+(COLUMN(T33)-COLUMN($O$28)+1)),"",$O$26-(WEEKDAY($O$26,1)-(start_day-1))-IF((WEEKDAY($O$26,1)-(start_day-1))<=0,7,0)+(ROW(T33)-ROW($O$28))*7+(COLUMN(T33)-COLUMN($O$28)+1)) | U33: =IF(MONTH($O$26)<>MONTH($O$26-(WEEKDAY($O$26,1)-(start_day-1))-IF((WEEKDAY($O$26,1)-(start_day-1))<=0,7,0)+(ROW(U33)-ROW($O$28))*7+(COLUMN(U33)-COLUMN($O$28)+1)),"",$O$26-(WEEKDAY($O$26,1)-(start_day-1))-IF((WEEKDAY($O$26,1)-(start_day-1))<=0,7,0)+(ROW(U33)-ROW($O$28))*7+(COLUMN(U33)-COLUMN($O$28)+1)) | X33: =IF(MONTH($X$26)<>MONTH($X$26-(WEEKDAY($X$26,1)-(start_day-1))-IF((WEEKDAY($X$26,1)-(start_day-1))<=0,7,0)+(ROW(X33)-ROW($X$28))*7+(COLUMN(X33)-COLUMN($X$28)+1)),"",$X$26-(WEEKDAY($X$26,1)-(start_day-1))-IF((WEEKDAY($X$26,1)-(start_day-1))<=0,7,0)+(ROW(X33)-ROW($X$28))*7+(COLUMN(X33)-COLUMN($X$28)+1)) | Y33: =IF(MONTH($X$26)<>MONTH($X$26-(WEEKDAY($X$26,1)-(start_day-1))-IF((WEEKDAY($X$26,1)-(start_day-1))<=0,7,0)+(ROW(Y33)-ROW($X$28))*7+(COLUMN(Y33)-COLUMN($X$28)+1)),"",$X$26-(WEEKDAY($X$26,1)-(start_day-1))-IF((WEEKDAY($X$26,1)-(start_day-1))<=0,7,0)+(ROW(Y33)-ROW($X$28))*7+(COLUMN(Y33)-COLUMN($X$28)+1)) | Z33: =IF(MONTH($X$26)<>MONTH($X$26-(WEEKDAY($X$26,1)-(start_day-1))-IF((WEEKDAY($X$26,1)-(start_day-1))<=0,7,0)+(ROW(Z33)-ROW($X$28))*7+(COLUMN(Z33)-COLUMN($X$28)+1)),"",$X$26-(WEEKDAY($X$26,1)-(start_day-1))-IF((WEEKDAY($X$26,1)-(start_day-1))<=0,7,0)+(ROW(Z33)-ROW($X$28))*7+(COLUMN(Z33)-COLUMN($X$28)+1)) | AA33: =IF(MONTH($X$26)<>MONTH($X$26-(WEEKDAY($X$26,1)-(start_day-1))-IF((WEEKDAY($X$26,1)-(start_day-1))<=0,7,0)+(ROW(AA33)-ROW($X$28))*7+(COLUMN(AA33)-COLUMN($X$28)+1)),"",$X$26-(WEEKDAY($X$26,1)-(start_day-1))-IF((WEEKDAY($X$26,1)-(start_day-1))<=0,7,0)+(ROW(AA33)-ROW($X$28))*7+(COLUMN(AA33)-COLUMN($X$28)+1)) | AB33: =IF(MONTH($X$26)<>MONTH($X$26-(WEEKDAY($X$26,1)-(start_day-1))-IF((WEEKDAY($X$26,1)-(start_day-1))<=0,7,0)+(ROW(AB33)-ROW($X$28))*7+(COLUMN(AB33)-COLUMN($X$28)+1)),"",$X$26-(WEEKDAY($X$26,1)-(start_day-1))-IF((WEEKDAY($X$26,1)-(start_day-1))<=0,7,0)+(ROW(AB33)-ROW($X$28))*7+(COLUMN(AB33)-COLUMN($X$28)+1)) | AC33: =IF(MONTH($X$26)<>MONTH($X$26-(WEEKDAY($X$26,1)-(start_day-1))-IF((WEEKDAY($X$26,1)-(start_day-1))<=0,7,0)+(ROW(AC33)-ROW($X$28))*7+(COLUMN(AC33)-COLUMN($X$28)+1)),"",$X$26-(WEEKDAY($X$26,1)-(start_day-1))-IF((WEEKDAY($X$26,1)-(start_day-1))<=0,7,0)+(ROW(AC33)-ROW($X$28))*7+(COLUMN(AC33)-COLUMN($X$28)+1)) | AD33: =IF(MONTH($X$26)<>MONTH($X$26-(WEEKDAY($X$26,1)-(start_day-1))-IF((WEEKDAY($X$26,1)-(start_day-1))<=0,7,0)+(ROW(AD33)-ROW($X$28))*7+(COLUMN(AD33)-COLUMN($X$28)+1)),"",$X$26-(WEEKDAY($X$26,1)-(start_day-1))-IF((WEEKDAY($X$26,1)-(start_day-1))<=0,7,0)+(ROW(AD33)-ROW($X$28))*7+(COLUMN(AD33)-COLUMN($X$28)+1))

Sheet February
B2: =DATE(About!P8,About!P10+1,1) -> 46054
C3: =DATE(About!P8,About!P10+1,1) -> 46054
C5: =C6 -> 46054 | E5: =E6 -> 46055 | G5: =G6 -> 46056 | I5: =I6 -> 46057 | K5: =K6 -> 46058 | O5: =O6 -> 46059 | W5: =W6 -> 46060
C6: =$C$3-(WEEKDAY($C$3,1)-(start_day-1))-IF((WEEKDAY($C$3,1)-(start_day-1))<=0,7,0)+1 -> 46054 | E6: =C6+1 -> 46055 | G6: =E6+1 -> 46056 | I6: =G6+1 -> 46057 | K6: =I6+1 -> 46058 | O6: =K6+1 -> 46059 | W6: =O6+1 -> 46060
C8: =W6+1 -> 46061
E9: =C8+1 -> 46062 | G9: =E9+1 -> 46063 | I9: =G9+1 -> 46064 | K9: =I9+1 -> 46065 | O9: =K9+1 -> 46066 | W9: =O9+1 -> 46067
C11: =W9+1 -> 46068
E12: =C11+1 -> 46069 | G12: =E12+1 -> 46070 | I12: =G12+1 -> 46071 | K12: =I12+1 -> 46072 | O12: =K12+1 -> 46073 | W12: =O12+1 -> 46074
C14: =W12+1 -> 46075
E15: =C14+1 -> 46076 | G15: =E15+1 -> 46077 | I15: =G15+1 -> 46078 | K15: =I15+1 -> 46079 | O15: =K15+1 -> 46080 | W15: =O15+1 -> 46081
C17: =W15+1 -> 46082
E18: =C17+1 -> 46083 | G18: =E18+1 -> 46084 | I18: =G18+1 -> 46085 | K18: =I18+1 -> 46086 | O18: =K18+1 -> 46087 | W18: =O18+1 -> 46088
C20: =W18+1 -> 46089
E21: =C20+1 -> 46090 | G21: =E21+1 -> 46091 | I21: =G21+1 -> 46092 | K21: =I21+1 -> 46093 | O21: =K21+1 -> 46094 | W21: =O21+1 -> 46095
C26: Notes | O26: =DATE(YEAR(C3),MONTH(C3)-1,1) -> 46023 | X26: =DATE(YEAR(C3),MONTH(C3)+1,1) -> 46082
O27: {=INDEX({"S";"M";"T";"W";"T";"F";"S"},1+MOD(start_day+1-2,7))} -> S | P27: {=INDEX({"S";"M";"T";"W";"T";"F";"S"},1+MOD(start_day+2-2,7))} -> M | Q27: {=INDEX({"S";"M";"T";"W";"T";"F";"S"},1+MOD(start_day+3-2,7))} -> T | R27: {=INDEX({"S";"M";"T";"W";"T";"F";"S"},1+MOD(start_day+4-2,7))} -> W | S27: {=INDEX({"S";"M";"T";"W";"T";"F";"S"},1+MOD(start_day+5-2,7))} -> T | T27: {=INDEX({"S";"M";"T";"W";"T";"F";"S"},1+MOD(start_day+6-2,7))} -> F | U27: {=INDEX({"S";"M";"T";"W";"T";"F";"S"},1+MOD(start_day+7-2,7))} -> S | X27: {=INDEX({"S";"M";"T";"W";"T";"F";"S"},1+MOD(start_day+1-2,7))} -> S | Y27: {=INDEX({"S";"M";"T";"W";"T";"F";"S"},1+MOD(start_day+2-2,7))} -> M | Z27: {=INDEX({"S";"M";"T";"W";"T";"F";"S"},1+MOD(start_day+3-2,7))} -> T | AA27: {=INDEX({"S";"M";"T";"W";"T";"F";"S"},1+MOD(start_day+4-2,7))} -> W | AB27: {=INDEX({"S";"M";"T";"W";"T";"F";"S"},1+MOD(start_day+5-2,7))} -> T | AC27: {=INDEX({"S";"M";"T";"W";"T";"F";"S"},1+MOD(start_day+6-2,7))} -> F | AD27: {=INDEX({"S";"M";"T";"W";"T";"F";"S"},1+MOD(start_day+7-2,7))} -> S
O28: =IF(MONTH($O$26)<>MONTH($O$26-(WEEKDAY($O$26,1)-(start_day-1))-IF((WEEKDAY($O$26,1)-(start_day-1))<=0,7,0)+(ROW(O28)-ROW($O$28))*7+(COLUMN(O28)-COLUMN($O$28)+1)),"",$O$26-(WEEKDAY($O$26,1)-(start_day-1))-IF((WEEKDAY($O$26,1)-(start_day-1))<=0,7,0)+(ROW(O28)-ROW($O$28))*7+(COLUMN(O28)-COLUMN($O$28)+1)) | P28: =IF(MONTH($O$26)<>MONTH($O$26-(WEEKDAY($O$26,1)-(start_day-1))-IF((WEEKDAY($O$26,1)-(start_day-1))<=0,7,0)+(ROW(P28)-ROW($O$28))*7+(COLUMN(P28)-COLUMN($O$28)+1)),"",$O$26-(WEEKDAY($O$26,1)-(start_day-1))-IF((WEEKDAY($O$26,1)-(start_day-1))<=0,7,0)+(ROW(P28)-ROW($O$28))*7+(COLUMN(P28)-COLUMN($O$28)+1)) | Q28: =IF(MONTH($O$26)<>MONTH($O$26-(WEEKDAY($O$26,1)-(start_day-1))-IF((WEEKDAY($O$26,1)-(start_day-1))<=0,7,0)+(ROW(Q28)-ROW($O$28))*7+(COLUMN(Q28)-COLUMN($O$28)+1)),"",$O$26-(WEEKDAY($O$26,1)-(start_day-1))-IF((WEEKDAY($O$26,1)-(start_day-1))<=0,7,0)+(ROW(Q28)-ROW($O$28))*7+(COLUMN(Q28)-COLUMN($O$28)+1)) | R28: =IF(MONTH($O$26)<>MONTH($O$26-(WEEKDAY($O$26,1)-(start_day-1))-IF((WEEKDAY($O$26,1)-(start_day-1))<=0,7,0)+(ROW(R28)-ROW($O$28))*7+(COLUMN(R28)-COLUMN($O$28)+1)),"",$O$26-(WEEKDAY($O$26,1)-(start_day-1))-IF((WEEKDAY($O$26,1)-(start_day-1))<=0,7,0)+(ROW(R28)-ROW($O$28))*7+(COLUMN(R28)-COLUMN($O$28)+1)) | S28: =IF(MONTH($O$26)<>MONTH($O$26-(WEEKDAY($O$26,1)-(start_day-1))-IF((WEEKDAY($O$26,1)-(start_day-1))<=0,7,0)+(ROW(S28)-ROW($O$28))*7+(COLUMN(S28)-COLUMN($O$28)+1)),"",$O$26-(WEEKDAY($O$26,1)-(start_day-1))-IF((WEEKDAY($O$26,1)-(start_day-1))<=0,7,0)+(ROW(S28)-ROW($O$28))*7+(COLUMN(S28)-COLUMN($O$28)+1)) -> 46023 | T28: =IF(MONTH($O$26)<>MONTH($O$26-(WEEKDAY($O$26,1)-(start_day-1))-IF((WEEKDAY($O$26,1)-(start_day-1))<=0,7,0)+(ROW(T28)-ROW($O$28))*7+(COLUMN(T28)-COLUMN($O$28)+1)),"",$O$26-(WEEKDAY($O$26,1)-(start_day-1))-IF((WEEKDAY($O$26,1)-(start_day-1))<=0,7,0)+(ROW(T28)-ROW($O$28))*7+(COLUMN(T28)-COLUMN($O$28)+1)) -> 46024 | U28: =IF(MONTH($O$26)<>MONTH($O$26-(WEEKDAY($O$26,1)-(start_day-1))-IF((WEEKDAY($O$26,1)-(start_day-1))<=0,7,0)+(ROW(U28)-ROW($O$28))*7+(COLUMN(U28)-COLUMN($O$28)+1)),"",$O$26-(WEEKDAY($O$26,1)-(start_day-1))-IF((WEEKDAY($O$26,1)-(start_day-1))<=0,7,0)+(ROW(U28)-ROW($O$28))*7+(COLUMN(U28)-COLUMN($O$28)+1)) -> 46025 | X28: =IF(MONTH($X$26)<>MONTH($X$26-(WEEKDAY($X$26,1)-(start_day-1))-IF((WEEKDAY($X$26,1)-(start_day-1))<=0,7,0)+(ROW(X28)-ROW($X$28))*7+(COLUMN(X28)-COLUMN($X$28)+1)),"",$X$26-(WEEKDAY($X$26,1)-(start_day-1))-IF((WEEKDAY($X$26,1)-(start_day-1))<=0,7,0)+(ROW(X28)-ROW($X$28))*7+(COLUMN(X28)-COLUMN($X$28)+1)) -> 46082 | Y28: =IF(MONTH($X$26)<>MONTH($X$26-(WEEKDAY($X$26,1)-(start_day-1))-IF((WEEKDAY($X$26,1)-(start_day-1))<=0,7,0)+(ROW(Y28)-ROW($X$28))*7+(COLUMN(Y28)-COLUMN($X$28)+1)),"",$X$26-(WEEKDAY($X$26,1)-(start_day-1))-IF((WEEKDAY($X$26,1)-(start_day-1))<=0,7,0)+(ROW(Y28)-ROW($X$28))*7+(COLUMN(Y28)-COLUMN($X$28)+1)) -> 46083 | Z28: =IF(MONTH($X$26)<>MONTH($X$26-(WEEKDAY($X$26,1)-(start_day-1))-IF((WEEKDAY($X$26,1)-(start_day-1))<=0,7,0)+(ROW(Z28)-ROW($X$28))*7+(COLUMN(Z28)-COLUMN($X$28)+1)),"",$X$26-(WEEKDAY($X$26,1)-(start_day-1))-IF((WEEKDAY($X$26,1)-(start_day-1))<=0,7,0)+(ROW(Z28)-ROW($X$28))*7+(COLUMN(Z28)-COLUMN($X$28)+1)) -> 46084 | AA28: =IF(MONTH($X$26)<>MONTH($X$26-(WEEKDAY($X$26,1)-(start_day-1))-IF((WEEKDAY($X$26,1)-(start_day-1))<=0,7,0)+(ROW(AA28)-ROW($X$28))*7+(COLUMN(AA28)-COLUMN($X$28)+1)),"",$X$26-(WEEKDAY($X$26,1)-(start_day-1))-IF((WEEKDAY($X$26,1)-(start_day-1))<=0,7,0)+(ROW(AA28)-ROW($X$28))*7+(COLUMN(AA28)-COLUMN($X$28)+1)) -> 46085 | AB28: =IF(MONTH($X$26)<>MONTH($X$26-(WEEKDAY($X$26,1)-(start_day-1))-IF((WEEKDAY($X$26,1)-(start_day-1))<=0,7,0)+(ROW(AB28)-ROW($X$28))*7+(COLUMN(AB28)-COLUMN($X$28)+1)),"",$X$26-(WEEKDAY($X$26,1)-(start_day-1))-IF((WEEKDAY($X$26,1)-(start_day-1))<=0,7,0)+(ROW(AB28)-ROW($X$28))*7+(COLUMN(AB28)-COLUMN($X$28)+1)) -> 46086 | AC28: =IF(MONTH($X$26)<>MONTH($X$26-(WEEKDAY($X$26,1)-(start_day-1))-IF((WEEKDAY($X$26,1)-(start_day-1))<=0,7,0)+(ROW(AC28)-ROW($X$28))*7+(COLUMN(AC28)-COLUMN($X$28)+1)),"",$X$26-(WEEKDAY($X$26,1)-(start_day-1))-IF((WEEKDAY($X$26,1)-(start_day-1))<=0,7,0)+(ROW(AC28)-ROW($X$28))*7+(COLUMN(AC28)-COLUMN($X$28)+1)) -> 46087 | AD28: =IF(MONTH($X$26)<>MONTH($X$26-(WEEKDAY($X$26,1)-(start_day-1))-IF((WEEKDAY($X$26,1)-(start_day-1))<=0,7,0)+(ROW(AD28)-ROW($X$28))*7+(COLUMN(AD28)-COLUMN($X$28)+1)),"",$X$26-(WEEKDAY($X$26,1)-(start_day-1))-IF((WEEKDAY($X$26,1)-(start_day-1))<=0,7,0)+(ROW(AD28)-ROW($X$28))*7+(COLUMN(AD28)-COLUMN($X$28)+1)) -> 46088
O29: =IF(MONTH($O$26)<>MONTH($O$26-(WEEKDAY($O$26,1)-(start_day-1))-IF((WEEKDAY($O$26,1)-(start_day-1))<=0,7,0)+(ROW(O29)-ROW($O$28))*7+(COLUMN(O29)-COLUMN($O$28)+1)),"",$O$26-(WEEKDAY($O$26,1)-(start_day-1))-IF((WEEKDAY($O$26,1)-(start_day-1))<=0,7,0)+(ROW(O29)-ROW($O$28))*7+(COLUMN(O29)-COLUMN($O$28)+1)) -> 46026 | P29: =IF(MONTH($O$26)<>MONTH($O$26-(WEEKDAY($O$26,1)-(start_day-1))-IF((WEEKDAY($O$26,1)-(start_day-1))<=0,7,0)+(ROW(P29)-ROW($O$28))*7+(COLUMN(P29)-COLUMN($O$28)+1)),"",$O$26-(WEEKDAY($O$26,1)-(start_day-1))-IF((WEEKDAY($O$26,1)-(start_day-1))<=0,7,0)+(ROW(P29)-ROW($O$28))*7+(COLUMN(P29)-COLUMN($O$28)+1)) -> 46027 | Q29: =IF(MONTH($O$26)<>MONTH($O$26-(WEEKDAY($O$26,1)-(start_day-1))-IF((WEEKDAY($O$26,1)-(start_day-1))<=0,7,0)+(ROW(Q29)-ROW($O$28))*7+(COLUMN(Q29)-COLUMN($O$28)+1)),"",$O$26-(WEEKDAY($O$26,1)-(start_day-1))-IF((WEEKDAY($O$26,1)-(start_day-1))<=0,7,0)+(ROW(Q29)-ROW($O$28))*7+(COLUMN(Q29)-COLUMN($O$28)+1)) -> 46028 | R29: =IF(MONTH($O$26)<>MONTH($O$26-(WEEKDAY($O$26,1)-(start_day-1))-IF((WEEKDAY($O$26,1)-(start_day-1))<=0,7,0)+(ROW(R29)-ROW($O$28))*7+(COLUMN(R29)-COLUMN($O$28)+1)),"",$O$26-(WEEKDAY($O$26,1)-(start_day-1))-IF((WEEKDAY($O$26,1)-(start_day-1))<=0,7,0)+(ROW(R29)-ROW($O$28))*7+(COLUMN(R29)-COLUMN($O$28)+1)) -> 46029 | S29: =IF(MONTH($O$26)<>MONTH($O$26-(WEEKDAY($O$26,1)-(start_day-1))-IF((WEEKDAY($O$26,1)-(start_day-1))<=0,7,0)+(ROW(S29)-ROW($O$28))*7+(COLUMN(S29)-COLUMN($O$28)+1)),"",$O$26-(WEEKDAY($O$26,1)-(start_day-1))-IF((WEEKDAY($O$26,1)-(start_day-1))<=0,7,0)+(ROW(S29)-ROW($O$28))*7+(COLUMN(S29)-COLUMN($O$28)+1)) -> 46030 | T29: =IF(MONTH($O$26)<>MONTH($O$26-(WEEKDAY($O$26,1)-(start_day-1))-IF((WEEKDAY($O$26,1)-(start_day-1))<=0,7,0)+(ROW(T29)-ROW($O$28))*7+(COLUMN(T29)-COLUMN($O$28)+1)),"",$O$26-(WEEKDAY($O$26,1)-(start_day-1))-IF((WEEKDAY($O$26,1)-(start_day-1))<=0,7,0)+(ROW(T29)-ROW($O$28))*7+(COLUMN(T29)-COLUMN($O$28)+1)) -> 46031 | U29: =IF(MONTH($O$26)<>MONTH($O$26-(WEEKDAY($O$26,1)-(start_day-1))-IF((WEEKDAY($O$26,1)-(start_day-1))<=0,7,0)+(ROW(U29)-ROW($O$28))*7+(COLUMN(U29)-COLUMN($O$28)+1)),"",$O$26-(WEEKDAY($O$26,1)-(start_day-1))-IF((WEEKDAY($O$26,1)-(start_day-1))<=0,7,0)+(ROW(U29)-ROW($O$28))*7+(COLUMN(U29)-COLUMN($O$28)+1)) -> 46032 | X29: =IF(MONTH($X$26)<>MONTH($X$26-(WEEKDAY($X$26,1)-(start_day-1))-IF((WEEKDAY($X$26,1)-(start_day-1))<=0,7,0)+(ROW(X29)-ROW($X$28))*7+(COLUMN(X29)-COLUMN($X$28)+1)),"",$X$26-(WEEKDAY($X$26,1)-(start_day-1))-IF((WEEKDAY($X$26,1)-(start_day-1))<=0,7,0)+(ROW(X29)-ROW($X$28))*7+(COLUMN(X29)-COLUMN($X$28)+1)) -> 46089 | Y29: =IF(MONTH($X$26)<>MONTH($X$26-(WEEKDAY($X$26,1)-(start_day-1))-IF((WEEKDAY($X$26,1)-(start_day-1))<=0,7,0)+(ROW(Y29)-ROW($X$28))*7+(COLUMN(Y29)-COLUMN($X$28)+1)),"",$X$26-(WEEKDAY($X$26,1)-(start_day-1))-IF((WEEKDAY($X$26,1)-(start_day-1))<=0,7,0)+(ROW(Y29)-ROW($X$28))*7+(COLUMN(Y29)-COLUMN($X$28)+1)) -> 46090 | Z29: =IF(MONTH($X$26)<>MONTH($X$26-(WEEKDAY($X$26,1)-(start_day-1))-IF((WEEKDAY($X$26,1)-(start_day-1))<=0,7,0)+(ROW(Z29)-ROW($X$28))*7+(COLUMN(Z29)-COLUMN($X$28)+1)),"",$X$26-(WEEKDAY($X$26,1)-(start_day-1))-IF((WEEKDAY($X$26,1)-(start_day-1))<=0,7,0)+(ROW(Z29)-ROW($X$28))*7+(COLUMN(Z29)-COLUMN($X$28)+1)) -> 46091 | AA29: =IF(MONTH($X$26)<>MONTH($X$26-(WEEKDAY($X$26,1)-(start_day-1))-IF((WEEKDAY($X$26,1)-(start_day-1))<=0,7,0)+(ROW(AA29)-ROW($X$28))*7+(COLUMN(AA29)-COLUMN($X$28)+1)),"",$X$26-(WEEKDAY($X$26,1)-(start_day-1))-IF((WEEKDAY($X$26,1)-(start_day-1))<=0,7,0)+(ROW(AA29)-ROW($X$28))*7+(COLUMN(AA29)-COLUMN($X$28)+1)) -> 46092 | AB29: =IF(MONTH($X$26)<>MONTH($X$26-(WEEKDAY($X$26,1)-(start_day-1))-IF((WEEKDAY($X$26,1)-(start_day-1))<=0,7,0)+(ROW(AB29)-ROW($X$28))*7+(COLUMN(AB29)-COLUMN($X$28)+1)),"",$X$26-(WEEKDAY($X$26,1)-(start_day-1))-IF((WEEKDAY($X$26,1)-(start_day-1))<=0,7,0)+(ROW(AB29)-ROW($X$28))*7+(COLUMN(AB29)-COLUMN($X$28)+1)) -> 46093 | AC29: =IF(MONTH($X$26)<>MONTH($X$26-(WEEKDAY($X$26,1)-(start_day-1))-IF((WEEKDAY($X$26,1)-(start_day-1))<=0,7,0)+(ROW(AC29)-ROW($X$28))*7+(COLUMN(AC29)-COLUMN($X$28)+1)),"",$X$26-(WEEKDAY($X$26,1)-(start_day-1))-IF((WEEKDAY($X$26,1)-(start_day-1))<=0,7,0)+(ROW(AC29)-ROW($X$28))*7+(COLUMN(AC29)-COLUMN($X$28)+1)) -> 46094 | AD29: =IF(MONTH($X$26)<>MONTH($X$26-(WEEKDAY($X$26,1)-(start_day-1))-IF((WEEKDAY($X$26,1)-(start_day-1))<=0,7,0)+(ROW(AD29)-ROW($X$28))*7+(COLUMN(AD29)-COLUMN($X$28)+1)),"",$X$26-(WEEKDAY($X$26,1)-(start_day-1))-IF((WEEKDAY($X$26,1)-(start_day-1))<=0,7,0)+(ROW(AD29)-ROW($X$28))*7+(COLUMN(AD29)-COLUMN($X$28)+1)) -> 46095
O30: =IF(MONTH($O$26)<>MONTH($O$26-(WEEKDAY($O$26,1)-(start_day-1))-IF((WEEKDAY($O$26,1)-(start_day-1))<=0,7,0)+(ROW(O30)-ROW($O$28))*7+(COLUMN(O30)-COLUMN($O$28)+1)),"",$O$26-(WEEKDAY($O$26,1)-(start_day-1))-IF((WEEKDAY($O$26,1)-(start_day-1))<=0,7,0)+(ROW(O30)-ROW($O$28))*7+(COLUMN(O30)-COLUMN($O$28)+1)) -> 46033 | P30: =IF(MONTH($O$26)<>MONTH($O$26-(WEEKDAY($O$26,1)-(start_day-1))-IF((WEEKDAY($O$26,1)-(start_day-1))<=0,7,0)+(ROW(P30)-ROW($O$28))*7+(COLUMN(P30)-COLUMN($O$28)+1)),"",$O$26-(WEEKDAY($O$26,1)-(start_day-1))-IF((WEEKDAY($O$26,1)-(start_day-1))<=0,7,0)+(ROW(P30)-ROW($O$28))*7+(COLUMN(P30)-COLUMN($O$28)+1)) -> 46034 | Q30: =IF(MONTH($O$26)<>MONTH($O$26-(WEEKDAY($O$26,1)-(start_day-1))-IF((WEEKDAY($O$26,1)-(start_day-1))<=0,7,0)+(ROW(Q30)-ROW($O$28))*7+(COLUMN(Q30)-COLUMN($O$28)+1)),"",$O$26-(WEEKDAY($O$26,1)-(start_day-1))-IF((WEEKDAY($O$26,1)-(start_day-1))<=0,7,0)+(ROW(Q30)-ROW($O$28))*7+(COLUMN(Q30)-COLUMN($O$28)+1)) -> 46035 | R30: =IF(MONTH($O$26)<>MONTH($O$26-(WEEKDAY($O$26,1)-(start_day-1))-IF((WEEKDAY($O$26,1)-(start_day-1))<=0,7,0)+(ROW(R30)-ROW($O$28))*7+(COLUMN(R30)-COLUMN($O$28)+1)),"",$O$26-(WEEKDAY($O$26,1)-(start_day-1))-IF((WEEKDAY($O$26,1)-(start_day-1))<=0,7,0)+(ROW(R30)-ROW($O$28))*7+(COLUMN(R30)-COLUMN($O$28)+1)) -> 46036 | S30: =IF(MONTH($O$26)<>MONTH($O$26-(WEEKDAY($O$26,1)-(start_day-1))-IF((WEEKDAY($O$26,1)-(start_day-1))<=0,7,0)+(ROW(S30)-ROW($O$28))*7+(COLUMN(S30)-COLUMN($O$28)+1)),"",$O$26-(WEEKDAY($O$26,1)-(start_day-1))-IF((WEEKDAY($O$26,1)-(start_day-1))<=0,7,0)+(ROW(S30)-ROW($O$28))*7+(COLUMN(S30)-COLUMN($O$28)+1)) -> 46037 | T30: =IF(MONTH($O$26)<>MONTH($O$26-(WEEKDAY($O$26,1)-(start_day-1))-IF((WEEKDAY($O$26,1)-(start_day-1))<=0,7,0)+(ROW(T30)-ROW($O$28))*7+(COLUMN(T30)-COLUMN($O$28)+1)),"",$O$26-(WEEKDAY($O$26,1)-(start_day-1))-IF((WEEKDAY($O$26,1)-(start_day-1))<=0,7,0)+(ROW(T30)-ROW($O$28))*7+(COLUMN(T30)-COLUMN($O$28)+1)) -> 46038 | U30: =IF(MONTH($O$26)<>MONTH($O$26-(WEEKDAY($O$26,1)-(start_day-1))-IF((WEEKDAY($O$26,1)-(start_day-1))<=0,7,0)+(ROW(U30)-ROW($O$28))*7+(COLUMN(U30)-COLUMN($O$28)+1)),"",$O$26-(WEEKDAY($O$26,1)-(start_day-1))-IF((WEEKDAY($O$26,1)-(start_day-1))<=0,7,0)+(ROW(U30)-ROW($O$28))*7+(COLUMN(U30)-COLUMN($O$28)+1)) -> 46039 | X30: =IF(MONTH($X$26)<>MONTH($X$26-(WEEKDAY($X$26,1)-(start_day-1))-IF((WEEKDAY($X$26,1)-(start_day-1))<=0,7,0)+(ROW(X30)-ROW($X$28))*7+(COLUMN(X30)-COLUMN($X$28)+1)),"",$X$26-(WEEKDAY($X$26,1)-(start_day-1))-IF((WEEKDAY($X$26,1)-(start_day-1))<=0,7,0)+(ROW(X30)-ROW($X$28))*7+(COLUMN(X30)-COLUMN($X$28)+1)) -> 46096 | Y30: =IF(MONTH($X$26)<>MONTH($X$26-(WEEKDAY($X$26,1)-(start_day-1))-IF((WEEKDAY($X$26,1)-(start_day-1))<=0,7,0)+(ROW(Y30)-ROW($X$28))*7+(COLUMN(Y30)-COLUMN($X$28)+1)),"",$X$26-(WEEKDAY($X$26,1)-(start_day-1))-IF((WEEKDAY($X$26,1)-(start_day-1))<=0,7,0)+(ROW(Y30)-ROW($X$28))*7+(COLUMN(Y30)-COLUMN($X$28)+1)) -> 46097 | Z30: =IF(MONTH($X$26)<>MONTH($X$26-(WEEKDAY($X$26,1)-(start_day-1))-IF((WEEKDAY($X$26,1)-(start_day-1))<=0,7,0)+(ROW(Z30)-ROW($X$28))*7+(COLUMN(Z30)-COLUMN($X$28)+1)),"",$X$26-(WEEKDAY($X$26,1)-(start_day-1))-IF((WEEKDAY($X$26,1)-(start_day-1))<=0,7,0)+(ROW(Z30)-ROW($X$28))*7+(COLUMN(Z30)-COLUMN($X$28)+1)) -> 46098 | AA30: =IF(MONTH($X$26)<>MONTH($X$26-(WEEKDAY($X$26,1)-(start_day-1))-IF((WEEKDAY($X$26,1)-(start_day-1))<=0,7,0)+(ROW(AA30)-ROW($X$28))*7+(COLUMN(AA30)-COLUMN($X$28)+1)),"",$X$26-(WEEKDAY($X$26,1)-(start_day-1))-IF((WEEKDAY($X$26,1)-(start_day-1))<=0,7,0)+(ROW(AA30)-ROW($X$28))*7+(COLUMN(AA30)-COLUMN($X$28)+1)) -> 46099 | AB30: =IF(MONTH($X$26)<>MONTH($X$26-(WEEKDAY($X$26,1)-(start_day-1))-IF((WEEKDAY($X$26,1)-(start_day-1))<=0,7,0)+(ROW(AB30)-ROW($X$28))*7+(COLUMN(AB30)-COLUMN($X$28)+1)),"",$X$26-(WEEKDAY($X$26,1)-(start_day-1))-IF((WEEKDAY($X$26,1)-(start_day-1))<=0,7,0)+(ROW(AB30)-ROW($X$28))*7+(COLUMN(AB30)-COLUMN($X$28)+1)) -> 46100 | AC30: =IF(MONTH($X$26)<>MONTH($X$26-(WEEKDAY($X$26,1)-(start_day-1))-IF((WEEKDAY($X$26,1)-(start_day-1))<=0,7,0)+(ROW(AC30)-ROW($X$28))*7+(COLUMN(AC30)-COLUMN($X$28)+1)),"",$X$26-(WEEKDAY($X$26,1)-(start_day-1))-IF((WEEKDAY($X$26,1)-(start_day-1))<=0,7,0)+(ROW(AC30)-ROW($X$28))*7+(COLUMN(AC30)-COLUMN($X$28)+1)) -> 46101 | AD30: =IF(MONTH($X$26)<>MONTH($X$26-(WEEKDAY($X$26,1)-(start_day-1))-IF((WEEKDAY($X$26,1)-(start_day-1))<=0,7,0)+(ROW(AD30)-ROW($X$28))*7+(COLUMN(AD30)-COLUMN($X$28)+1)),"",$X$26-(WEEKDAY($X$26,1)-(start_day-1))-IF((WEEKDAY($X$26,1)-(start_day-1))<=0,7,0)+(ROW(AD30)-ROW($X$28))*7+(COLUMN(AD30)-COLUMN($X$28)+1)) -> 46102
O31: =IF(MONTH($O$26)<>MONTH($O$26-(WEEKDAY($O$26,1)-(start_day-1))-IF((WEEKDAY($O$26,1)-(start_day-1))<=0,7,0)+(ROW(O31)-ROW($O$28))*7+(COLUMN(O31)-COLUMN($O$28)+1)),"",$O$26-(WEEKDAY($O$26,1)-(start_day-1))-IF((WEEKDAY($O$26,1)-(start_day-1))<=0,7,0)+(ROW(O31)-ROW($O$28))*7+(COLUMN(O31)-COLUMN($O$28)+1)) -> 46040 | P31: =IF(MONTH($O$26)<>MONTH($O$26-(WEEKDAY($O$26,1)-(start_day-1))-IF((WEEKDAY($O$26,1)-(start_day-1))<=0,7,0)+(ROW(P31)-ROW($O$28))*7+(COLUMN(P31)-COLUMN($O$28)+1)),"",$O$26-(WEEKDAY($O$26,1)-(start_day-1))-IF((WEEKDAY($O$26,1)-(start_day-1))<=0,7,0)+(ROW(P31)-ROW($O$28))*7+(COLUMN(P31)-COLUMN($O$28)+1)) -> 46041 | Q31: =IF(MONTH($O$26)<>MONTH($O$26-(WEEKDAY($O$26,1)-(start_day-1))-IF((WEEKDAY($O$26,1)-(start_day-1))<=0,7,0)+(ROW(Q31)-ROW($O$28))*7+(COLUMN(Q31)-COLUMN($O$28)+1)),"",$O$26-(WEEKDAY($O$26,1)-(start_day-1))-IF((WEEKDAY($O$26,1)-(start_day-1))<=0,7,0)+(ROW(Q31)-ROW($O$28))*7+(COLUMN(Q31)-COLUMN($O$28)+1)) -> 46042 | R31: =IF(MONTH($O$26)<>MONTH($O$26-(WEEKDAY($O$26,1)-(start_day-1))-IF((WEEKDAY($O$26,1)-(start_day-1))<=0,7,0)+(ROW(R31)-ROW($O$28))*7+(COLUMN(R31)-COLUMN($O$28)+1)),"",$O$26-(WEEKDAY($O$26,1)-(start_day-1))-IF((WEEKDAY($O$26,1)-(start_day-1))<=0,7,0)+(ROW(R31)-ROW($O$28))*7+(COLUMN(R31)-COLUMN($O$28)+1)) -> 46043 | S31: =IF(MONTH($O$26)<>MONTH($O$26-(WEEKDAY($O$26,1)-(start_day-1))-IF((WEEKDAY($O$26,1)-(start_day-1))<=0,7,0)+(ROW(S31)-ROW($O$28))*7+(COLUMN(S31)-COLUMN($O$28)+1)),"",$O$26-(WEEKDAY($O$26,1)-(start_day-1))-IF((WEEKDAY($O$26,1)-(start_day-1))<=0,7,0)+(ROW(S31)-ROW($O$28))*7+(COLUMN(S31)-COLUMN($O$28)+1)) -> 46044 | T31: =IF(MONTH($O$26)<>MONTH($O$26-(WEEKDAY($O$26,1)-(start_day-1))-IF((WEEKDAY($O$26,1)-(start_day-1))<=0,7,0)+(ROW(T31)-ROW($O$28))*7+(COLUMN(T31)-COLUMN($O$28)+1)),"",$O$26-(WEEKDAY($O$26,1)-(start_day-1))-IF((WEEKDAY($O$26,1)-(start_day-1))<=0,7,0)+(ROW(T31)-ROW($O$28))*7+(COLUMN(T31)-COLUMN($O$28)+1)) -> 46045 | U31: =IF(MONTH($O$26)<>MONTH($O$26-(WEEKDAY($O$26,1)-(start_day-1))-IF((WEEKDAY($O$26,1)-(start_day-1))<=0,7,0)+(ROW(U31)-ROW($O$28))*7+(COLUMN(U31)-COLUMN($O$28)+1)),"",$O$26-(WEEKDAY($O$26,1)-(start_day-1))-IF((WEEKDAY($O$26,1)-(start_day-1))<=0,7,0)+(ROW(U31)-ROW($O$28))*7+(COLUMN(U31)-COLUMN($O$28)+1)) -> 46046 | X31: =IF(MONTH($X$26)<>MONTH($X$26-(WEEKDAY($X$26,1)-(start_day-1))-IF((WEEKDAY($X$26,1)-(start_day-1))<=0,7,0)+(ROW(X31)-ROW($X$28))*7+(COLUMN(X31)-COLUMN($X$28)+1)),"",$X$26-(WEEKDAY($X$26,1)-(start_day-1))-IF((WEEKDAY($X$26,1)-(start_day-1))<=0,7,0)+(ROW(X31)-ROW($X$28))*7+(COLUMN(X31)-COLUMN($X$28)+1)) -> 46103 | Y31: =IF(MONTH($X$26)<>MONTH($X$26-(WEEKDAY($X$26,1)-(start_day-1))-IF((WEEKDAY($X$26,1)-(start_day-1))<=0,7,0)+(ROW(Y31)-ROW($X$28))*7+(COLUMN(Y31)-COLUMN($X$28)+1)),"",$X$26-(WEEKDAY($X$26,1)-(start_day-1))-IF((WEEKDAY($X$26,1)-(start_day-1))<=0,7,0)+(ROW(Y31)-ROW($X$28))*7+(COLUMN(Y31)-COLUMN($X$28)+1)) -> 46104 | Z31: =IF(MONTH($X$26)<>MONTH($X$26-(WEEKDAY($X$26,1)-(start_day-1))-IF((WEEKDAY($X$26,1)-(start_day-1))<=0,7,0)+(ROW(Z31)-ROW($X$28))*7+(COLUMN(Z31)-COLUMN($X$28)+1)),"",$X$26-(WEEKDAY($X$26,1)-(start_day-1))-IF((WEEKDAY($X$26,1)-(start_day-1))<=0,7,0)+(ROW(Z31)-ROW($X$28))*7+(COLUMN(Z31)-COLUMN($X$28)+1)) -> 46105 | AA31: =IF(MONTH($X$26)<>MONTH($X$26-(WEEKDAY($X$26,1)-(start_day-1))-IF((WEEKDAY($X$26,1)-(start_day-1))<=0,7,0)+(ROW(AA31)-ROW($X$28))*7+(COLUMN(AA31)-COLUMN($X$28)+1)),"",$X$26-(WEEKDAY($X$26,1)-(start_day-1))-IF((WEEKDAY($X$26,1)-(start_day-1))<=0,7,0)+(ROW(AA31)-ROW($X$28))*7+(COLUMN(AA31)-COLUMN($X$28)+1)) -> 46106 | AB31: =IF(MONTH($X$26)<>MONTH($X$26-(WEEKDAY($X$26,1)-(start_day-1))-IF((WEEKDAY($X$26,1)-(start_day-1))<=0,7,0)+(ROW(AB31)-ROW($X$28))*7+(COLUMN(AB31)-COLUMN($X$28)+1)),"",$X$26-(WEEKDAY($X$26,1)-(start_day-1))-IF((WEEKDAY($X$26,1)-(start_day-1))<=0,7,0)+(ROW(AB31)-ROW($X$28))*7+(COLUMN(AB31)-COLUMN($X$28)+1)) -> 46107 | AC31: =IF(MONTH($X$26)<>MONTH($X$26-(WEEKDAY($X$26,1)-(start_day-1))-IF((WEEKDAY($X$26,1)-(start_day-1))<=0,7,0)+(ROW(AC31)-ROW($X$28))*7+(COLUMN(AC31)-COLUMN($X$28)+1)),"",$X$26-(WEEKDAY($X$26,1)-(start_day-1))-IF((WEEKDAY($X$26,1)-(start_day-1))<=0,7,0)+(ROW(AC31)-ROW($X$28))*7+(COLUMN(AC31)-COLUMN($X$28)+1)) -> 46108 | AD31: =IF(MONTH($X$26)<>MONTH($X$26-(WEEKDAY($X$26,1)-(start_day-1))-IF((WEEKDAY($X$26,1)-(start_day-1))<=0,7,0)+(ROW(AD31)-ROW($X$28))*7+(COLUMN(AD31)-COLUMN($X$28)+1)),"",$X$26-(WEEKDAY($X$26,1)-(start_day-1))-IF((WEEKDAY($X$26,1)-(start_day-1))<=0,7,0)+(ROW(AD31)-ROW($X$28))*7+(COLUMN(AD31)-COLUMN($X$28)+1)) -> 46109
O32: =IF(MONTH($O$26)<>MONTH($O$26-(WEEKDAY($O$26,1)-(start_day-1))-IF((WEEKDAY($O$26,1)-(start_day-1))<=0,7,0)+(ROW(O32)-ROW($O$28))*7+(COLUMN(O32)-COLUMN($O$28)+1)),"",$O$26-(WEEKDAY($O$26,1)-(start_day-1))-IF((WEEKDAY($O$26,1)-(start_day-1))<=0,7,0)+(ROW(O32)-ROW($O$28))*7+(COLUMN(O32)-COLUMN($O$28)+1)) -> 46047 | P32: =IF(MONTH($O$26)<>MONTH($O$26-(WEEKDAY($O$26,1)-(start_day-1))-IF((WEEKDAY($O$26,1)-(start_day-1))<=0,7,0)+(ROW(P32)-ROW($O$28))*7+(COLUMN(P32)-COLUMN($O$28)+1)),"",$O$26-(WEEKDAY($O$26,1)-(start_day-1))-IF((WEEKDAY($O$26,1)-(start_day-1))<=0,7,0)+(ROW(P32)-ROW($O$28))*7+(COLUMN(P32)-COLUMN($O$28)+1)) -> 46048 | Q32: =IF(MONTH($O$26)<>MONTH($O$26-(WEEKDAY($O$26,1)-(start_day-1))-IF((WEEKDAY($O$26,1)-(start_day-1))<=0,7,0)+(ROW(Q32)-ROW($O$28))*7+(COLUMN(Q32)-COLUMN($O$28)+1)),"",$O$26-(WEEKDAY($O$26,1)-(start_day-1))-IF((WEEKDAY($O$26,1)-(start_day-1))<=0,7,0)+(ROW(Q32)-ROW($O$28))*7+(COLUMN(Q32)-COLUMN($O$28)+1)) -> 46049 | R32: =IF(MONTH($O$26)<>MONTH($O$26-(WEEKDAY($O$26,1)-(start_day-1))-IF((WEEKDAY($O$26,1)-(start_day-1))<=0,7,0)+(ROW(R32)-ROW($O$28))*7+(COLUMN(R32)-COLUMN($O$28)+1)),"",$O$26-(WEEKDAY($O$26,1)-(start_day-1))-IF((WEEKDAY($O$26,1)-(start_day-1))<=0,7,0)+(ROW(R32)-ROW($O$28))*7+(COLUMN(R32)-COLUMN($O$28)+1)) -> 46050 | S32: =IF(MONTH($O$26)<>MONTH($O$26-(WEEKDAY($O$26,1)-(start_day-1))-IF((WEEKDAY($O$26,1)-(start_day-1))<=0,7,0)+(ROW(S32)-ROW($O$28))*7+(COLUMN(S32)-COLUMN($O$28)+1)),"",$O$26-(WEEKDAY($O$26,1)-(start_day-1))-IF((WEEKDAY($O$26,1)-(start_day-1))<=0,7,0)+(ROW(S32)-ROW($O$28))*7+(COLUMN(S32)-COLUMN($O$28)+1)) -> 46051 | T32: =IF(MONTH($O$26)<>MONTH($O$26-(WEEKDAY($O$26,1)-(start_day-1))-IF((WEEKDAY($O$26,1)-(start_day-1))<=0,7,0)+(ROW(T32)-ROW($O$28))*7+(COLUMN(T32)-COLUMN($O$28)+1)),"",$O$26-(WEEKDAY($O$26,1)-(start_day-1))-IF((WEEKDAY($O$26,1)-(start_day-1))<=0,7,0)+(ROW(T32)-ROW($O$28))*7+(COLUMN(T32)-COLUMN($O$28)+1)) -> 46052 | U32: =IF(MONTH($O$26)<>MONTH($O$26-(WEEKDAY($O$26,1)-(start_day-1))-IF((WEEKDAY($O$26,1)-(start_day-1))<=0,7,0)+(ROW(U32)-ROW($O$28))*7+(COLUMN(U32)-COLUMN($O$28)+1)),"",$O$26-(WEEKDAY($O$26,1)-(start_day-1))-IF((WEEKDAY($O$26,1)-(start_day-1))<=0,7,0)+(ROW(U32)-ROW($O$28))*7+(COLUMN(U32)-COLUMN($O$28)+1)) -> 46053 | X32: =IF(MONTH($X$26)<>MONTH($X$26-(WEEKDAY($X$26,1)-(start_day-1))-IF((WEEKDAY($X$26,1)-(start_day-1))<=0,7,0)+(ROW(X32)-ROW($X$28))*7+(COLUMN(X32)-COLUMN($X$28)+1)),"",$X$26-(WEEKDAY($X$26,1)-(start_day-1))-IF((WEEKDAY($X$26,1)-(start_day-1))<=0,7,0)+(ROW(X32)-ROW($X$28))*7+(COLUMN(X32)-COLUMN($X$28)+1)) -> 46110 | Y32: =IF(MONTH($X$26)<>MONTH($X$26-(WEEKDAY($X$26,1)-(start_day-1))-IF((WEEKDAY($X$26,1)-(start_day-1))<=0,7,0)+(ROW(Y32)-ROW($X$28))*7+(COLUMN(Y32)-COLUMN($X$28)+1)),"",$X$26-(WEEKDAY($X$26,1)-(start_day-1))-IF((WEEKDAY($X$26,1)-(start_day-1))<=0,7,0)+(ROW(Y32)-ROW($X$28))*7+(COLUMN(Y32)-COLUMN($X$28)+1)) -> 46111 | Z32: =IF(MONTH($X$26)<>MONTH($X$26-(WEEKDAY($X$26,1)-(start_day-1))-IF((WEEKDAY($X$26,1)-(start_day-1))<=0,7,0)+(ROW(Z32)-ROW($X$28))*7+(COLUMN(Z32)-COLUMN($X$28)+1)),"",$X$26-(WEEKDAY($X$26,1)-(start_day-1))-IF((WEEKDAY($X$26,1)-(start_day-1))<=0,7,0)+(ROW(Z32)-ROW($X$28))*7+(COLUMN(Z32)-COLUMN($X$28)+1)) -> 46112 | AA32: =IF(MONTH($X$26)<>MONTH($X$26-(WEEKDAY($X$26,1)-(start_day-1))-IF((WEEKDAY($X$26,1)-(start_day-1))<=0,7,0)+(ROW(AA32)-ROW($X$28))*7+(COLUMN(AA32)-COLUMN($X$28)+1)),"",$X$26-(WEEKDAY($X$26,1)-(start_day-1))-IF((WEEKDAY($X$26,1)-(start_day-1))<=0,7,0)+(ROW(AA32)-ROW($X$28))*7+(COLUMN(AA32)-COLUMN($X$28)+1)) | AB32: =IF(MONTH($X$26)<>MONTH($X$26-(WEEKDAY($X$26,1)-(start_day-1))-IF((WEEKDAY($X$26,1)-(start_day-1))<=0,7,0)+(ROW(AB32)-ROW($X$28))*7+(COLUMN(AB32)-COLUMN($X$28)+1)),"",$X$26-(WEEKDAY($X$26,1)-(start_day-1))-IF((WEEKDAY($X$26,1)-(start_day-1))<=0,7,0)+(ROW(AB32)-ROW($X$28))*7+(COLUMN(AB32)-COLUMN($X$28)+1)) | AC32: =IF(MONTH($X$26)<>MONTH($X$26-(WEEKDAY($X$26,1)-(start_day-1))-IF((WEEKDAY($X$26,1)-(start_day-1))<=0,7,0)+(ROW(AC32)-ROW($X$28))*7+(COLUMN(AC32)-COLUMN($X$28)+1)),"",$X$26-(WEEKDAY($X$26,1)-(start_day-1))-IF((WEEKDAY($X$26,1)-(start_day-1))<=0,7,0)+(ROW(AC32)-ROW($X$28))*7+(COLUMN(AC32)-COLUMN($X$28)+1)) | AD32: =IF(MONTH($X$26)<>MONTH($X$26-(WEEKDAY($X$26,1)-(start_day-1))-IF((WEEKDAY($X$26,1)-(start_day-1))<=0,7,0)+(ROW(AD32)-ROW($X$28))*7+(COLUMN(AD32)-COLUMN($X$28)+1)),"",$X$26-(WEEKDAY($X$26,1)-(start_day-1))-IF((WEEKDAY($X$26,1)-(start_day-1))<=0,7,0)+(ROW(AD32)-ROW($X$28))*7+(COLUMN(AD32)-COLUMN($X$28)+1))
O33: =IF(MONTH($O$26)<>MONTH($O$26-(WEEKDAY($O$26,1)-(start_day-1))-IF((WEEKDAY($O$26,1)-(start_day-1))<=0,7,0)+(ROW(O33)-ROW($O$28))*7+(COLUMN(O33)-COLUMN($O$28)+1)),"",$O$26-(WEEKDAY($O$26,1)-(start_day-1))-IF((WEEKDAY($O$26,1)-(start_day-1))<=0,7,0)+(ROW(O33)-ROW($O$28))*7+(COLUMN(O33)-COLUMN($O$28)+1)) | P33: =IF(MONTH($O$26)<>MONTH($O$26-(WEEKDAY($O$26,1)-(start_day-1))-IF((WEEKDAY($O$26,1)-(start_day-1))<=0,7,0)+(ROW(P33)-ROW($O$28))*7+(COLUMN(P33)-COLUMN($O$28)+1)),"",$O$26-(WEEKDAY($O$26,1)-(start_day-1))-IF((WEEKDAY($O$26,1)-(start_day-1))<=0,7,0)+(ROW(P33)-ROW($O$28))*7+(COLUMN(P33)-COLUMN($O$28)+1)) | Q33: =IF(MONTH($O$26)<>MONTH($O$26-(WEEKDAY($O$26,1)-(start_day-1))-IF((WEEKDAY($O$26,1)-(start_day-1))<=0,7,0)+(ROW(Q33)-ROW($O$28))*7+(COLUMN(Q33)-COLUMN($O$28)+1)),"",$O$26-(WEEKDAY($O$26,1)-(start_day-1))-IF((WEEKDAY($O$26,1)-(start_day-1))<=0,7,0)+(ROW(Q33)-ROW($O$28))*7+(COLUMN(Q33)-COLUMN($O$28)+1)) | R33: =IF(MONTH($O$26)<>MONTH($O$26-(WEEKDAY($O$26,1)-(start_day-1))-IF((WEEKDAY($O$26,1)-(start_day-1))<=0,7,0)+(ROW(R33)-ROW($O$28))*7+(COLUMN(R33)-COLUMN($O$28)+1)),"",$O$26-(WEEKDAY($O$26,1)-(start_day-1))-IF((WEEKDAY($O$26,1)-(start_day-1))<=0,7,0)+(ROW(R33)-ROW($O$28))*7+(COLUMN(R33)-COLUMN($O$28)+1)) | S33: =IF(MONTH($O$26)<>MONTH($O$26-(WEEKDAY($O$26,1)-(start_day-1))-IF((WEEKDAY($O$26,1)-(start_day-1))<=0,7,0)+(ROW(S33)-ROW($O$28))*7+(COLUMN(S33)-COLUMN($O$28)+1)),"",$O$26-(WEEKDAY($O$26,1)-(start_day-1))-IF((WEEKDAY($O$26,1)-(start_day-1))<=0,7,0)+(ROW(S33)-ROW($O$28))*7+(COLUMN(S33)-COLUMN($O$28)+1)) | T33: =IF(MONTH($O$26)<>MONTH($O$26-(WEEKDAY($O$26,1)-(start_day-1))-IF((WEEKDAY($O$26,1)-(start_day-1))<=0,7,0)+(ROW(T33)-ROW($O$28))*7+(COLUMN(T33)-COLUMN($O$28)+1)),"",$O$26-(WEEKDAY($O$26,1)-(start_day-1))-IF((WEEKDAY($O$26,1)-(start_day-1))<=0,7,0)+(ROW(T33)-ROW($O$28))*7+(COLUMN(T33)-COLUMN($O$28)+1)) | U33: =IF(MONTH($O$26)<>MONTH($O$26-(WEEKDAY($O$26,1)-(start_day-1))-IF((WEEKDAY($O$26,1)-(start_day-1))<=0,7,0)+(ROW(U33)-ROW($O$28))*7+(COLUMN(U33)-COLUMN($O$28)+1)),"",$O$26-(WEEKDAY($O$26,1)-(start_day-1))-IF((WEEKDAY($O$26,1)-(start_day-1))<=0,7,0)+(ROW(U33)-ROW($O$28))*7+(COLUMN(U33)-COLUMN($O$28)+1)) | X33: =IF(MONTH($X$26)<>MONTH($X$26-(WEEKDAY($X$26,1)-(start_day-1))-IF((WEEKDAY($X$26,1)-(start_day-1))<=0,7,0)+(ROW(X33)-ROW($X$28))*7+(COLUMN(X33)-COLUMN($X$28)+1)),"",$X$26-(WEEKDAY($X$26,1)-(start_day-1))-IF((WEEKDAY($X$26,1)-(start_day-1))<=0,7,0)+(ROW(X33)-ROW($X$28))*7+(COLUMN(X33)-COLUMN($X$28)+1)) | Y33: =IF(MONTH($X$26)<>MONTH($X$26-(WEEKDAY($X$26,1)-(start_day-1))-IF((WEEKDAY($X$26,1)-(start_day-1))<=0,7,0)+(ROW(Y33)-ROW($X$28))*7+(COLUMN(Y33)-COLUMN($X$28)+1)),"",$X$26-(WEEKDAY($X$26,1)-(start_day-1))-IF((WEEKDAY($X$26,1)-(start_day-1))<=0,7,0)+(ROW(Y33)-ROW($X$28))*7+(COLUMN(Y33)-COLUMN($X$28)+1)) | Z33: =IF(MONTH($X$26)<>MONTH($X$26-(WEEKDAY($X$26,1)-(start_day-1))-IF((WEEKDAY($X$26,1)-(start_day-1))<=0,7,0)+(ROW(Z33)-ROW($X$28))*7+(COLUMN(Z33)-COLUMN($X$28)+1)),"",$X$26-(WEEKDAY($X$26,1)-(start_day-1))-IF((WEEKDAY($X$26,1)-(start_day-1))<=0,7,0)+(ROW(Z33)-ROW($X$28))*7+(COLUMN(Z33)-COLUMN($X$28)+1)) | AA33: =IF(MONTH($X$26)<>MONTH($X$26-(WEEKDAY($X$26,1)-(start_day-1))-IF((WEEKDAY($X$26,1)-(start_day-1))<=0,7,0)+(ROW(AA33)-ROW($X$28))*7+(COLUMN(AA33)-COLUMN($X$28)+1)),"",$X$26-(WEEKDAY($X$26,1)-(start_day-1))-IF((WEEKDAY($X$26,1)-(start_day-1))<=0,7,0)+(ROW(AA33)-ROW($X$28))*7+(COLUMN(AA33)-COLUMN($X$28)+1)) | AB33: =IF(MONTH($X$26)<>MONTH($X$26-(WEEKDAY($X$26,1)-(start_day-1))-IF((WEEKDAY($X$26,1)-(start_day-1))<=0,7,0)+(ROW(AB33)-ROW($X$28))*7+(COLUMN(AB33)-COLUMN($X$28)+1)),"",$X$26-(WEEKDAY($X$26,1)-(start_day-1))-IF((WEEKDAY($X$26,1)-(start_day-1))<=0,7,0)+(ROW(AB33)-ROW($X$28))*7+(COLUMN(AB33)-COLUMN($X$28)+1)) | AC33: =IF(MONTH($X$26)<>MONTH($X$26-(WEEKDAY($X$26,1)-(start_day-1))-IF((WEEKDAY($X$26,1)-(start_day-1))<=0,7,0)+(ROW(AC33)-ROW($X$28))*7+(COLUMN(AC33)-COLUMN($X$28)+1)),"",$X$26-(WEEKDAY($X$26,1)-(start_day-1))-IF((WEEKDAY($X$26,1)-(start_day-1))<=0,7,0)+(ROW(AC33)-ROW($X$28))*7+(COLUMN(AC33)-COLUMN($X$28)+1)) | AD33: =IF(MONTH($X$26)<>MONTH($X$26-(WEEKDAY($X$26,1)-(start_day-1))-IF((WEEKDAY($X$26,1)-(start_day-1))<=0,7,0)+(ROW(AD33)-ROW($X$28))*7+(COLUMN(AD33)-COLUMN($X$28)+1)),"",$X$26-(WEEKDAY($X$26,1)-(start_day-1))-IF((WEEKDAY($X$26,1)-(start_day-1))<=0,7,0)+(ROW(AD33)-ROW($X$28))*7+(COLUMN(AD33)-COLUMN($X$28)+1))

Sheet March
B2: =DATE(About!P8,About!P10+2,1) -> 46082
C3: =DATE(About!P8,About!P10+2,1) -> 46082
C5: =C6 -> 46082 | E5: =E6 -> 46083 | G5: =G6 -> 46084 | I5: =I6 -> 46085 | K5: =K6 -> 46086 | O5: =O6 -> 46087 | W5: =W6 -> 46088
C6: =$C$3-(WEEKDAY($C$3,1)-(start_day-1))-IF((WEEKDAY($C$3,1)-(start_day-1))<=0,7,0)+1 -> 46082 | E6: =C6+1 -> 46083 | G6: =E6+1 -> 46084 | I6: =G6+1 -> 46085 | K6: =I6+1 -> 46086 | O6: =K6+1 -> 46087 | W6: =O6+1 -> 46088
C8: =W6+1 -> 46089
E9: =C8+1 -> 46090 | G9: =E9+1 -> 46091 | I9: =G9+1 -> 46092 | K9: =I9+1 -> 46093 | O9: =K9+1 -> 46094 | W9: =O9+1 -> 46095
C11: =W9+1 -> 46096
E12: =C11+1 -> 46097 | G12: =E12+1 -> 46098 | I12: =G12+1 -> 46099 | K12: =I12+1 -> 46100 | O12: =K12+1 -> 46101 | W12: =O12+1 -> 46102
C14: =W12+1 -> 46103
E15: =C14+1 -> 46104 | G15: =E15+1 -> 46105 | I15: =G15+1 -> 46106 | K15: =I15+1 -> 46107 | O15: =K15+1 -> 46108 | W15: =O15+1 -> 46109
C17: =W15+1 -> 46110
E18: =C17+1 -> 46111 | G18: =E18+1 -> 46112 | I18: =G18+1 -> 46113 | K18: =I18+1 -> 46114 | O18: =K18+1 -> 46115 | W18: =O18+1 -> 46116
C20: =W18+1 -> 46117
E21: =C20+1 -> 46118 | G21: =E21+1 -> 46119 | I21: =G21+1 -> 46120 | K21: =I21+1 -> 46121 | O21: =K21+1 -> 46122 | W21: =O21+1 -> 46123
C26: Notes | O26: =DATE(YEAR(C3),MONTH(C3)-1,1) -> 46054 | X26: =DATE(YEAR(C3),MONTH(C3)+1,1) -> 46113
