Workbook
Name start_day: About!$Q$11

Sheet About
B2: Follow the steps below to learn how to use this template.
N3: Time Entry
C4: Step 1: | E4: Enter the Year and Start Month
C6: Step 2: | E6: Choose the Start Day
O7: Year | Q7: 2026
C8: Step 3: | E8: Customize the Theme Colors / Fonts
E9: Go to Page Layout > Themes to choose different colors and fonts. | O9: Start Month | Q9: 1
C11: Step 4: | E11: Print to Paper or PDF | O11: Start Day of Week | Q11: 2
E12: Print the entire workbook, print only the selected worksheets, or choose
E13: File > Print area > Set print area to select only the calendar and not the notes section.

Sheet January
B2: =UPPER(TEXT(DATE(About!Q7,About!Q9,1),"mmmm yyyy")) -> JANUARY 2026
B4: =UPPER(TEXT(B5,"ddd")) -> MON | C4: =UPPER(TEXT(C5,"ddd")) -> TUE | D4: =UPPER(TEXT(D5,"ddd")) -> WED | E4: =UPPER(TEXT(E5,"ddd")) -> THU | H4: =UPPER(TEXT(H5,"ddd")) -> FRI | I4: =UPPER(TEXT(I5,"ddd")) -> SAT | J4: =UPPER(TEXT(J5,"ddd")) -> SUN
B5: =$B$2-(WEEKDAY($B$2,1)-(start_day-1))-IF((WEEKDAY($B$2,1)-(start_day-1))<=0,7,0)+1 -> 46020 | C5: =B5+1 -> 46021 | D5: =C5+1 -> 46022 | E5: =D5+1 -> 46023 | H5: =E5+1 -> 46024 | I5: =H5+1 -> 46025 | J5: =I5+1 -> 46026
B6: =J5+1 -> 46027 | C6: =B6+1 -> 46028 | D6: =C6+1 -> 46029 | E6: =D6+1 -> 46030 | H6: =E6+1 -> 46031 | I6: =H6+1 -> 46032 | J6: =I6+1 -> 46033
B7: =J6+1 -> 46034 | C7: =B7+1 -> 46035 | D7: =C7+1 -> 46036 | E7: =D7+1 -> 46037 | H7: =E7+1 -> 46038 | I7: =H7+1 -> 46039 | J7: =I7+1 -> 46040
B8: =J7+1 -> 46041 | C8: =B8+1 -> 46042 | D8: =C8+1 -> 46043 | E8: =D8+1 -> 46044 | H8: =E8+1 -> 46045 | I8: =H8+1 -> 46046 | J8: =I8+1 -> 46047
B9: =J8+1 -> 46048 | C9: =B9+1 -> 46049 | D9: =C9+1 -> 46050 | E9: =D9+1 -> 46051 | H9: =E9+1 -> 46052 | I9: =H9+1 -> 46053 | J9: =I9+1 -> 46054
B10: =J9+1 -> 46055 | C10: =B10+1 -> 46056 | D10: =C10+1 -> 46057 | E10: =D10+1 -> 46058 | H10: =E10+1 -> 46059 | I10: =H10+1 -> 46060 | J10: =I10+1 -> 46061
B12: To Do | G12: Notes

Sheet February
B2: =UPPER(TEXT(DATE(About!Q7,About!Q9+1,1),"mmmm yyyy")) -> FEBRUARY 2026
B4: =UPPER(TEXT(B5,"ddd")) -> MON | C4: =UPPER(TEXT(C5,"ddd")) -> TUE | D4: =UPPER(TEXT(D5,"ddd")) -> WED | E4: =UPPER(TEXT(E5,"ddd")) -> THU | H4: =UPPER(TEXT(H5,"ddd")) -> FRI | I4: =UPPER(TEXT(I5,"ddd")) -> SAT | J4: =UPPER(TEXT(J5,"ddd")) -> SUN
B5: =$B$2-(WEEKDAY($B$2,1)-(start_day-1))-IF((WEEKDAY($B$2,1)-(start_day-1))<=0,7,0)+1 -> 46048 | C5: =B5+1 -> 46049 | D5: =C5+1 -> 46050 | E5: =D5+1 -> 46051 | H5: =E5+1 -> 46052 | I5: =H5+1 -> 46053 | J5: =I5+1 -> 46054
B6: =J5+1 -> 46055 | C6: =B6+1 -> 46056 | D6: =C6+1 -> 46057 | E6: =D6+1 -> 46058 | H6: =E6+1 -> 46059 | I6: =H6+1 -> 46060 | J6: =I6+1 -> 46061
B7: =J6+1 -> 46062 | C7: =B7+1 -> 46063 | D7: =C7+1 -> 46064 | E7: =D7+1 -> 46065 | H7: =E7+1 -> 46066 | I7: =H7+1 -> 46067 | J7: =I7+1 -> 46068
B8: =J7+1 -> 46069 | C8: =B8+1 -> 46070 | D8: =C8+1 -> 46071 | E8: =D8+1 -> 46072 | H8: =E8+1 -> 46073 | I8: =H8+1 -> 46074 | J8: =I8+1 -> 46075
B9: =J8+1 -> 46076 | C9: =B9+1 -> 46077 | D9: =C9+1 -> 46078 | E9: =D9+1 -> 46079 | H9: =E9+1 -> 46080 | I9: =H9+1 -> 46081 | J9: =I9+1 -> 46082
B10: =J9+1 -> 46083 | C10: =B10+1 -> 46084 | D10: =C10+1 -> 46085 | E10: =D10+1 -> 46086 | H10: =E10+1 -> 46087 | I10: =H10+1 -> 46088 | J10: =I10+1 -> 46089
B12: To Do | G12: Notes

Sheet March
B2: =UPPER(TEXT(DATE(About!Q7,About!Q9+2,1),"mmmm yyyy")) -> MARCH 2026
B4: =UPPER(TEXT(B5,"ddd")) -> MON | C4: =UPPER(TEXT(C5,"ddd")) -> TUE | D4: =UPPER(TEXT(D5,"ddd")) -> WED | E4: =UPPER(TEXT(E5,"ddd")) -> THU | H4: =UPPER(TEXT(H5,"ddd")) -> FRI | I4: =UPPER(TEXT(I5,"ddd")) -> SAT | J4: =UPPER(TEXT(J5,"ddd")) -> SUN
B5: =$B$2-(WEEKDAY($B$2,1)-(start_day-1))-IF((WEEKDAY($B$2,1)-(start_day-1))<=0,7,0)+1 -> 46076 | C5: =B5+1 -> 46077 | D5: =C5+1 -> 46078 | E5: =D5+1 -> 46079 | H5: =E5+1 -> 46080 | I5: =H5+1 -> 46081 | J5: =I5+1 -> 46082
B6: =J5+1 -> 46083 | C6: =B6+1 -> 46084 | D6: =C6+1 -> 46085 | E6: =D6+1 -> 46086 | H6: =E6+1 -> 46087 | I6: =H6+1 -> 46088 | J6: =I6+1 -> 46089
B7: =J6+1 -> 46090 | C7: =B7+1 -> 46091 | D7: =C7+1 -> 46092 | E7: =D7+1 -> 46093 | H7: =E7+1 -> 46094 | I7: =H7+1 -> 46095 | J7: =I7+1 -> 46096
B8: =J7+1 -> 46097 | C8: =B8+1 -> 46098 | D8: =C8+1 -> 46099 | E8: =D8+1 -> 46100 | H8: =E8+1 -> 46101 | I8: =H8+1 -> 46102 | J8: =I8+1 -> 46103
B9: =J8+1 -> 46104 | C9: =B9+1 -> 46105 | D9: =C9+1 -> 46106 | E9: =D9+1 -> 46107 | H9: =E9+1 -> 46108 | I9: =H9+1 -> 46109 | J9: =I9+1 -> 46110
B10: =J9+1 -> 46111 | C10: =B10+1 -> 46112 | D10: =C10+1 -> 46113 | E10: =D10+1 -> 46114 | H10: =E10+1 -> 46115 | I10: =H10+1 -> 46116 | J10: =I10+1 -> 46117
B12: To Do | G12: Notes

Sheet April
B2: =UPPER(TEXT(DATE(About!Q7,About!Q9+3,1),"mmmm yyyy")) -> APRIL 2026
B4: =UPPER(TEXT(B5,"ddd")) -> MON | C4: =UPPER(TEXT(C5,"ddd")) -> TUE | D4: =UPPER(TEXT(D5,"ddd")) -> WED | E4: =UPPER(TEXT(E5,"ddd")) -> THU | H4: =UPPER(TEXT(H5,"ddd")) -> FRI | I4: =UPPER(TEXT(I5,"ddd")) -> SAT | J4: =UPPER(TEXT(J5,"ddd")) -> SUN
B5: =$B$2-(WEEKDAY($B$2,1)-(start_day-1))-IF((WEEKDAY($B$2,1)-(start_day-1))<=0,7,0)+1 -> 46111 | C5: =B5+1 -> 46112 | D5: =C5+1 -> 46113 | E5: =D5+1 -> 46114 | H5: =E5+1 -> 46115 | I5: =H5+1 -> 46116 | J5: =I5+1 -> 46117
B6: =J5+1 -> 46118 | C6: =B6+1 -> 46119 | D6: =C6+1 -> 46120 | E6: =D6+1 -> 46121 | H6: =E6+1 -> 46122 | I6: =H6+1 -> 46123 | J6: =I6+1 -> 46124
B7: =J6+1 -> 46125 | C7: =B7+1 -> 46126 | D7: =C7+1 -> 46127 | E7: =D7+1 -> 46128 | H7: =E7+1 -> 46129 | I7: =H7+1 -> 46130 | J7: =I7+1 -> 46131
B8: =J7+1 -> 46132 | C8: =B8+1 -> 46133 | D8: =C8+1 -> 46134 | E8: =D8+1 -> 46135 | H8: =E8+1 -> 46136 | I8: =H8+1 -> 46137 | J8: =I8+1 -> 46138
B9: =J8+1 -> 46139 | C9: =B9+1 -> 46140 | D9: =C9+1 -> 46141 | E9: =D9+1 -> 46142 | H9: =E9+1 -> 46143 | I9: =H9+1 -> 46144 | J9: =I9+1 -> 46145
B10: =J9+1 -> 46146 | C10: =B10+1 -> 46147 | D10: =C10+1 -> 46148 | E10: =D10+1 -> 46149 | H10: =E10+1 -> 46150 | I10: =H10+1 -> 46151 | J10: =I10+1 -> 46152
B12: To Do | G12: Notes

Sheet May
B2: =UPPER(TEXT(DATE(About!Q7,About!Q9+4,1),"mmmm yyyy")) -> MAY 2026
B4: =UPPER(TEXT(B5,"ddd")) -> MON | C4: =UPPER(TEXT(C5,"ddd")) -> TUE | D4: =UPPER(TEXT(D5,"ddd")) -> WED | E4: =UPPER(TEXT(E5,"ddd")) -> THU | H4: =UPPER(TEXT(H5,"ddd")) -> FRI | I4: =UPPER(TEXT(I5,"ddd")) -> SAT | J4: =UPPER(TEXT(J5,"ddd")) -> SUN
B5: =$B$2-(WEEKDAY($B$2,1)-(start_day-1))-IF((WEEKDAY($B$2,1)-(start_day-1))<=0,7,0)+1 -> 46139 | C5: =B5+1 -> 46140 | D5: =C5+1 -> 46141 | E5: =D5+1 -> 46142 | H5: =E5+1 -> 46143 | I5: =H5+1 -> 46144 | J5: =I5+1 -> 46145
B6: =J5+1 -> 46146 | C6: =B6+1 -> 46147 | D6: =C6+1 -> 46148 | E6: =D6+1 -> 46149 | H6: =E6+1 -> 46150 | I6: =H6+1 -> 46151 | J6: =I6+1 -> 46152
B7: =J6+1 -> 46153 | C7: =B7+1 -> 46154 | D7: =C7+1 -> 46155 | E7: =D7+1 -> 46156 | H7: =E7+1 -> 46157 | I7: =H7+1 -> 46158 | J7: =I7+1 -> 46159
B8: =J7+1 -> 46160 | C8: =B8+1 -> 46161 | D8: =C8+1 -> 46162 | E8: =D8+1 -> 46163 | H8: =E8+1 -> 46164 | I8: =H8+1 -> 46165 | J8: =I8+1 -> 46166
B9: =J8+1 -> 46167 | C9: =B9+1 -> 46168 | D9: =C9+1 -> 46169 | E9: =D9+1 -> 46170 | H9: =E9+1 -> 46171 | I9: =H9+1 -> 46172 | J9: =I9+1 -> 46173
B10: =J9+1 -> 46174 | C10: =B10+1 -> 46175 | D10: =C10+1 -> 46176 | E10: =D10+1 -> 46177 | H10: =E10+1 -> 46178 | I10: =H10+1 -> 46179 | J10: =I10+1 -> 46180
B12: To Do | G12: Notes

Sheet June
B2: =UPPER(TEXT(DATE(About!Q7,About!Q9+5,1),"mmmm yyyy")) -> JUNE 2026
B4: =UPPER(TEXT(B5,"ddd")) -> MON | C4: =UPPER(TEXT(C5,"ddd")) -> TUE | D4: =UPPER(TEXT(D5,"ddd")) -> WED | E4: =UPPER(TEXT(E5,"ddd")) -> THU | H4: =UPPER(TEXT(H5,"ddd")) -> FRI | I4: =UPPER(TEXT(I5,"ddd")) -> SAT | J4: =UPPER(TEXT(J5,"ddd")) -> SUN
B5: =$B$2-(WEEKDAY($B$2,1)-(start_day-1))-IF((WEEKDAY($B$2,1)-(start_day-1))<=0,7,0)+1 -> 46174 | C5: =B5+1 -> 46175 | D5: =C5+1 -> 46176 | E5: =D5+1 -> 46177 | H5: =E5+1 -> 46178 | I5: =H5+1 -> 46179 | J5: =I5+1 -> 46180
B6: =J5+1 -> 46181 | C6: =B6+1 -> 46182 | D6: =C6+1 -> 46183 | E6: =D6+1 -> 46184 | H6: =E6+1 -> 46185 | I6: =H6+1 -> 46186 | J6: =I6+1 -> 46187
B7: =J6+1 -> 46188 | C7: =B7+1 -> 46189 | D7: =C7+1 -> 46190 | E7: =D7+1 -> 46191 | H7: =E7+1 -> 46192 | I7: =H7+1 -> 46193 | J7: =I7+1 -> 46194
B8: =J7+1 -> 46195 | C8: =B8+1 -> 46196 | D8: =C8+1 -> 46197 | E8: =D8+1 -> 46198 | H8: =E8+1 -> 46199 | I8: =H8+1 -> 46200 | J8: =I8+1 -> 46201
B9: =J8+1 -> 46202 | C9: =B9+1 -> 46203 | D9: =C9+1 -> 46204 | E9: =D9+1 -> 46205 | H9: =E9+1 -> 46206 | I9: =H9+1 -> 46207 | J9: =I9+1 -> 46208
B10: =J9+1 -> 46209 | C10: =B10+1 -> 46210 | D10: =C10+1 -> 46211 | E10: =D10+1 -> 46212 | H10: =E10+1 -> 46213 | I10: =H10+1 -> 46214 | J10: =I10+1 -> 46215
B12: To Do | G12: Notes

Sheet July
B2: =UPPER(TEXT(DATE(About!Q7,About!Q9+6,1),"mmmm yyyy")) -> JULY 2026
B4: =UPPER(TEXT(B5,"ddd")) -> MON | C4: =UPPER(TEXT(C5,"ddd")) -> TUE | D4: =UPPER(TEXT(D5,"ddd")) -> WED | E4: =UPPER(TEXT(E5,"ddd")) -> THU | H4: =UPPER(TEXT(H5,"ddd")) -> FRI | I4: =UPPER(TEXT(I5,"ddd")) -> SAT | J4: =UPPER(TEXT(J5,"ddd")) -> SUN
B5: =$B$2-(WEEKDAY($B$2,1)-(start_day-1))-IF((WEEKDAY($B$2,1)-(start_day-1))<=0,7,0)+1 -> 46202 | C5: =B5+1 -> 46203 | D5: =C5+1 -> 46204 | E5: =D5+1 -> 46205 | H5: =E5+1 -> 46206 | I5: =H5+1 -> 46207 | J5: =I5+1 -> 46208
B6: =J5+1 -> 46209 | C6: =B6+1 -> 46210 | D6: =C6+1 -> 46211 | E6: =D6+1 -> 46212 | H6: =E6+1 -> 46213 | I6: =H6+1 -> 46214 | J6: =I6+1 -> 46215
B7: =J6+1 -> 46216 | C7: =B7+1 -> 46217 | D7: =C7+1 -> 46218 | E7: =D7+1 -> 46219 | H7: =E7+1 -> 46220 | I7: =H7+1 -> 46221 | J7: =I7+1 -> 46222
B8: =J7+1 -> 46223 | C8: =B8+1 -> 46224 | D8: =C8+1 -> 46225 | E8: =D8+1 -> 46226 | H8: =E8+1 -> 46227 | I8: =H8+1 -> 46228 | J8: =I8+1 -> 46229
B9: =J8+1 -> 46230 | C9: =B9+1 -> 46231 | D9: =C9+1 -> 46232 | E9: =D9+1 -> 46233 | H9: =E9+1 -> 46234 | I9: =H9+1 -> 46235 | J9: =I9+1 -> 46236
B10: =J9+1 -> 46237 | C10: =B10+1 -> 46238 | D10: =C10+1 -> 46239 | E10: =D10+1 -> 46240 | H10: =E10+1 -> 46241 | I10: =H10+1 -> 46242 | J10: =I10+1 -> 46243
B12: To Do | G12: Notes

Sheet August
B2: =UPPER(TEXT(DATE(About!Q7,About!Q9+7,1),"mmmm yyyy")) -> AUGUST 2026
B4: =UPPER(TEXT(B5,"ddd")) -> MON | C4: =UPPER(TEXT(C5,"ddd")) -> TUE | D4: =UPPER(TEXT(D5,"ddd")) -> WED | E4: =UPPER(TEXT(E5,"ddd")) -> THU | H4: =UPPER(TEXT(H5,"ddd")) -> FRI | I4: =UPPER(TEXT(I5,"ddd")) -> SAT | J4: =UPPER(TEXT(J5,"ddd")) -> SUN
B5: =$B$2-(WEEKDAY($B$2,1)-(start_day-1))-IF((WEEKDAY($B$2,1)-(start_day-1))<=0,7,0)+1 -> 46230 | C5: =B5+1 -> 46231 | D5: =C5+1 -> 46232 | E5: =D5+1 -> 46233 | H5: =E5+1 -> 46234 | I5: =H5+1 -> 46235 | J5: =I5+1 -> 46236
B6: =J5+1 -> 46237 | C6: =B6+1 -> 46238 | D6: =C6+1 -> 46239 | E6: =D6+1 -> 46240 | H6: =E6+1 -> 46241 | I6: =H6+1 -> 46242 | J6: =I6+1 -> 46243
B7: =J6+1 -> 46244 | C7: =B7+1 -> 46245 | D7: =C7+1 -> 46246 | E7: =D7+1 -> 46247 | H7: =E7+1 -> 46248 | I7: =H7+1 -> 46249 | J7: =I7+1 -> 46250
B8: =J7+1 -> 46251 | C8: =B8+1 -> 46252 | D8: =C8+1 -> 46253 | E8: =D8+1 -> 46254 | H8: =E8+1 -> 46255 | I8: =H8+1 -> 46256 | J8: =I8+1 -> 46257
B9: =J8+1 -> 46258 | C9: =B9+1 -> 46259 | D9: =C9+1 -> 46260 | E9: =D9+1 -> 46261 | H9: =E9+1 -> 46262 | I9: =H9+1 -> 46263 | J9: =I9+1 -> 46264
B10: =J9+1 -> 46265 | C10: =B10+1 -> 46266 | D10: =C10+1 -> 46267 | E10: =D10+1 -> 46268 | H10: =E10+1 -> 46269 | I10: =H10+1 -> 46270 | J10: =I10+1 -> 46271
B12: To Do | G12: Notes

Sheet September
B2: =UPPER(TEXT(DATE(About!Q7,About!Q9+8,1),"mmmm yyyy")) -> SEPTEMBER 2026
B4: =UPPER(TEXT(B5,"ddd")) -> MON | C4: =UPPER(TEXT(C5,"ddd")) -> TUE | D4: =UPPER(TEXT(D5,"ddd")) -> WED | E4: =UPPER(TEXT(E5,"ddd")) -> THU | H4: =UPPER(TEXT(H5,"ddd")) -> FRI | I4: =UPPER(TEXT(I5,"ddd")) -> SAT | J4: =UPPER(TEXT(J5,"ddd")) -> SUN
B5: =$B$2-(WEEKDAY($B$2,1)-(start_day-1))-IF((WEEKDAY($B$2,1)-(start_day-1))<=0,7,0)+1 -> 46265 | C5: =B5+1 -> 46266 | D5: =C5+1 -> 46267 | E5: =D5+1 -> 46268 | H5: =E5+1 -> 46269 | I5: =H5+1 -> 46270 | J5: =I5+1 -> 46271
B6: =J5+1 -> 46272 | C6: =B6+1 -> 46273 | D6: =C6+1 -> 46274 | E6: =D6+1 -> 46275 | H6: =E6+1 -> 46276 | I6: =H6+1 -> 46277 | J6: =I6+1 -> 46278
B7: =J6+1 -> 46279 | C7: =B7+1 -> 46280 | D7: =C7+1 -> 46281 | E7: =D7+1 -> 46282 | H7: =E7+1 -> 46283 | I7: =H7+1 -> 46284 | J7: =I7+1 -> 46285
B8: =J7+1 -> 46286 | C8: =B8+1 -> 46287 | D8: =C8+1 -> 46288 | E8: =D8+1 -> 46289 | H8: =E8+1 -> 46290 | I8: =H8+1 -> 46291 | J8: =I8+1 -> 46292
B9: =J8+1 -> 46293 | C9: =B9+1 -> 46294 | D9: =C9+1 -> 46295 | E9: =D9+1 -> 46296 | H9: =E9+1 -> 46297 | I9: =H9+1 -> 46298 | J9: =I9+1 -> 46299
B10: =J9+1 -> 46300 | C10: =B10+1 -> 46301 | D10: =C10+1 -> 46302 | E10: =D10+1 -> 46303 | H10: =E10+1 -> 46304 | I10: =H10+1 -> 46305 | J10: =I10+1 -> 46306
B12: To Do | G12: Notes

Sheet October
B2: =UPPER(TEXT(DATE(About!Q7,About!Q9+9,1),"mmmm yyyy")) -> OCTOBER 2026
B4: =UPPER(TEXT(B5,"ddd")) -> MON | C4: =UPPER(TEXT(C5,"ddd")) -> TUE | D4: =UPPER(TEXT(D5,"ddd")) -> WED | E4: =UPPER(TEXT(E5,"ddd")) -> THU | H4: =UPPER(TEXT(H5,"ddd")) -> FRI | I4: =UPPER(TEXT(I5,"ddd")) -> SAT | J4: =UPPER(TEXT(J5,"ddd")) -> SUN
B5: =$B$2-(WEEKDAY($B$2,1)-(start_day-1))-IF((WEEKDAY($B$2,1)-(start_day-1))<=0,7,0)+1 -> 46293 | C5: =B5+1 -> 46294 | D5: =C5+1 -> 46295 | E5: =D5+1 -> 46296 | H5: =E5+1 -> 46297 | I5: =H5+1 -> 46298 | J5: =I5+1 -> 46299
B6: =J5+1 -> 46300 | C6: =B6+1 -> 46301 | D6: =C6+1 -> 46302 | E6: =D6+1 -> 46303 | H6: =E6+1 -> 46304 | I6: =H6+1 -> 46305 | J6: =I6+1 -> 46306
B7: =J6+1 -> 46307 | C7: =B7+1 -> 46308 | D7: =C7+1 -> 46309 | E7: =D7+1 -> 46310 | H7: =E7+1 -> 46311 | I7: =H7+1 -> 46312 | J7: =I7+1 -> 46313
B8: =J7+1 -> 46314 | C8: =B8+1 -> 46315 | D8: =C8+1 -> 46316 | E8: =D8+1 -> 46317 | H8: =E8+1 -> 46318 | I8: =H8+1 -> 46319 | J8: =I8+1 -> 46320
B9: =J8+1 -> 46321 | C9: =B9+1 -> 46322 | D9: =C9+1 -> 46323 | E9: =D9+1 -> 46324 | H9: =E9+1 -> 46325 | I9: =H9+1 -> 46326 | J9: =I9+1 -> 46327
B10: =J9+1 -> 46328 | C10: =B10+1 -> 46329 | D10: =C10+1 -> 46330 | E10: =D10+1 -> 46331 | H10: =E10+1 -> 46332 | I10: =H10+1 -> 46333 | J10: =I10+1 -> 46334
B12: To Do | G12: Notes

Sheet November
B2: =UPPER(TEXT(DATE(About!Q7,About!Q9+10,1),"mmmm yyyy")) -> NOVEMBER 2026
B4: =UPPER(TEXT(B5,"ddd")) -> MON | C4: =UPPER(TEXT(C5,"ddd")) -> TUE | D4: =UPPER(TEXT(D5,"ddd")) -> WED | E4: =UPPER(TEXT(E5,"ddd")) -> THU | H4: =UPPER(TEXT(H5,"ddd")) -> FRI | I4: =UPPER(TEXT(I5,"ddd")) -> SAT | J4: =UPPER(TEXT(J5,"ddd")) -> SUN
B5: =$B$2-(WEEKDAY($B$2,1)-(start_day-1))-IF((WEEKDAY($B$2,1)-(start_day-1))<=0,7,0)+1 -> 46321 | C5: =B5+1 -> 46322 | D5: =C5+1 -> 46323 | E5: =D5+1 -> 46324 | H5: =E5+1 -> 46325 | I5: =H5+1 -> 46326 | J5: =I5+1 -> 46327
B6: =J5+1 -> 46328 | C6: =B6+1 -> 46329 | D6: =C6+1 -> 46330 | E6: =D6+1 -> 46331 | H6: =E6+1 -> 46332 | I6: =H6+1 -> 46333 | J6: =I6+1 -> 46334
B7: =J6+1 -> 46335 | C7: =B7+1 -> 46336 | D7: =C7+1 -> 46337 | E7: =D7+1 -> 46338 | H7: =E7+1 -> 46339 | I7: =H7+1 -> 46340 | J7: =I7+1 -> 46341
B8: =J7+1 -> 46342 | C8: =B8+1 -> 46343 | D8: =C8+1 -> 46344 | E8: =D8+1 -> 46345 | H8: =E8+1 -> 46346 | I8: =H8+1 -> 46347 | J8: =I8+1 -> 46348
B9: =J8+1 -> 46349 | C9: =B9+1 -> 46350 | D9: =C9+1 -> 46351 | E9: =D9+1 -> 46352 | H9: =E9+1 -> 46353 | I9: =H9+1 -> 46354 | J9: =I9+1 -> 46355
B10: =J9+1 -> 46356 | C10: =B10+1 -> 46357 | D10: =C10+1 -> 46358 | E10: =D10+1 -> 46359 | H10: =E10+1 -> 46360 | I10: =H10+1 -> 46361 | J10: =I10+1 -> 46362
B12: To Do | G12: Notes

Sheet December
B2: =UPPER(TEXT(DATE(About!Q7,About!Q9+11,1),"mmmm yyyy")) -> DECEMBER 2026
B4: =UPPER(TEXT(B5,"ddd")) -> MON | C4: =UPPER(TEXT(C5,"ddd")) -> TUE | D4: =UPPER(TEXT(D5,"ddd")) -> WED | E4: =UPPER(TEXT(E5,"ddd")) -> THU | H4: =UPPER(TEXT(H5,"ddd")) -> FRI | I4: =UPPER(TEXT(I5,"ddd")) -> SAT | J4: =UPPER(TEXT(J5,"ddd")) -> SUN
B5: =$B$2-(WEEKDAY($B$2,1)-(start_day-1))-IF((WEEKDAY($B$2,1)-(start_day-1))<=0,7,0)+1 -> 46356 | C5: =B5+1 -> 46357 | D5: =C5+1 -> 46358 | E5: =D5+1 -> 46359 | H5: =E5+1 -> 46360 | I5: =H5+1 -> 46361 | J5: =I5+1 -> 46362
B6: =J5+1 -> 46363 | C6: =B6+1 -> 46364 | D6: =C6+1 -> 46365 | E6: =D6+1 -> 46366 | H6: =E6+1 -> 46367 | I6: =H6+1 -> 46368 | J6: =I6+1 -> 46369
B7: =J6+1 -> 46370 | C7: =B7+1 -> 46371 | D7: =C7+1 -> 46372 | E7: =D7+1 -> 46373 | H7: =E7+1 -> 46374 | I7: =H7+1 -> 46375 | J7: =I7+1 -> 46376
B8: =J7+1 -> 46377 | C8: =B8+1 -> 46378 | D8: =C8+1 -> 46379 | E8: =D8+1 -> 46380 | H8: =E8+1 -> 46381 | I8: =H8+1 -> 46382 | J8: =I8+1 -> 46383
B9: =J8+1 -> 46384 | C9: =B9+1 -> 46385 | D9: =C9+1 -> 46386 | E9: =D9+1 -> 46387 | H9: =E9+1 -> 46388 | I9: =H9+1 -> 46389 | J9: =I9+1 -> 46390
B10: =J9+1 -> 46391 | C10: =B10+1 -> 46392 | D10: =C10+1 -> 46393 | E10: =D10+1 -> 46394 | H10: =E10+1 -> 46395 | I10: =H10+1 -> 46396 | J10: =I10+1 -> 46397
B12: To Do | G12: Notes
