Workbook
Name start_day: About!$Q$12

Sheet About
B2: How to Use This Template
N4: Time Entry
C5: Step 1: | E5: Enter the Year and Start Month
C7: Step 2: | E7: Choose the Start Day
O8: Year | Q8: 2026
C9: Step 3: | E9: Customize the Theme Colors / Fonts
E10: Go to Page Layout > Themes to choose different colors and fonts. | O10: Start Month | Q10: 1
C12: Step 4: | E12: Print to Paper or PDF | O12: Start Day of Week | Q12: 1
E13: Print the entire workbook, or print only the selected worksheets.

Sheet January
C2: =DATE(About!Q8,About!Q10,1) -> 46023
C4: =C5 -> 46019 | E4: =E5 -> 46020 | G4: =G5 -> 46021 | I4: =I5 -> 46022 | K4: =K5 -> 46023 | O4: =O5 -> 46024 | W4: =W5 -> 46025
C5: =$C$2-(WEEKDAY($C$2,1)-(start_day-1))-IF((WEEKDAY($C$2,1)-(start_day-1))<=0,7,0)+1 -> 46019 | E5: =C5+1 -> 46020 | G5: =E5+1 -> 46021 | I5: =G5+1 -> 46022 | K5: =I5+1 -> 46023 | O5: =K5+1 -> 46024 | W5: =O5+1 -> 46025
C7: =W5+1 -> 46026
E8: =C7+1 -> 46027 | G8: =E8+1 -> 46028 | I8: =G8+1 -> 46029 | K8: =I8+1 -> 46030 | O8: =K8+1 -> 46031 | W8: =O8+1 -> 46032
C10: =W8+1 -> 46033
E11: =C10+1 -> 46034 | G11: =E11+1 -> 46035 | I11: =G11+1 -> 46036 | K11: =I11+1 -> 46037 | O11: =K11+1 -> 46038 | W11: =O11+1 -> 46039
C13: =W11+1 -> 46040
E14: =C13+1 -> 46041 | G14: =E14+1 -> 46042 | I14: =G14+1 -> 46043 | K14: =I14+1 -> 46044 | O14: =K14+1 -> 46045 | W14: =O14+1 -> 46046
C16: =W14+1 -> 46047
E17: =C16+1 -> 46048 | G17: =E17+1 -> 46049 | I17: =G17+1 -> 46050 | K17: =I17+1 -> 46051 | O17: =K17+1 -> 46052 | W17: =O17+1 -> 46053
C19: =W17+1 -> 46054
E20: =C19+1 -> 46055 | G20: =E20+1 -> 46056 | I20: =G20+1 -> 46057 | K20: =I20+1 -> 46058 | O20: =K20+1 -> 46059 | W20: =O20+1 -> 46060
C25: Notes | O25: =DATE(YEAR(C2),MONTH(C2)-1,1) -> 45992 | X25: =DATE(YEAR(C2),MONTH(C2)+1,1) -> 46054
O26: {=INDEX({"S";"M";"T";"W";"T";"F";"S"},1+MOD(start_day+1-2,7))} -> S | P26: {=INDEX({"S";"M";"T";"W";"T";"F";"S"},1+MOD(start_day+2-2,7))} -> M | Q26: {=INDEX({"S";"M";"T";"W";"T";"F";"S"},1+MOD(start_day+3-2,7))} -> T | R26: {=INDEX({"S";"M";"T";"W";"T";"F";"S"},1+MOD(start_day+4-2,7))} -> W | S26: {=INDEX({"S";"M";"T";"W";"T";"F";"S"},1+MOD(start_day+5-2,7))} -> T | T26: {=INDEX({"S";"M";"T";"W";"T";"F";"S"},1+MOD(start_day+6-2,7))} -> F | U26: {=INDEX({"S";"M";"T";"W";"T";"F";"S"},1+MOD(start_day+7-2,7))} -> S | X26: {=INDEX({"S";"M";"T";"W";"T";"F";"S"},1+MOD(start_day+1-2,7))} -> S | Y26: {=INDEX({"S";"M";"T";"W";"T";"F";"S"},1+MOD(start_day+2-2,7))} -> M | Z26: {=INDEX({"S";"M";"T";"W";"T";"F";"S"},1+MOD(start_day+3-2,7))} -> T | AA26: {=INDEX({"S";"M";"T";"W";"T";"F";"S"},1+MOD(start_day+4-2,7))} -> W | AB26: {=INDEX({"S";"M";"T";"W";"T";"F";"S"},1+MOD(start_day+5-2,7))} -> T | AC26: {=INDEX({"S";"M";"T";"W";"T";"F";"S"},1+MOD(start_day+6-2,7))} -> F | AD26: {=INDEX({"S";"M";"T";"W";"T";"F";"S"},1+MOD(start_day+7-2,7))} -> S
O27: =IF(MONTH($O$25)<>MONTH($O$25-(WEEKDAY($O$25,1)-(start_day-1))-IF((WEEKDAY($O$25,1)-(start_day-1))<=0,7,0)+(ROW(O27)-ROW($O$27))*7+(COLUMN(O27)-COLUMN($O$27)+1)),"",$O$25-(WEEKDAY($O$25,1)-(start_day-1))-IF((WEEKDAY($O$25,1)-(start_day-1))<=0,7,0)+(ROW(O27)-ROW($O$27))*7+(COLUMN(O27)-COLUMN($O$27)+1)) | P27: =IF(MONTH($O$25)<>MONTH($O$25-(WEEKDAY($O$25,1)-(start_day-1))-IF((WEEKDAY($O$25,1)-(start_day-1))<=0,7,0)+(ROW(P27)-ROW($O$27))*7+(COLUMN(P27)-COLUMN($O$27)+1)),"",$O$25-(WEEKDAY($O$25,1)-(start_day-1))-IF((WEEKDAY($O$25,1)-(start_day-1))<=0,7,0)+(ROW(P27)-ROW($O$27))*7+(COLUMN(P27)-COLUMN($O$27)+1)) -> 45992 | Q27: =IF(MONTH($O$25)<>MONTH($O$25-(WEEKDAY($O$25,1)-(start_day-1))-IF((WEEKDAY($O$25,1)-(start_day-1))<=0,7,0)+(ROW(Q27)-ROW($O$27))*7+(COLUMN(Q27)-COLUMN($O$27)+1)),"",$O$25-(WEEKDAY($O$25,1)-(start_day-1))-IF((WEEKDAY($O$25,1)-(start_day-1))<=0,7,0)+(ROW(Q27)-ROW($O$27))*7+(COLUMN(Q27)-COLUMN($O$27)+1)) -> 45993 | R27: =IF(MONTH($O$25)<>MONTH($O$25-(WEEKDAY($O$25,1)-(start_day-1))-IF((WEEKDAY($O$25,1)-(start_day-1))<=0,7,0)+(ROW(R27)-ROW($O$27))*7+(COLUMN(R27)-COLUMN($O$27)+1)),"",$O$25-(WEEKDAY($O$25,1)-(start_day-1))-IF((WEEKDAY($O$25,1)-(start_day-1))<=0,7,0)+(ROW(R27)-ROW($O$27))*7+(COLUMN(R27)-COLUMN($O$27)+1)) -> 45994 | S27: =IF(MONTH($O$25)<>MONTH($O$25-(WEEKDAY($O$25,1)-(start_day-1))-IF((WEEKDAY($O$25,1)-(start_day-1))<=0,7,0)+(ROW(S27)-ROW($O$27))*7+(COLUMN(S27)-COLUMN($O$27)+1)),"",$O$25-(WEEKDAY($O$25,1)-(start_day-1))-IF((WEEKDAY($O$25,1)-(start_day-1))<=0,7,0)+(ROW(S27)-ROW($O$27))*7+(COLUMN(S27)-COLUMN($O$27)+1)) -> 45995 | T27: =IF(MONTH($O$25)<>MONTH($O$25-(WEEKDAY($O$25,1)-(start_day-1))-IF((WEEKDAY($O$25,1)-(start_day-1))<=0,7,0)+(ROW(T27)-ROW($O$27))*7+(COLUMN(T27)-COLUMN($O$27)+1)),"",$O$25-(WEEKDAY($O$25,1)-(start_day-1))-IF((WEEKDAY($O$25,1)-(start_day-1))<=0,7,0)+(ROW(T27)-ROW($O$27))*7+(COLUMN(T27)-COLUMN($O$27)+1)) -> 45996 | U27: =IF(MONTH($O$25)<>MONTH($O$25-(WEEKDAY($O$25,1)-(start_day-1))-IF((WEEKDAY($O$25,1)-(start_day-1))<=0,7,0)+(ROW(U27)-ROW($O$27))*7+(COLUMN(U27)-COLUMN($O$27)+1)),"",$O$25-(WEEKDAY($O$25,1)-(start_day-1))-IF((WEEKDAY($O$25,1)-(start_day-1))<=0,7,0)+(ROW(U27)-ROW($O$27))*7+(COLUMN(U27)-COLUMN($O$27)+1)) -> 45997 | X27: =IF(MONTH($X$25)<>MONTH($X$25-(WEEKDAY($X$25,1)-(start_day-1))-IF((WEEKDAY($X$25,1)-(start_day-1))<=0,7,0)+(ROW(X27)-ROW($X$27))*7+(COLUMN(X27)-COLUMN($X$27)+1)),"",$X$25-(WEEKDAY($X$25,1)-(start_day-1))-IF((WEEKDAY($X$25,1)-(start_day-1))<=0,7,0)+(ROW(X27)-ROW($X$27))*7+(COLUMN(X27)-COLUMN($X$27)+1)) -> 46054 | Y27: =IF(MONTH($X$25)<>MONTH($X$25-(WEEKDAY($X$25,1)-(start_day-1))-IF((WEEKDAY($X$25,1)-(start_day-1))<=0,7,0)+(ROW(Y27)-ROW($X$27))*7+(COLUMN(Y27)-COLUMN($X$27)+1)),"",$X$25-(WEEKDAY($X$25,1)-(start_day-1))-IF((WEEKDAY($X$25,1)-(start_day-1))<=0,7,0)+(ROW(Y27)-ROW($X$27))*7+(COLUMN(Y27)-COLUMN($X$27)+1)) -> 46055 | Z27: =IF(MONTH($X$25)<>MONTH($X$25-(WEEKDAY($X$25,1)-(start_day-1))-IF((WEEKDAY($X$25,1)-(start_day-1))<=0,7,0)+(ROW(Z27)-ROW($X$27))*7+(COLUMN(Z27)-COLUMN($X$27)+1)),"",$X$25-(WEEKDAY($X$25,1)-(start_day-1))-IF((WEEKDAY($X$25,1)-(start_day-1))<=0,7,0)+(ROW(Z27)-ROW($X$27))*7+(COLUMN(Z27)-COLUMN($X$27)+1)) -> 46056 | AA27: =IF(MONTH($X$25)<>MONTH($X$25-(WEEKDAY($X$25,1)-(start_day-1))-IF((WEEKDAY($X$25,1)-(start_day-1))<=0,7,0)+(ROW(AA27)-ROW($X$27))*7+(COLUMN(AA27)-COLUMN($X$27)+1)),"",$X$25-(WEEKDAY($X$25,1)-(start_day-1))-IF((WEEKDAY($X$25,1)-(start_day-1))<=0,7,0)+(ROW(AA27)-ROW($X$27))*7+(COLUMN(AA27)-COLUMN($X$27)+1)) -> 46057 | AB27: =IF(MONTH($X$25)<>MONTH($X$25-(WEEKDAY($X$25,1)-(start_day-1))-IF((WEEKDAY($X$25,1)-(start_day-1))<=0,7,0)+(ROW(AB27)-ROW($X$27))*7+(COLUMN(AB27)-COLUMN($X$27)+1)),"",$X$25-(WEEKDAY($X$25,1)-(start_day-1))-IF((WEEKDAY($X$25,1)-(start_day-1))<=0,7,0)+(ROW(AB27)-ROW($X$27))*7+(COLUMN(AB27)-COLUMN($X$27)+1)) -> 46058 | AC27: =IF(MONTH($X$25)<>MONTH($X$25-(WEEKDAY($X$25,1)-(start_day-1))-IF((WEEKDAY($X$25,1)-(start_day-1))<=0,7,0)+(ROW(AC27)-ROW($X$27))*7+(COLUMN(AC27)-COLUMN($X$27)+1)),"",$X$25-(WEEKDAY($X$25,1)-(start_day-1))-IF((WEEKDAY($X$25,1)-(start_day-1))<=0,7,0)+(ROW(AC27)-ROW($X$27))*7+(COLUMN(AC27)-COLUMN($X$27)+1)) -> 46059 | AD27: =IF(MONTH($X$25)<>MONTH($X$25-(WEEKDAY($X$25,1)-(start_day-1))-IF((WEEKDAY($X$25,1)-(start_day-1))<=0,7,0)+(ROW(AD27)-ROW($X$27))*7+(COLUMN(AD27)-COLUMN($X$27)+1)),"",$X$25-(WEEKDAY($X$25,1)-(start_day-1))-IF((WEEKDAY($X$25,1)-(start_day-1))<=0,7,0)+(ROW(AD27)-ROW($X$27))*7+(COLUMN(AD27)-COLUMN($X$27)+1)) -> 46060
O28: =IF(MONTH($O$25)<>MONTH($O$25-(WEEKDAY($O$25,1)-(start_day-1))-IF((WEEKDAY($O$25,1)-(start_day-1))<=0,7,0)+(ROW(O28)-ROW($O$27))*7+(COLUMN(O28)-COLUMN($O$27)+1)),"",$O$25-(WEEKDAY($O$25,1)-(start_day-1))-IF((WEEKDAY($O$25,1)-(start_day-1))<=0,7,0)+(ROW(O28)-ROW($O$27))*7+(COLUMN(O28)-COLUMN($O$27)+1)) -> 45998 | P28: =IF(MONTH($O$25)<>MONTH($O$25-(WEEKDAY($O$25,1)-(start_day-1))-IF((WEEKDAY($O$25,1)-(start_day-1))<=0,7,0)+(ROW(P28)-ROW($O$27))*7+(COLUMN(P28)-COLUMN($O$27)+1)),"",$O$25-(WEEKDAY($O$25,1)-(start_day-1))-IF((WEEKDAY($O$25,1)-(start_day-1))<=0,7,0)+(ROW(P28)-ROW($O$27))*7+(COLUMN(P28)-COLUMN($O$27)+1)) -> 45999 | Q28: =IF(MONTH($O$25)<>MONTH($O$25-(WEEKDAY($O$25,1)-(start_day-1))-IF((WEEKDAY($O$25,1)-(start_day-1))<=0,7,0)+(ROW(Q28)-ROW($O$27))*7+(COLUMN(Q28)-COLUMN($O$27)+1)),"",$O$25-(WEEKDAY($O$25,1)-(start_day-1))-IF((WEEKDAY($O$25,1)-(start_day-1))<=0,7,0)+(ROW(Q28)-ROW($O$27))*7+(COLUMN(Q28)-COLUMN($O$27)+1)) -> 46000 | R28: =IF(MONTH($O$25)<>MONTH($O$25-(WEEKDAY($O$25,1)-(start_day-1))-IF((WEEKDAY($O$25,1)-(start_day-1))<=0,7,0)+(ROW(R28)-ROW($O$27))*7+(COLUMN(R28)-COLUMN($O$27)+1)),"",$O$25-(WEEKDAY($O$25,1)-(start_day-1))-IF((WEEKDAY($O$25,1)-(start_day-1))<=0,7,0)+(ROW(R28)-ROW($O$27))*7+(COLUMN(R28)-COLUMN($O$27)+1)) -> 46001 | S28: =IF(MONTH($O$25)<>MONTH($O$25-(WEEKDAY($O$25,1)-(start_day-1))-IF((WEEKDAY($O$25,1)-(start_day-1))<=0,7,0)+(ROW(S28)-ROW($O$27))*7+(COLUMN(S28)-COLUMN($O$27)+1)),"",$O$25-(WEEKDAY($O$25,1)-(start_day-1))-IF((WEEKDAY($O$25,1)-(start_day-1))<=0,7,0)+(ROW(S28)-ROW($O$27))*7+(COLUMN(S28)-COLUMN($O$27)+1)) -> 46002 | T28: =IF(MONTH($O$25)<>MONTH($O$25-(WEEKDAY($O$25,1)-(start_day-1))-IF((WEEKDAY($O$25,1)-(start_day-1))<=0,7,0)+(ROW(T28)-ROW($O$27))*7+(COLUMN(T28)-COLUMN($O$27)+1)),"",$O$25-(WEEKDAY($O$25,1)-(start_day-1))-IF((WEEKDAY($O$25,1)-(start_day-1))<=0,7,0)+(ROW(T28)-ROW($O$27))*7+(COLUMN(T28)-COLUMN($O$27)+1)) -> 46003 | U28: =IF(MONTH($O$25)<>MONTH($O$25-(WEEKDAY($O$25,1)-(start_day-1))-IF((WEEKDAY($O$25,1)-(start_day-1))<=0,7,0)+(ROW(U28)-ROW($O$27))*7+(COLUMN(U28)-COLUMN($O$27)+1)),"",$O$25-(WEEKDAY($O$25,1)-(start_day-1))-IF((WEEKDAY($O$25,1)-(start_day-1))<=0,7,0)+(ROW(U28)-ROW($O$27))*7+(COLUMN(U28)-COLUMN($O$27)+1)) -> 46004 | X28: =IF(MONTH($X$25)<>MONTH($X$25-(WEEKDAY($X$25,1)-(start_day-1))-IF((WEEKDAY($X$25,1)-(start_day-1))<=0,7,0)+(ROW(X28)-ROW($X$27))*7+(COLUMN(X28)-COLUMN($X$27)+1)),"",$X$25-(WEEKDAY($X$25,1)-(start_day-1))-IF((WEEKDAY($X$25,1)-(start_day-1))<=0,7,0)+(ROW(X28)-ROW($X$27))*7+(COLUMN(X28)-COLUMN($X$27)+1)) -> 46061 | Y28: =IF(MONTH($X$25)<>MONTH($X$25-(WEEKDAY($X$25,1)-(start_day-1))-IF((WEEKDAY($X$25,1)-(start_day-1))<=0,7,0)+(ROW(Y28)-ROW($X$27))*7+(COLUMN(Y28)-COLUMN($X$27)+1)),"",$X$25-(WEEKDAY($X$25,1)-(start_day-1))-IF((WEEKDAY($X$25,1)-(start_day-1))<=0,7,0)+(ROW(Y28)-ROW($X$27))*7+(COLUMN(Y28)-COLUMN($X$27)+1)) -> 46062 | Z28: =IF(MONTH($X$25)<>MONTH($X$25-(WEEKDAY($X$25,1)-(start_day-1))-IF((WEEKDAY($X$25,1)-(start_day-1))<=0,7,0)+(ROW(Z28)-ROW($X$27))*7+(COLUMN(Z28)-COLUMN($X$27)+1)),"",$X$25-(WEEKDAY($X$25,1)-(start_day-1))-IF((WEEKDAY($X$25,1)-(start_day-1))<=0,7,0)+(ROW(Z28)-ROW($X$27))*7+(COLUMN(Z28)-COLUMN($X$27)+1)) -> 46063 | AA28: =IF(MONTH($X$25)<>MONTH($X$25-(WEEKDAY($X$25,1)-(start_day-1))-IF((WEEKDAY($X$25,1)-(start_day-1))<=0,7,0)+(ROW(AA28)-ROW($X$27))*7+(COLUMN(AA28)-COLUMN($X$27)+1)),"",$X$25-(WEEKDAY($X$25,1)-(start_day-1))-IF((WEEKDAY($X$25,1)-(start_day-1))<=0,7,0)+(ROW(AA28)-ROW($X$27))*7+(COLUMN(AA28)-COLUMN($X$27)+1)) -> 46064 | AB28: =IF(MONTH($X$25)<>MONTH($X$25-(WEEKDAY($X$25,1)-(start_day-1))-IF((WEEKDAY($X$25,1)-(start_day-1))<=0,7,0)+(ROW(AB28)-ROW($X$27))*7+(COLUMN(AB28)-COLUMN($X$27)+1)),"",$X$25-(WEEKDAY($X$25,1)-(start_day-1))-IF((WEEKDAY($X$25,1)-(start_day-1))<=0,7,0)+(ROW(AB28)-ROW($X$27))*7+(COLUMN(AB28)-COLUMN($X$27)+1)) -> 46065 | AC28: =IF(MONTH($X$25)<>MONTH($X$25-(WEEKDAY($X$25,1)-(start_day-1))-IF((WEEKDAY($X$25,1)-(start_day-1))<=0,7,0)+(ROW(AC28)-ROW($X$27))*7+(COLUMN(AC28)-COLUMN($X$27)+1)),"",$X$25-(WEEKDAY($X$25,1)-(start_day-1))-IF((WEEKDAY($X$25,1)-(start_day-1))<=0,7,0)+(ROW(AC28)-ROW($X$27))*7+(COLUMN(AC28)-COLUMN($X$27)+1)) -> 46066 | AD28: =IF(MONTH($X$25)<>MONTH($X$25-(WEEKDAY($X$25,1)-(start_day-1))-IF((WEEKDAY($X$25,1)-(start_day-1))<=0,7,0)+(ROW(AD28)-ROW($X$27))*7+(COLUMN(AD28)-COLUMN($X$27)+1)),"",$X$25-(WEEKDAY($X$25,1)-(start_day-1))-IF((WEEKDAY($X$25,1)-(start_day-1))<=0,7,0)+(ROW(AD28)-ROW($X$27))*7+(COLUMN(AD28)-COLUMN($X$27)+1)) -> 46067
O29: =IF(MONTH($O$25)<>MONTH($O$25-(WEEKDAY($O$25,1)-(start_day-1))-IF((WEEKDAY($O$25,1)-(start_day-1))<=0,7,0)+(ROW(O29)-ROW($O$27))*7+(COLUMN(O29)-COLUMN($O$27)+1)),"",$O$25-(WEEKDAY($O$25,1)-(start_day-1))-IF((WEEKDAY($O$25,1)-(start_day-1))<=0,7,0)+(ROW(O29)-ROW($O$27))*7+(COLUMN(O29)-COLUMN($O$27)+1)) -> 46005 | P29: =IF(MONTH($O$25)<>MONTH($O$25-(WEEKDAY($O$25,1)-(start_day-1))-IF((WEEKDAY($O$25,1)-(start_day-1))<=0,7,0)+(ROW(P29)-ROW($O$27))*7+(COLUMN(P29)-COLUMN($O$27)+1)),"",$O$25-(WEEKDAY($O$25,1)-(start_day-1))-IF((WEEKDAY($O$25,1)-(start_day-1))<=0,7,0)+(ROW(P29)-ROW($O$27))*7+(COLUMN(P29)-COLUMN($O$27)+1)) -> 46006 | Q29: =IF(MONTH($O$25)<>MONTH($O$25-(WEEKDAY($O$25,1)-(start_day-1))-IF((WEEKDAY($O$25,1)-(start_day-1))<=0,7,0)+(ROW(Q29)-ROW($O$27))*7+(COLUMN(Q29)-COLUMN($O$27)+1)),"",$O$25-(WEEKDAY($O$25,1)-(start_day-1))-IF((WEEKDAY($O$25,1)-(start_day-1))<=0,7,0)+(ROW(Q29)-ROW($O$27))*7+(COLUMN(Q29)-COLUMN($O$27)+1)) -> 46007 | R29: =IF(MONTH($O$25)<>MONTH($O$25-(WEEKDAY($O$25,1)-(start_day-1))-IF((WEEKDAY($O$25,1)-(start_day-1))<=0,7,0)+(ROW(R29)-ROW($O$27))*7+(COLUMN(R29)-COLUMN($O$27)+1)),"",$O$25-(WEEKDAY($O$25,1)-(start_day-1))-IF((WEEKDAY($O$25,1)-(start_day-1))<=0,7,0)+(ROW(R29)-ROW($O$27))*7+(COLUMN(R29)-COLUMN($O$27)+1)) -> 46008 | S29: =IF(MONTH($O$25)<>MONTH($O$25-(WEEKDAY($O$25,1)-(start_day-1))-IF((WEEKDAY($O$25,1)-(start_day-1))<=0,7,0)+(ROW(S29)-ROW($O$27))*7+(COLUMN(S29)-COLUMN($O$27)+1)),"",$O$25-(WEEKDAY($O$25,1)-(start_day-1))-IF((WEEKDAY($O$25,1)-(start_day-1))<=0,7,0)+(ROW(S29)-ROW($O$27))*7+(COLUMN(S29)-COLUMN($O$27)+1)) -> 46009 | T29: =IF(MONTH($O$25)<>MONTH($O$25-(WEEKDAY($O$25,1)-(start_day-1))-IF((WEEKDAY($O$25,1)-(start_day-1))<=0,7,0)+(ROW(T29)-ROW($O$27))*7+(COLUMN(T29)-COLUMN($O$27)+1)),"",$O$25-(WEEKDAY($O$25,1)-(start_day-1))-IF((WEEKDAY($O$25,1)-(start_day-1))<=0,7,0)+(ROW(T29)-ROW($O$27))*7+(COLUMN(T29)-COLUMN($O$27)+1)) -> 46010 | U29: =IF(MONTH($O$25)<>MONTH($O$25-(WEEKDAY($O$25,1)-(start_day-1))-IF((WEEKDAY($O$25,1)-(start_day-1))<=0,7,0)+(ROW(U29)-ROW($O$27))*7+(COLUMN(U29)-COLUMN($O$27)+1)),"",$O$25-(WEEKDAY($O$25,1)-(start_day-1))-IF((WEEKDAY($O$25,1)-(start_day-1))<=0,7,0)+(ROW(U29)-ROW($O$27))*7+(COLUMN(U29)-COLUMN($O$27)+1)) -> 46011 | X29: =IF(MONTH($X$25)<>MONTH($X$25-(WEEKDAY($X$25,1)-(start_day-1))-IF((WEEKDAY($X$25,1)-(start_day-1))<=0,7,0)+(ROW(X29)-ROW($X$27))*7+(COLUMN(X29)-COLUMN($X$27)+1)),"",$X$25-(WEEKDAY($X$25,1)-(start_day-1))-IF((WEEKDAY($X$25,1)-(start_day-1))<=0,7,0)+(ROW(X29)-ROW($X$27))*7+(COLUMN(X29)-COLUMN($X$27)+1)) -> 46068 | Y29: =IF(MONTH($X$25)<>MONTH($X$25-(WEEKDAY($X$25,1)-(start_day-1))-IF((WEEKDAY($X$25,1)-(start_day-1))<=0,7,0)+(ROW(Y29)-ROW($X$27))*7+(COLUMN(Y29)-COLUMN($X$27)+1)),"",$X$25-(WEEKDAY($X$25,1)-(start_day-1))-IF((WEEKDAY($X$25,1)-(start_day-1))<=0,7,0)+(ROW(Y29)-ROW($X$27))*7+(COLUMN(Y29)-COLUMN($X$27)+1)) -> 46069 | Z29: =IF(MONTH($X$25)<>MONTH($X$25-(WEEKDAY($X$25,1)-(start_day-1))-IF((WEEKDAY($X$25,1)-(start_day-1))<=0,7,0)+(ROW(Z29)-ROW($X$27))*7+(COLUMN(Z29)-COLUMN($X$27)+1)),"",$X$25-(WEEKDAY($X$25,1)-(start_day-1))-IF((WEEKDAY($X$25,1)-(start_day-1))<=0,7,0)+(ROW(Z29)-ROW($X$27))*7+(COLUMN(Z29)-COLUMN($X$27)+1)) -> 46070 | AA29: =IF(MONTH($X$25)<>MONTH($X$25-(WEEKDAY($X$25,1)-(start_day-1))-IF((WEEKDAY($X$25,1)-(start_day-1))<=0,7,0)+(ROW(AA29)-ROW($X$27))*7+(COLUMN(AA29)-COLUMN($X$27)+1)),"",$X$25-(WEEKDAY($X$25,1)-(start_day-1))-IF((WEEKDAY($X$25,1)-(start_day-1))<=0,7,0)+(ROW(AA29)-ROW($X$27))*7+(COLUMN(AA29)-COLUMN($X$27)+1)) -> 46071 | AB29: =IF(MONTH($X$25)<>MONTH($X$25-(WEEKDAY($X$25,1)-(start_day-1))-IF((WEEKDAY($X$25,1)-(start_day-1))<=0,7,0)+(ROW(AB29)-ROW($X$27))*7+(COLUMN(AB29)-COLUMN($X$27)+1)),"",$X$25-(WEEKDAY($X$25,1)-(start_day-1))-IF((WEEKDAY($X$25,1)-(start_day-1))<=0,7,0)+(ROW(AB29)-ROW($X$27))*7+(COLUMN(AB29)-COLUMN($X$27)+1)) -> 46072 | AC29: =IF(MONTH($X$25)<>MONTH($X$25-(WEEKDAY($X$25,1)-(start_day-1))-IF((WEEKDAY($X$25,1)-(start_day-1))<=0,7,0)+(ROW(AC29)-ROW($X$27))*7+(COLUMN(AC29)-COLUMN($X$27)+1)),"",$X$25-(WEEKDAY($X$25,1)-(start_day-1))-IF((WEEKDAY($X$25,1)-(start_day-1))<=0,7,0)+(ROW(AC29)-ROW($X$27))*7+(COLUMN(AC29)-COLUMN($X$27)+1)) -> 46073 | AD29: =IF(MONTH($X$25)<>MONTH($X$25-(WEEKDAY($X$25,1)-(start_day-1))-IF((WEEKDAY($X$25,1)-(start_day-1))<=0,7,0)+(ROW(AD29)-ROW($X$27))*7+(COLUMN(AD29)-COLUMN($X$27)+1)),"",$X$25-(WEEKDAY($X$25,1)-(start_day-1))-IF((WEEKDAY($X$25,1)-(start_day-1))<=0,7,0)+(ROW(AD29)-ROW($X$27))*7+(COLUMN(AD29)-COLUMN($X$27)+1)) -> 46074
O30: =IF(MONTH($O$25)<>MONTH($O$25-(WEEKDAY($O$25,1)-(start_day-1))-IF((WEEKDAY($O$25,1)-(start_day-1))<=0,7,0)+(ROW(O30)-ROW($O$27))*7+(COLUMN(O30)-COLUMN($O$27)+1)),"",$O$25-(WEEKDAY($O$25,1)-(start_day-1))-IF((WEEKDAY($O$25,1)-(start_day-1))<=0,7,0)+(ROW(O30)-ROW($O$27))*7+(COLUMN(O30)-COLUMN($O$27)+1)) -> 46012 | P30: =IF(MONTH($O$25)<>MONTH($O$25-(WEEKDAY($O$25,1)-(start_day-1))-IF((WEEKDAY($O$25,1)-(start_day-1))<=0,7,0)+(ROW(P30)-ROW($O$27))*7+(COLUMN(P30)-COLUMN($O$27)+1)),"",$O$25-(WEEKDAY($O$25,1)-(start_day-1))-IF((WEEKDAY($O$25,1)-(start_day-1))<=0,7,0)+(ROW(P30)-ROW($O$27))*7+(COLUMN(P30)-COLUMN($O$27)+1)) -> 46013 | Q30: =IF(MONTH($O$25)<>MONTH($O$25-(WEEKDAY($O$25,1)-(start_day-1))-IF((WEEKDAY($O$25,1)-(start_day-1))<=0,7,0)+(ROW(Q30)-ROW($O$27))*7+(COLUMN(Q30)-COLUMN($O$27)+1)),"",$O$25-(WEEKDAY($O$25,1)-(start_day-1))-IF((WEEKDAY($O$25,1)-(start_day-1))<=0,7,0)+(ROW(Q30)-ROW($O$27))*7+(COLUMN(Q30)-COLUMN($O$27)+1)) -> 46014 | R30: =IF(MONTH($O$25)<>MONTH($O$25-(WEEKDAY($O$25,1)-(start_day-1))-IF((WEEKDAY($O$25,1)-(start_day-1))<=0,7,0)+(ROW(R30)-ROW($O$27))*7+(COLUMN(R30)-COLUMN($O$27)+1)),"",$O$25-(WEEKDAY($O$25,1)-(start_day-1))-IF((WEEKDAY($O$25,1)-(start_day-1))<=0,7,0)+(ROW(R30)-ROW($O$27))*7+(COLUMN(R30)-COLUMN($O$27)+1)) -> 46015 | S30: =IF(MONTH($O$25)<>MONTH($O$25-(WEEKDAY($O$25,1)-(start_day-1))-IF((WEEKDAY($O$25,1)-(start_day-1))<=0,7,0)+(ROW(S30)-ROW($O$27))*7+(COLUMN(S30)-COLUMN($O$27)+1)),"",$O$25-(WEEKDAY($O$25,1)-(start_day-1))-IF((WEEKDAY($O$25,1)-(start_day-1))<=0,7,0)+(ROW(S30)-ROW($O$27))*7+(COLUMN(S30)-COLUMN($O$27)+1)) -> 46016 | T30: =IF(MONTH($O$25)<>MONTH($O$25-(WEEKDAY($O$25,1)-(start_day-1))-IF((WEEKDAY($O$25,1)-(start_day-1))<=0,7,0)+(ROW(T30)-ROW($O$27))*7+(COLUMN(T30)-COLUMN($O$27)+1)),"",$O$25-(WEEKDAY($O$25,1)-(start_day-1))-IF((WEEKDAY($O$25,1)-(start_day-1))<=0,7,0)+(ROW(T30)-ROW($O$27))*7+(COLUMN(T30)-COLUMN($O$27)+1)) -> 46017 | U30: =IF(MONTH($O$25)<>MONTH($O$25-(WEEKDAY($O$25,1)-(start_day-1))-IF((WEEKDAY($O$25,1)-(start_day-1))<=0,7,0)+(ROW(U30)-ROW($O$27))*7+(COLUMN(U30)-COLUMN($O$27)+1)),"",$O$25-(WEEKDAY($O$25,1)-(start_day-1))-IF((WEEKDAY($O$25,1)-(start_day-1))<=0,7,0)+(ROW(U30)-ROW($O$27))*7+(COLUMN(U30)-COLUMN($O$27)+1)) -> 46018 | X30: =IF(MONTH($X$25)<>MONTH($X$25-(WEEKDAY($X$25,1)-(start_day-1))-IF((WEEKDAY($X$25,1)-(start_day-1))<=0,7,0)+(ROW(X30)-ROW($X$27))*7+(COLUMN(X30)-COLUMN($X$27)+1)),"",$X$25-(WEEKDAY($X$25,1)-(start_day-1))-IF((WEEKDAY($X$25,1)-(start_day-1))<=0,7,0)+(ROW(X30)-ROW($X$27))*7+(COLUMN(X30)-COLUMN($X$27)+1)) -> 46075 | Y30: =IF(MONTH($X$25)<>MONTH($X$25-(WEEKDAY($X$25,1)-(start_day-1))-IF((WEEKDAY($X$25,1)-(start_day-1))<=0,7,0)+(ROW(Y30)-ROW($X$27))*7+(COLUMN(Y30)-COLUMN($X$27)+1)),"",$X$25-(WEEKDAY($X$25,1)-(start_day-1))-IF((WEEKDAY($X$25,1)-(start_day-1))<=0,7,0)+(ROW(Y30)-ROW($X$27))*7+(COLUMN(Y30)-COLUMN($X$27)+1)) -> 46076 | Z30: =IF(MONTH($X$25)<>MONTH($X$25-(WEEKDAY($X$25,1)-(start_day-1))-IF((WEEKDAY($X$25,1)-(start_day-1))<=0,7,0)+(ROW(Z30)-ROW($X$27))*7+(COLUMN(Z30)-COLUMN($X$27)+1)),"",$X$25-(WEEKDAY($X$25,1)-(start_day-1))-IF((WEEKDAY($X$25,1)-(start_day-1))<=0,7,0)+(ROW(Z30)-ROW($X$27))*7+(COLUMN(Z30)-COLUMN($X$27)+1)) -> 46077 | AA30: =IF(MONTH($X$25)<>MONTH($X$25-(WEEKDAY($X$25,1)-(start_day-1))-IF((WEEKDAY($X$25,1)-(start_day-1))<=0,7,0)+(ROW(AA30)-ROW($X$27))*7+(COLUMN(AA30)-COLUMN($X$27)+1)),"",$X$25-(WEEKDAY($X$25,1)-(start_day-1))-IF((WEEKDAY($X$25,1)-(start_day-1))<=0,7,0)+(ROW(AA30)-ROW($X$27))*7+(COLUMN(AA30)-COLUMN($X$27)+1)) -> 46078 | AB30: =IF(MONTH($X$25)<>MONTH($X$25-(WEEKDAY($X$25,1)-(start_day-1))-IF((WEEKDAY($X$25,1)-(start_day-1))<=0,7,0)+(ROW(AB30)-ROW($X$27))*7+(COLUMN(AB30)-COLUMN($X$27)+1)),"",$X$25-(WEEKDAY($X$25,1)-(start_day-1))-IF((WEEKDAY($X$25,1)-(start_day-1))<=0,7,0)+(ROW(AB30)-ROW($X$27))*7+(COLUMN(AB30)-COLUMN($X$27)+1)) -> 46079 | AC30: =IF(MONTH($X$25)<>MONTH($X$25-(WEEKDAY($X$25,1)-(start_day-1))-IF((WEEKDAY($X$25,1)-(start_day-1))<=0,7,0)+(ROW(AC30)-ROW($X$27))*7+(COLUMN(AC30)-COLUMN($X$27)+1)),"",$X$25-(WEEKDAY($X$25,1)-(start_day-1))-IF((WEEKDAY($X$25,1)-(start_day-1))<=0,7,0)+(ROW(AC30)-ROW($X$27))*7+(COLUMN(AC30)-COLUMN($X$27)+1)) -> 46080 | AD30: =IF(MONTH($X$25)<>MONTH($X$25-(WEEKDAY($X$25,1)-(start_day-1))-IF((WEEKDAY($X$25,1)-(start_day-1))<=0,7,0)+(ROW(AD30)-ROW($X$27))*7+(COLUMN(AD30)-COLUMN($X$27)+1)),"",$X$25-(WEEKDAY($X$25,1)-(start_day-1))-IF((WEEKDAY($X$25,1)-(start_day-1))<=0,7,0)+(ROW(AD30)-ROW($X$27))*7+(COLUMN(AD30)-COLUMN($X$27)+1)) -> 46081
O31: =IF(MONTH($O$25)<>MONTH($O$25-(WEEKDAY($O$25,1)-(start_day-1))-IF((WEEKDAY($O$25,1)-(start_day-1))<=0,7,0)+(ROW(O31)-ROW($O$27))*7+(COLUMN(O31)-COLUMN($O$27)+1)),"",$O$25-(WEEKDAY($O$25,1)-(start_day-1))-IF((WEEKDAY($O$25,1)-(start_day-1))<=0,7,0)+(ROW(O31)-ROW($O$27))*7+(COLUMN(O31)-COLUMN($O$27)+1)) -> 46019 | P31: =IF(MONTH($O$25)<>MONTH($O$25-(WEEKDAY($O$25,1)-(start_day-1))-IF((WEEKDAY($O$25,1)-(start_day-1))<=0,7,0)+(ROW(P31)-ROW($O$27))*7+(COLUMN(P31)-COLUMN($O$27)+1)),"",$O$25-(WEEKDAY($O$25,1)-(start_day-1))-IF((WEEKDAY($O$25,1)-(start_day-1))<=0,7,0)+(ROW(P31)-ROW($O$27))*7+(COLUMN(P31)-COLUMN($O$27)+1)) -> 46020 | Q31: =IF(MONTH($O$25)<>MONTH($O$25-(WEEKDAY($O$25,1)-(start_day-1))-IF((WEEKDAY($O$25,1)-(start_day-1))<=0,7,0)+(ROW(Q31)-ROW($O$27))*7+(COLUMN(Q31)-COLUMN($O$27)+1)),"",$O$25-(WEEKDAY($O$25,1)-(start_day-1))-IF((WEEKDAY($O$25,1)-(start_day-1))<=0,7,0)+(ROW(Q31)-ROW($O$27))*7+(COLUMN(Q31)-COLUMN($O$27)+1)) -> 46021 | R31: =IF(MONTH($O$25)<>MONTH($O$25-(WEEKDAY($O$25,1)-(start_day-1))-IF((WEEKDAY($O$25,1)-(start_day-1))<=0,7,0)+(ROW(R31)-ROW($O$27))*7+(COLUMN(R31)-COLUMN($O$27)+1)),"",$O$25-(WEEKDAY($O$25,1)-(start_day-1))-IF((WEEKDAY($O$25,1)-(start_day-1))<=0,7,0)+(ROW(R31)-ROW($O$27))*7+(COLUMN(R31)-COLUMN($O$27)+1)) -> 46022 | S31: =IF(MONTH($O$25)<>MONTH($O$25-(WEEKDAY($O$25,1)-(start_day-1))-IF((WEEKDAY($O$25,1)-(start_day-1))<=0,7,0)+(ROW(S31)-ROW($O$27))*7+(COLUMN(S31)-COLUMN($O$27)+1)),"",$O$25-(WEEKDAY($O$25,1)-(start_day-1))-IF((WEEKDAY($O$25,1)-(start_day-1))<=0,7,0)+(ROW(S31)-ROW($O$27))*7+(COLUMN(S31)-COLUMN($O$27)+1)) | T31: =IF(MONTH($O$25)<>MONTH($O$25-(WEEKDAY($O$25,1)-(start_day-1))-IF((WEEKDAY($O$25,1)-(start_day-1))<=0,7,0)+(ROW(T31)-ROW($O$27))*7+(COLUMN(T31)-COLUMN($O$27)+1)),"",$O$25-(WEEKDAY($O$25,1)-(start_day-1))-IF((WEEKDAY($O$25,1)-(start_day-1))<=0,7,0)+(ROW(T31)-ROW($O$27))*7+(COLUMN(T31)-COLUMN($O$27)+1)) | U31: =IF(MONTH($O$25)<>MONTH($O$25-(WEEKDAY($O$25,1)-(start_day-1))-IF((WEEKDAY($O$25,1)-(start_day-1))<=0,7,0)+(ROW(U31)-ROW($O$27))*7+(COLUMN(U31)-COLUMN($O$27)+1)),"",$O$25-(WEEKDAY($O$25,1)-(start_day-1))-IF((WEEKDAY($O$25,1)-(start_day-1))<=0,7,0)+(ROW(U31)-ROW($O$27))*7+(COLUMN(U31)-COLUMN($O$27)+1)) | X31: =IF(MONTH($X$25)<>MONTH($X$25-(WEEKDAY($X$25,1)-(start_day-1))-IF((WEEKDAY($X$25,1)-(start_day-1))<=0,7,0)+(ROW(X31)-ROW($X$27))*7+(COLUMN(X31)-COLUMN($X$27)+1)),"",$X$25-(WEEKDAY($X$25,1)-(start_day-1))-IF((WEEKDAY($X$25,1)-(start_day-1))<=0,7,0)+(ROW(X31)-ROW($X$27))*7+(COLUMN(X31)-COLUMN($X$27)+1)) | Y31: =IF(MONTH($X$25)<>MONTH($X$25-(WEEKDAY($X$25,1)-(start_day-1))-IF((WEEKDAY($X$25,1)-(start_day-1))<=0,7,0)+(ROW(Y31)-ROW($X$27))*7+(COLUMN(Y31)-COLUMN($X$27)+1)),"",$X$25-(WEEKDAY($X$25,1)-(start_day-1))-IF((WEEKDAY($X$25,1)-(start_day-1))<=0,7,0)+(ROW(Y31)-ROW($X$27))*7+(COLUMN(Y31)-COLUMN($X$27)+1)) | Z31: =IF(MONTH($X$25)<>MONTH($X$25-(WEEKDAY($X$25,1)-(start_day-1))-IF((WEEKDAY($X$25,1)-(start_day-1))<=0,7,0)+(ROW(Z31)-ROW($X$27))*7+(COLUMN(Z31)-COLUMN($X$27)+1)),"",$X$25-(WEEKDAY($X$25,1)-(start_day-1))-IF((WEEKDAY($X$25,1)-(start_day-1))<=0,7,0)+(ROW(Z31)-ROW($X$27))*7+(COLUMN(Z31)-COLUMN($X$27)+1)) | AA31: =IF(MONTH($X$25)<>MONTH($X$25-(WEEKDAY($X$25,1)-(start_day-1))-IF((WEEKDAY($X$25,1)-(start_day-1))<=0,7,0)+(ROW(AA31)-ROW($X$27))*7+(COLUMN(AA31)-COLUMN($X$27)+1)),"",$X$25-(WEEKDAY($X$25,1)-(start_day-1))-IF((WEEKDAY($X$25,1)-(start_day-1))<=0,7,0)+(ROW(AA31)-ROW($X$27))*7+(COLUMN(AA31)-COLUMN($X$27)+1)) | AB31: =IF(MONTH($X$25)<>MONTH($X$25-(WEEKDAY($X$25,1)-(start_day-1))-IF((WEEKDAY($X$25,1)-(start_day-1))<=0,7,0)+(ROW(AB31)-ROW($X$27))*7+(COLUMN(AB31)-COLUMN($X$27)+1)),"",$X$25-(WEEKDAY($X$25,1)-(start_day-1))-IF((WEEKDAY($X$25,1)-(start_day-1))<=0,7,0)+(ROW(AB31)-ROW($X$27))*7+(COLUMN(AB31)-COLUMN($X$27)+1)) | AC31: =IF(MONTH($X$25)<>MONTH($X$25-(WEEKDAY($X$25,1)-(start_day-1))-IF((WEEKDAY($X$25,1)-(start_day-1))<=0,7,0)+(ROW(AC31)-ROW($X$27))*7+(COLUMN(AC31)-COLUMN($X$27)+1)),"",$X$25-(WEEKDAY($X$25,1)-(start_day-1))-IF((WEEKDAY($X$25,1)-(start_day-1))<=0,7,0)+(ROW(AC31)-ROW($X$27))*7+(COLUMN(AC31)-COLUMN($X$27)+1)) | AD31: =IF(MONTH($X$25)<>MONTH($X$25-(WEEKDAY($X$25,1)-(start_day-1))-IF((WEEKDAY($X$25,1)-(start_day-1))<=0,7,0)+(ROW(AD31)-ROW($X$27))*7+(COLUMN(AD31)-COLUMN($X$27)+1)),"",$X$25-(WEEKDAY($X$25,1)-(start_day-1))-IF((WEEKDAY($X$25,1)-(start_day-1))<=0,7,0)+(ROW(AD31)-ROW($X$27))*7+(COLUMN(AD31)-COLUMN($X$27)+1))
O32: =IF(MONTH($O$25)<>MONTH($O$25-(WEEKDAY($O$25,1)-(start_day-1))-IF((WEEKDAY($O$25,1)-(start_day-1))<=0,7,0)+(ROW(O32)-ROW($O$27))*7+(COLUMN(O32)-COLUMN($O$27)+1)),"",$O$25-(WEEKDAY($O$25,1)-(start_day-1))-IF((WEEKDAY($O$25,1)-(start_day-1))<=0,7,0)+(ROW(O32)-ROW($O$27))*7+(COLUMN(O32)-COLUMN($O$27)+1)) | P32: =IF(MONTH($O$25)<>MONTH($O$25-(WEEKDAY($O$25,1)-(start_day-1))-IF((WEEKDAY($O$25,1)-(start_day-1))<=0,7,0)+(ROW(P32)-ROW($O$27))*7+(COLUMN(P32)-COLUMN($O$27)+1)),"",$O$25-(WEEKDAY($O$25,1)-(start_day-1))-IF((WEEKDAY($O$25,1)-(start_day-1))<=0,7,0)+(ROW(P32)-ROW($O$27))*7+(COLUMN(P32)-COLUMN($O$27)+1)) | Q32: =IF(MONTH($O$25)<>MONTH($O$25-(WEEKDAY($O$25,1)-(start_day-1))-IF((WEEKDAY($O$25,1)-(start_day-1))<=0,7,0)+(ROW(Q32)-ROW($O$27))*7+(COLUMN(Q32)-COLUMN($O$27)+1)),"",$O$25-(WEEKDAY($O$25,1)-(start_day-1))-IF((WEEKDAY($O$25,1)-(start_day-1))<=0,7,0)+(ROW(Q32)-ROW($O$27))*7+(COLUMN(Q32)-COLUMN($O$27)+1)) | R32: =IF(MONTH($O$25)<>MONTH($O$25-(WEEKDAY($O$25,1)-(start_day-1))-IF((WEEKDAY($O$25,1)-(start_day-1))<=0,7,0)+(ROW(R32)-ROW($O$27))*7+(COLUMN(R32)-COLUMN($O$27)+1)),"",$O$25-(WEEKDAY($O$25,1)-(start_day-1))-IF((WEEKDAY($O$25,1)-(start_day-1))<=0,7,0)+(ROW(R32)-ROW($O$27))*7+(COLUMN(R32)-COLUMN($O$27)+1)) | S32: =IF(MONTH($O$25)<>MONTH($O$25-(WEEKDAY($O$25,1)-(start_day-1))-IF((WEEKDAY($O$25,1)-(start_day-1))<=0,7,0)+(ROW(S32)-ROW($O$27))*7+(COLUMN(S32)-COLUMN($O$27)+1)),"",$O$25-(WEEKDAY($O$25,1)-(start_day-1))-IF((WEEKDAY($O$25,1)-(start_day-1))<=0,7,0)+(ROW(S32)-ROW($O$27))*7+(COLUMN(S32)-COLUMN($O$27)+1)) | T32: =IF(MONTH($O$25)<>MONTH($O$25-(WEEKDAY($O$25,1)-(start_day-1))-IF((WEEKDAY($O$25,1)-(start_day-1))<=0,7,0)+(ROW(T32)-ROW($O$27))*7+(COLUMN(T32)-COLUMN($O$27)+1)),"",$O$25-(WEEKDAY($O$25,1)-(start_day-1))-IF((WEEKDAY($O$25,1)-(start_day-1))<=0,7,0)+(ROW(T32)-ROW($O$27))*7+(COLUMN(T32)-COLUMN($O$27)+1)) | U32: =IF(MONTH($O$25)<>MONTH($O$25-(WEEKDAY($O$25,1)-(start_day-1))-IF((WEEKDAY($O$25,1)-(start_day-1))<=0,7,0)+(ROW(U32)-ROW($O$27))*7+(COLUMN(U32)-COLUMN($O$27)+1)),"",$O$25-(WEEKDAY($O$25,1)-(start_day-1))-IF((WEEKDAY($O$25,1)-(start_day-1))<=0,7,0)+(ROW(U32)-ROW($O$27))*7+(COLUMN(U32)-COLUMN($O$27)+1)) | X32: =IF(MONTH($X$25)<>MONTH($X$25-(WEEKDAY($X$25,1)-(start_day-1))-IF((WEEKDAY($X$25,1)-(start_day-1))<=0,7,0)+(ROW(X32)-ROW($X$27))*7+(COLUMN(X32)-COLUMN($X$27)+1)),"",$X$25-(WEEKDAY($X$25,1)-(start_day-1))-IF((WEEKDAY($X$25,1)-(start_day-1))<=0,7,0)+(ROW(X32)-ROW($X$27))*7+(COLUMN(X32)-COLUMN($X$27)+1)) | Y32: =IF(MONTH($X$25)<>MONTH($X$25-(WEEKDAY($X$25,1)-(start_day-1))-IF((WEEKDAY($X$25,1)-(start_day-1))<=0,7,0)+(ROW(Y32)-ROW($X$27))*7+(COLUMN(Y32)-COLUMN($X$27)+1)),"",$X$25-(WEEKDAY($X$25,1)-(start_day-1))-IF((WEEKDAY($X$25,1)-(start_day-1))<=0,7,0)+(ROW(Y32)-ROW($X$27))*7+(COLUMN(Y32)-COLUMN($X$27)+1)) | Z32: =IF(MONTH($X$25)<>MONTH($X$25-(WEEKDAY($X$25,1)-(start_day-1))-IF((WEEKDAY($X$25,1)-(start_day-1))<=0,7,0)+(ROW(Z32)-ROW($X$27))*7+(COLUMN(Z32)-COLUMN($X$27)+1)),"",$X$25-(WEEKDAY($X$25,1)-(start_day-1))-IF((WEEKDAY($X$25,1)-(start_day-1))<=0,7,0)+(ROW(Z32)-ROW($X$27))*7+(COLUMN(Z32)-COLUMN($X$27)+1)) | AA32: =IF(MONTH($X$25)<>MONTH($X$25-(WEEKDAY($X$25,1)-(start_day-1))-IF((WEEKDAY($X$25,1)-(start_day-1))<=0,7,0)+(ROW(AA32)-ROW($X$27))*7+(COLUMN(AA32)-COLUMN($X$27)+1)),"",$X$25-(WEEKDAY($X$25,1)-(start_day-1))-IF((WEEKDAY($X$25,1)-(start_day-1))<=0,7,0)+(ROW(AA32)-ROW($X$27))*7+(COLUMN(AA32)-COLUMN($X$27)+1)) | AB32: =IF(MONTH($X$25)<>MONTH($X$25-(WEEKDAY($X$25,1)-(start_day-1))-IF((WEEKDAY($X$25,1)-(start_day-1))<=0,7,0)+(ROW(AB32)-ROW($X$27))*7+(COLUMN(AB32)-COLUMN($X$27)+1)),"",$X$25-(WEEKDAY($X$25,1)-(start_day-1))-IF((WEEKDAY($X$25,1)-(start_day-1))<=0,7,0)+(ROW(AB32)-ROW($X$27))*7+(COLUMN(AB32)-COLUMN($X$27)+1)) | AC32: =IF(MONTH($X$25)<>MONTH($X$25-(WEEKDAY($X$25,1)-(start_day-1))-IF((WEEKDAY($X$25,1)-(start_day-1))<=0,7,0)+(ROW(AC32)-ROW($X$27))*7+(COLUMN(AC32)-COLUMN($X$27)+1)),"",$X$25-(WEEKDAY($X$25,1)-(start_day-1))-IF((WEEKDAY($X$25,1)-(start_day-1))<=0,7,0)+(ROW(AC32)-ROW($X$27))*7+(COLUMN(AC32)-COLUMN($X$27)+1)) | AD32: =IF(MONTH($X$25)<>MONTH($X$25-(WEEKDAY($X$25,1)-(start_day-1))-IF((WEEKDAY($X$25,1)-(start_day-1))<=0,7,0)+(ROW(AD32)-ROW($X$27))*7+(COLUMN(AD32)-COLUMN($X$27)+1)),"",$X$25-(WEEKDAY($X$25,1)-(start_day-1))-IF((WEEKDAY($X$25,1)-(start_day-1))<=0,7,0)+(ROW(AD32)-ROW($X$27))*7+(COLUMN(AD32)-COLUMN($X$27)+1))

Sheet February
C2: =DATE(About!Q8,About!Q10+1,1) -> 46054
C4: =C5 -> 46054 | E4: =E5 -> 46055 | G4: =G5 -> 46056 | I4: =I5 -> 46057 | K4: =K5 -> 46058 | O4: =O5 -> 46059 | W4: =W5 -> 46060
C5: =$C$2-(WEEKDAY($C$2,1)-(start_day-1))-IF((WEEKDAY($C$2,1)-(start_day-1))<=0,7,0)+1 -> 46054 | E5: =C5+1 -> 46055 | G5: =E5+1 -> 46056 | I5: =G5+1 -> 46057 | K5: =I5+1 -> 46058 | O5: =K5+1 -> 46059 | W5: =O5+1 -> 46060
C7: =W5+1 -> 46061
E8: =C7+1 -> 46062 | G8: =E8+1 -> 46063 | I8: =G8+1 -> 46064 | K8: =I8+1 -> 46065 | O8: =K8+1 -> 46066 | W8: =O8+1 -> 46067
C10: =W8+1 -> 46068
E11: =C10+1 -> 46069 | G11: =E11+1 -> 46070 | I11: =G11+1 -> 46071 | K11: =I11+1 -> 46072 | O11: =K11+1 -> 46073 | W11: =O11+1 -> 46074
C13: =W11+1 -> 46075
E14: =C13+1 -> 46076 | G14: =E14+1 -> 46077 | I14: =G14+1 -> 46078 | K14: =I14+1 -> 46079 | O14: =K14+1 -> 46080 | W14: =O14+1 -> 46081
C16: =W14+1 -> 46082
E17: =C16+1 -> 46083 | G17: =E17+1 -> 46084 | I17: =G17+1 -> 46085 | K17: =I17+1 -> 46086 | O17: =K17+1 -> 46087 | W17: =O17+1 -> 46088
C19: =W17+1 -> 46089
E20: =C19+1 -> 46090 | G20: =E20+1 -> 46091 | I20: =G20+1 -> 46092 | K20: =I20+1 -> 46093 | O20: =K20+1 -> 46094 | W20: =O20+1 -> 46095
C25: Notes | O25: =DATE(YEAR(C2),MONTH(C2)-1,1) -> 46023 | X25: =DATE(YEAR(C2),MONTH(C2)+1,1) -> 46082
O26: {=INDEX({"S";"M";"T";"W";"T";"F";"S"},1+MOD(start_day+1-2,7))} -> S | P26: {=INDEX({"S";"M";"T";"W";"T";"F";"S"},1+MOD(start_day+2-2,7))} -> M | Q26: {=INDEX({"S";"M";"T";"W";"T";"F";"S"},1+MOD(start_day+3-2,7))} -> T | R26: {=INDEX({"S";"M";"T";"W";"T";"F";"S"},1+MOD(start_day+4-2,7))} -> W | S26: {=INDEX({"S";"M";"T";"W";"T";"F";"S"},1+MOD(start_day+5-2,7))} -> T | T26: {=INDEX({"S";"M";"T";"W";"T";"F";"S"},1+MOD(start_day+6-2,7))} -> F | U26: {=INDEX({"S";"M";"T";"W";"T";"F";"S"},1+MOD(start_day+7-2,7))} -> S | X26: {=INDEX({"S";"M";"T";"W";"T";"F";"S"},1+MOD(start_day+1-2,7))} -> S | Y26: {=INDEX({"S";"M";"T";"W";"T";"F";"S"},1+MOD(start_day+2-2,7))} -> M | Z26: {=INDEX({"S";"M";"T";"W";"T";"F";"S"},1+MOD(start_day+3-2,7))} -> T | AA26: {=INDEX({"S";"M";"T";"W";"T";"F";"S"},1+MOD(start_day+4-2,7))} -> W | AB26: {=INDEX({"S";"M";"T";"W";"T";"F";"S"},1+MOD(start_day+5-2,7))} -> T | AC26: {=INDEX({"S";"M";"T";"W";"T";"F";"S"},1+MOD(start_day+6-2,7))} -> F | AD26: {=INDEX({"S";"M";"T";"W";"T";"F";"S"},1+MOD(start_day+7-2,7))} -> S
O27: =IF(MONTH($O$25)<>MONTH($O$25-(WEEKDAY($O$25,1)-(start_day-1))-IF((WEEKDAY($O$25,1)-(start_day-1))<=0,7,0)+(ROW(O27)-ROW($O$27))*7+(COLUMN(O27)-COLUMN($O$27)+1)),"",$O$25-(WEEKDAY($O$25,1)-(start_day-1))-IF((WEEKDAY($O$25,1)-(start_day-1))<=0,7,0)+(ROW(O27)-ROW($O$27))*7+(COLUMN(O27)-COLUMN($O$27)+1)) | P27: =IF(MONTH($O$25)<>MONTH($O$25-(WEEKDAY($O$25,1)-(start_day-1))-IF((WEEKDAY($O$25,1)-(start_day-1))<=0,7,0)+(ROW(P27)-ROW($O$27))*7+(COLUMN(P27)-COLUMN($O$27)+1)),"",$O$25-(WEEKDAY($O$25,1)-(start_day-1))-IF((WEEKDAY($O$25,1)-(start_day-1))<=0,7,0)+(ROW(P27)-ROW($O$27))*7+(COLUMN(P27)-COLUMN($O$27)+1)) | Q27: =IF(MONTH($O$25)<>MONTH($O$25-(WEEKDAY($O$25,1)-(start_day-1))-IF((WEEKDAY($O$25,1)-(start_day-1))<=0,7,0)+(ROW(Q27)-ROW($O$27))*7+(COLUMN(Q27)-COLUMN($O$27)+1)),"",$O$25-(WEEKDAY($O$25,1)-(start_day-1))-IF((WEEKDAY($O$25,1)-(start_day-1))<=0,7,0)+(ROW(Q27)-ROW($O$27))*7+(COLUMN(Q27)-COLUMN($O$27)+1)) | R27: =IF(MONTH($O$25)<>MONTH($O$25-(WEEKDAY($O$25,1)-(start_day-1))-IF((WEEKDAY($O$25,1)-(start_day-1))<=0,7,0)+(ROW(R27)-ROW($O$27))*7+(COLUMN(R27)-COLUMN($O$27)+1)),"",$O$25-(WEEKDAY($O$25,1)-(start_day-1))-IF((WEEKDAY($O$25,1)-(start_day-1))<=0,7,0)+(ROW(R27)-ROW($O$27))*7+(COLUMN(R27)-COLUMN($O$27)+1)) | S27: =IF(MONTH($O$25)<>MONTH($O$25-(WEEKDAY($O$25,1)-(start_day-1))-IF((WEEKDAY($O$25,1)-(start_day-1))<=0,7,0)+(ROW(S27)-ROW($O$27))*7+(COLUMN(S27)-COLUMN($O$27)+1)),"",$O$25-(WEEKDAY($O$25,1)-(start_day-1))-IF((WEEKDAY($O$25,1)-(start_day-1))<=0,7,0)+(ROW(S27)-ROW($O$27))*7+(COLUMN(S27)-COLUMN($O$27)+1)) -> 46023 | T27: =IF(MONTH($O$25)<>MONTH($O$25-(WEEKDAY($O$25,1)-(start_day-1))-IF((WEEKDAY($O$25,1)-(start_day-1))<=0,7,0)+(ROW(T27)-ROW($O$27))*7+(COLUMN(T27)-COLUMN($O$27)+1)),"",$O$25-(WEEKDAY($O$25,1)-(start_day-1))-IF((WEEKDAY($O$25,1)-(start_day-1))<=0,7,0)+(ROW(T27)-ROW($O$27))*7+(COLUMN(T27)-COLUMN($O$27)+1)) -> 46024 | U27: =IF(MONTH($O$25)<>MONTH($O$25-(WEEKDAY($O$25,1)-(start_day-1))-IF((WEEKDAY($O$25,1)-(start_day-1))<=0,7,0)+(ROW(U27)-ROW($O$27))*7+(COLUMN(U27)-COLUMN($O$27)+1)),"",$O$25-(WEEKDAY($O$25,1)-(start_day-1))-IF((WEEKDAY($O$25,1)-(start_day-1))<=0,7,0)+(ROW(U27)-ROW($O$27))*7+(COLUMN(U27)-COLUMN($O$27)+1)) -> 46025 | X27: =IF(MONTH($X$25)<>MONTH($X$25-(WEEKDAY($X$25,1)-(start_day-1))-IF((WEEKDAY($X$25,1)-(start_day-1))<=0,7,0)+(ROW(X27)-ROW($X$27))*7+(COLUMN(X27)-COLUMN($X$27)+1)),"",$X$25-(WEEKDAY($X$25,1)-(start_day-1))-IF((WEEKDAY($X$25,1)-(start_day-1))<=0,7,0)+(ROW(X27)-ROW($X$27))*7+(COLUMN(X27)-COLUMN($X$27)+1)) -> 46082 | Y27: =IF(MONTH($X$25)<>MONTH($X$25-(WEEKDAY($X$25,1)-(start_day-1))-IF((WEEKDAY($X$25,1)-(start_day-1))<=0,7,0)+(ROW(Y27)-ROW($X$27))*7+(COLUMN(Y27)-COLUMN($X$27)+1)),"",$X$25-(WEEKDAY($X$25,1)-(start_day-1))-IF((WEEKDAY($X$25,1)-(start_day-1))<=0,7,0)+(ROW(Y27)-ROW($X$27))*7+(COLUMN(Y27)-COLUMN($X$27)+1)) -> 46083 | Z27: =IF(MONTH($X$25)<>MONTH($X$25-(WEEKDAY($X$25,1)-(start_day-1))-IF((WEEKDAY($X$25,1)-(start_day-1))<=0,7,0)+(ROW(Z27)-ROW($X$27))*7+(COLUMN(Z27)-COLUMN($X$27)+1)),"",$X$25-(WEEKDAY($X$25,1)-(start_day-1))-IF((WEEKDAY($X$25,1)-(start_day-1))<=0,7,0)+(ROW(Z27)-ROW($X$27))*7+(COLUMN(Z27)-COLUMN($X$27)+1)) -> 46084 | AA27: =IF(MONTH($X$25)<>MONTH($X$25-(WEEKDAY($X$25,1)-(start_day-1))-IF((WEEKDAY($X$25,1)-(start_day-1))<=0,7,0)+(ROW(AA27)-ROW($X$27))*7+(COLUMN(AA27)-COLUMN($X$27)+1)),"",$X$25-(WEEKDAY($X$25,1)-(start_day-1))-IF((WEEKDAY($X$25,1)-(start_day-1))<=0,7,0)+(ROW(AA27)-ROW($X$27))*7+(COLUMN(AA27)-COLUMN($X$27)+1)) -> 46085 | AB27: =IF(MONTH($X$25)<>MONTH($X$25-(WEEKDAY($X$25,1)-(start_day-1))-IF((WEEKDAY($X$25,1)-(start_day-1))<=0,7,0)+(ROW(AB27)-ROW($X$27))*7+(COLUMN(AB27)-COLUMN($X$27)+1)),"",$X$25-(WEEKDAY($X$25,1)-(start_day-1))-IF((WEEKDAY($X$25,1)-(start_day-1))<=0,7,0)+(ROW(AB27)-ROW($X$27))*7+(COLUMN(AB27)-COLUMN($X$27)+1)) -> 46086 | AC27: =IF(MONTH($X$25)<>MONTH($X$25-(WEEKDAY($X$25,1)-(start_day-1))-IF((WEEKDAY($X$25,1)-(start_day-1))<=0,7,0)+(ROW(AC27)-ROW($X$27))*7+(COLUMN(AC27)-COLUMN($X$27)+1)),"",$X$25-(WEEKDAY($X$25,1)-(start_day-1))-IF((WEEKDAY($X$25,1)-(start_day-1))<=0,7,0)+(ROW(AC27)-ROW($X$27))*7+(COLUMN(AC27)-COLUMN($X$27)+1)) -> 46087 | AD27: =IF(MONTH($X$25)<>MONTH($X$25-(WEEKDAY($X$25,1)-(start_day-1))-IF((WEEKDAY($X$25,1)-(start_day-1))<=0,7,0)+(ROW(AD27)-ROW($X$27))*7+(COLUMN(AD27)-COLUMN($X$27)+1)),"",$X$25-(WEEKDAY($X$25,1)-(start_day-1))-IF((WEEKDAY($X$25,1)-(start_day-1))<=0,7,0)+(ROW(AD27)-ROW($X$27))*7+(COLUMN(AD27)-COLUMN($X$27)+1)) -> 46088
O28: =IF(MONTH($O$25)<>MONTH($O$25-(WEEKDAY($O$25,1)-(start_day-1))-IF((WEEKDAY($O$25,1)-(start_day-1))<=0,7,0)+(ROW(O28)-ROW($O$27))*7+(COLUMN(O28)-COLUMN($O$27)+1)),"",$O$25-(WEEKDAY($O$25,1)-(start_day-1))-IF((WEEKDAY($O$25,1)-(start_day-1))<=0,7,0)+(ROW(O28)-ROW($O$27))*7+(COLUMN(O28)-COLUMN($O$27)+1)) -> 46026 | P28: =IF(MONTH($O$25)<>MONTH($O$25-(WEEKDAY($O$25,1)-(start_day-1))-IF((WEEKDAY($O$25,1)-(start_day-1))<=0,7,0)+(ROW(P28)-ROW($O$27))*7+(COLUMN(P28)-COLUMN($O$27)+1)),"",$O$25-(WEEKDAY($O$25,1)-(start_day-1))-IF((WEEKDAY($O$25,1)-(start_day-1))<=0,7,0)+(ROW(P28)-ROW($O$27))*7+(COLUMN(P28)-COLUMN($O$27)+1)) -> 46027 | Q28: =IF(MONTH($O$25)<>MONTH($O$25-(WEEKDAY($O$25,1)-(start_day-1))-IF((WEEKDAY($O$25,1)-(start_day-1))<=0,7,0)+(ROW(Q28)-ROW($O$27))*7+(COLUMN(Q28)-COLUMN($O$27)+1)),"",$O$25-(WEEKDAY($O$25,1)-(start_day-1))-IF((WEEKDAY($O$25,1)-(start_day-1))<=0,7,0)+(ROW(Q28)-ROW($O$27))*7+(COLUMN(Q28)-COLUMN($O$27)+1)) -> 46028 | R28: =IF(MONTH($O$25)<>MONTH($O$25-(WEEKDAY($O$25,1)-(start_day-1))-IF((WEEKDAY($O$25,1)-(start_day-1))<=0,7,0)+(ROW(R28)-ROW($O$27))*7+(COLUMN(R28)-COLUMN($O$27)+1)),"",$O$25-(WEEKDAY($O$25,1)-(start_day-1))-IF((WEEKDAY($O$25,1)-(start_day-1))<=0,7,0)+(ROW(R28)-ROW($O$27))*7+(COLUMN(R28)-COLUMN($O$27)+1)) -> 46029 | S28: =IF(MONTH($O$25)<>MONTH($O$25-(WEEKDAY($O$25,1)-(start_day-1))-IF((WEEKDAY($O$25,1)-(start_day-1))<=0,7,0)+(ROW(S28)-ROW($O$27))*7+(COLUMN(S28)-COLUMN($O$27)+1)),"",$O$25-(WEEKDAY($O$25,1)-(start_day-1))-IF((WEEKDAY($O$25,1)-(start_day-1))<=0,7,0)+(ROW(S28)-ROW($O$27))*7+(COLUMN(S28)-COLUMN($O$27)+1)) -> 46030 | T28: =IF(MONTH($O$25)<>MONTH($O$25-(WEEKDAY($O$25,1)-(start_day-1))-IF((WEEKDAY($O$25,1)-(start_day-1))<=0,7,0)+(ROW(T28)-ROW($O$27))*7+(COLUMN(T28)-COLUMN($O$27)+1)),"",$O$25-(WEEKDAY($O$25,1)-(start_day-1))-IF((WEEKDAY($O$25,1)-(start_day-1))<=0,7,0)+(ROW(T28)-ROW($O$27))*7+(COLUMN(T28)-COLUMN($O$27)+1)) -> 46031 | U28: =IF(MONTH($O$25)<>MONTH($O$25-(WEEKDAY($O$25,1)-(start_day-1))-IF((WEEKDAY($O$25,1)-(start_day-1))<=0,7,0)+(ROW(U28)-ROW($O$27))*7+(COLUMN(U28)-COLUMN($O$27)+1)),"",$O$25-(WEEKDAY($O$25,1)-(start_day-1))-IF((WEEKDAY($O$25,1)-(start_day-1))<=0,7,0)+(ROW(U28)-ROW($O$27))*7+(COLUMN(U28)-COLUMN($O$27)+1)) -> 46032 | X28: =IF(MONTH($X$25)<>MONTH($X$25-(WEEKDAY($X$25,1)-(start_day-1))-IF((WEEKDAY($X$25,1)-(start_day-1))<=0,7,0)+(ROW(X28)-ROW($X$27))*7+(COLUMN(X28)-COLUMN($X$27)+1)),"",$X$25-(WEEKDAY($X$25,1)-(start_day-1))-IF((WEEKDAY($X$25,1)-(start_day-1))<=0,7,0)+(ROW(X28)-ROW($X$27))*7+(COLUMN(X28)-COLUMN($X$27)+1)) -> 46089 | Y28: =IF(MONTH($X$25)<>MONTH($X$25-(WEEKDAY($X$25,1)-(start_day-1))-IF((WEEKDAY($X$25,1)-(start_day-1))<=0,7,0)+(ROW(Y28)-ROW($X$27))*7+(COLUMN(Y28)-COLUMN($X$27)+1)),"",$X$25-(WEEKDAY($X$25,1)-(start_day-1))-IF((WEEKDAY($X$25,1)-(start_day-1))<=0,7,0)+(ROW(Y28)-ROW($X$27))*7+(COLUMN(Y28)-COLUMN($X$27)+1)) -> 46090 | Z28: =IF(MONTH($X$25)<>MONTH($X$25-(WEEKDAY($X$25,1)-(start_day-1))-IF((WEEKDAY($X$25,1)-(start_day-1))<=0,7,0)+(ROW(Z28)-ROW($X$27))*7+(COLUMN(Z28)-COLUMN($X$27)+1)),"",$X$25-(WEEKDAY($X$25,1)-(start_day-1))-IF((WEEKDAY($X$25,1)-(start_day-1))<=0,7,0)+(ROW(Z28)-ROW($X$27))*7+(COLUMN(Z28)-COLUMN($X$27)+1)) -> 46091 | AA28: =IF(MONTH($X$25)<>MONTH($X$25-(WEEKDAY($X$25,1)-(start_day-1))-IF((WEEKDAY($X$25,1)-(start_day-1))<=0,7,0)+(ROW(AA28)-ROW($X$27))*7+(COLUMN(AA28)-COLUMN($X$27)+1)),"",$X$25-(WEEKDAY($X$25,1)-(start_day-1))-IF((WEEKDAY($X$25,1)-(start_day-1))<=0,7,0)+(ROW(AA28)-ROW($X$27))*7+(COLUMN(AA28)-COLUMN($X$27)+1)) -> 46092 | AB28: =IF(MONTH($X$25)<>MONTH($X$25-(WEEKDAY($X$25,1)-(start_day-1))-IF((WEEKDAY($X$25,1)-(start_day-1))<=0,7,0)+(ROW(AB28)-ROW($X$27))*7+(COLUMN(AB28)-COLUMN($X$27)+1)),"",$X$25-(WEEKDAY($X$25,1)-(start_day-1))-IF((WEEKDAY($X$25,1)-(start_day-1))<=0,7,0)+(ROW(AB28)-ROW($X$27))*7+(COLUMN(AB28)-COLUMN($X$27)+1)) -> 46093 | AC28: =IF(MONTH($X$25)<>MONTH($X$25-(WEEKDAY($X$25,1)-(start_day-1))-IF((WEEKDAY($X$25,1)-(start_day-1))<=0,7,0)+(ROW(AC28)-ROW($X$27))*7+(COLUMN(AC28)-COLUMN($X$27)+1)),"",$X$25-(WEEKDAY($X$25,1)-(start_day-1))-IF((WEEKDAY($X$25,1)-(start_day-1))<=0,7,0)+(ROW(AC28)-ROW($X$27))*7+(COLUMN(AC28)-COLUMN($X$27)+1)) -> 46094 | AD28: =IF(MONTH($X$25)<>MONTH($X$25-(WEEKDAY($X$25,1)-(start_day-1))-IF((WEEKDAY($X$25,1)-(start_day-1))<=0,7,0)+(ROW(AD28)-ROW($X$27))*7+(COLUMN(AD28)-COLUMN($X$27)+1)),"",$X$25-(WEEKDAY($X$25,1)-(start_day-1))-IF((WEEKDAY($X$25,1)-(start_day-1))<=0,7,0)+(ROW(AD28)-ROW($X$27))*7+(COLUMN(AD28)-COLUMN($X$27)+1)) -> 46095
O29: =IF(MONTH($O$25)<>MONTH($O$25-(WEEKDAY($O$25,1)-(start_day-1))-IF((WEEKDAY($O$25,1)-(start_day-1))<=0,7,0)+(ROW(O29)-ROW($O$27))*7+(COLUMN(O29)-COLUMN($O$27)+1)),"",$O$25-(WEEKDAY($O$25,1)-(start_day-1))-IF((WEEKDAY($O$25,1)-(start_day-1))<=0,7,0)+(ROW(O29)-ROW($O$27))*7+(COLUMN(O29)-COLUMN($O$27)+1)) -> 46033 | P29: =IF(MONTH($O$25)<>MONTH($O$25-(WEEKDAY($O$25,1)-(start_day-1))-IF((WEEKDAY($O$25,1)-(start_day-1))<=0,7,0)+(ROW(P29)-ROW($O$27))*7+(COLUMN(P29)-COLUMN($O$27)+1)),"",$O$25-(WEEKDAY($O$25,1)-(start_day-1))-IF((WEEKDAY($O$25,1)-(start_day-1))<=0,7,0)+(ROW(P29)-ROW($O$27))*7+(COLUMN(P29)-COLUMN($O$27)+1)) -> 46034 | Q29: =IF(MONTH($O$25)<>MONTH($O$25-(WEEKDAY($O$25,1)-(start_day-1))-IF((WEEKDAY($O$25,1)-(start_day-1))<=0,7,0)+(ROW(Q29)-ROW($O$27))*7+(COLUMN(Q29)-COLUMN($O$27)+1)),"",$O$25-(WEEKDAY($O$25,1)-(start_day-1))-IF((WEEKDAY($O$25,1)-(start_day-1))<=0,7,0)+(ROW(Q29)-ROW($O$27))*7+(COLUMN(Q29)-COLUMN($O$27)+1)) -> 46035 | R29: =IF(MONTH($O$25)<>MONTH($O$25-(WEEKDAY($O$25,1)-(start_day-1))-IF((WEEKDAY($O$25,1)-(start_day-1))<=0,7,0)+(ROW(R29)-ROW($O$27))*7+(COLUMN(R29)-COLUMN($O$27)+1)),"",$O$25-(WEEKDAY($O$25,1)-(start_day-1))-IF((WEEKDAY($O$25,1)-(start_day-1))<=0,7,0)+(ROW(R29)-ROW($O$27))*7+(COLUMN(R29)-COLUMN($O$27)+1)) -> 46036 | S29: =IF(MONTH($O$25)<>MONTH($O$25-(WEEKDAY($O$25,1)-(start_day-1))-IF((WEEKDAY($O$25,1)-(start_day-1))<=0,7,0)+(ROW(S29)-ROW($O$27))*7+(COLUMN(S29)-COLUMN($O$27)+1)),"",$O$25-(WEEKDAY($O$25,1)-(start_day-1))-IF((WEEKDAY($O$25,1)-(start_day-1))<=0,7,0)+(ROW(S29)-ROW($O$27))*7+(COLUMN(S29)-COLUMN($O$27)+1)) -> 46037 | T29: =IF(MONTH($O$25)<>MONTH($O$25-(WEEKDAY($O$25,1)-(start_day-1))-IF((WEEKDAY($O$25,1)-(start_day-1))<=0,7,0)+(ROW(T29)-ROW($O$27))*7+(COLUMN(T29)-COLUMN($O$27)+1)),"",$O$25-(WEEKDAY($O$25,1)-(start_day-1))-IF((WEEKDAY($O$25,1)-(start_day-1))<=0,7,0)+(ROW(T29)-ROW($O$27))*7+(COLUMN(T29)-COLUMN($O$27)+1)) -> 46038 | U29: =IF(MONTH($O$25)<>MONTH($O$25-(WEEKDAY($O$25,1)-(start_day-1))-IF((WEEKDAY($O$25,1)-(start_day-1))<=0,7,0)+(ROW(U29)-ROW($O$27))*7+(COLUMN(U29)-COLUMN($O$27)+1)),"",$O$25-(WEEKDAY($O$25,1)-(start_day-1))-IF((WEEKDAY($O$25,1)-(start_day-1))<=0,7,0)+(ROW(U29)-ROW($O$27))*7+(COLUMN(U29)-COLUMN($O$27)+1)) -> 46039 | X29: =IF(MONTH($X$25)<>MONTH($X$25-(WEEKDAY($X$25,1)-(start_day-1))-IF((WEEKDAY($X$25,1)-(start_day-1))<=0,7,0)+(ROW(X29)-ROW($X$27))*7+(COLUMN(X29)-COLUMN($X$27)+1)),"",$X$25-(WEEKDAY($X$25,1)-(start_day-1))-IF((WEEKDAY($X$25,1)-(start_day-1))<=0,7,0)+(ROW(X29)-ROW($X$27))*7+(COLUMN(X29)-COLUMN($X$27)+1)) -> 46096 | Y29: =IF(MONTH($X$25)<>MONTH($X$25-(WEEKDAY($X$25,1)-(start_day-1))-IF((WEEKDAY($X$25,1)-(start_day-1))<=0,7,0)+(ROW(Y29)-ROW($X$27))*7+(COLUMN(Y29)-COLUMN($X$27)+1)),"",$X$25-(WEEKDAY($X$25,1)-(start_day-1))-IF((WEEKDAY($X$25,1)-(start_day-1))<=0,7,0)+(ROW(Y29)-ROW($X$27))*7+(COLUMN(Y29)-COLUMN($X$27)+1)) -> 46097 | Z29: =IF(MONTH($X$25)<>MONTH($X$25-(WEEKDAY($X$25,1)-(start_day-1))-IF((WEEKDAY($X$25,1)-(start_day-1))<=0,7,0)+(ROW(Z29)-ROW($X$27))*7+(COLUMN(Z29)-COLUMN($X$27)+1)),"",$X$25-(WEEKDAY($X$25,1)-(start_day-1))-IF((WEEKDAY($X$25,1)-(start_day-1))<=0,7,0)+(ROW(Z29)-ROW($X$27))*7+(COLUMN(Z29)-COLUMN($X$27)+1)) -> 46098 | AA29: =IF(MONTH($X$25)<>MONTH($X$25-(WEEKDAY($X$25,1)-(start_day-1))-IF((WEEKDAY($X$25,1)-(start_day-1))<=0,7,0)+(ROW(AA29)-ROW($X$27))*7+(COLUMN(AA29)-COLUMN($X$27)+1)),"",$X$25-(WEEKDAY($X$25,1)-(start_day-1))-IF((WEEKDAY($X$25,1)-(start_day-1))<=0,7,0)+(ROW(AA29)-ROW($X$27))*7+(COLUMN(AA29)-COLUMN($X$27)+1)) -> 46099 | AB29: =IF(MONTH($X$25)<>MONTH($X$25-(WEEKDAY($X$25,1)-(start_day-1))-IF((WEEKDAY($X$25,1)-(start_day-1))<=0,7,0)+(ROW(AB29)-ROW($X$27))*7+(COLUMN(AB29)-COLUMN($X$27)+1)),"",$X$25-(WEEKDAY($X$25,1)-(start_day-1))-IF((WEEKDAY($X$25,1)-(start_day-1))<=0,7,0)+(ROW(AB29)-ROW($X$27))*7+(COLUMN(AB29)-COLUMN($X$27)+1)) -> 46100 | AC29: =IF(MONTH($X$25)<>MONTH($X$25-(WEEKDAY($X$25,1)-(start_day-1))-IF((WEEKDAY($X$25,1)-(start_day-1))<=0,7,0)+(ROW(AC29)-ROW($X$27))*7+(COLUMN(AC29)-COLUMN($X$27)+1)),"",$X$25-(WEEKDAY($X$25,1)-(start_day-1))-IF((WEEKDAY($X$25,1)-(start_day-1))<=0,7,0)+(ROW(AC29)-ROW($X$27))*7+(COLUMN(AC29)-COLUMN($X$27)+1)) -> 46101 | AD29: =IF(MONTH($X$25)<>MONTH($X$25-(WEEKDAY($X$25,1)-(start_day-1))-IF((WEEKDAY($X$25,1)-(start_day-1))<=0,7,0)+(ROW(AD29)-ROW($X$27))*7+(COLUMN(AD29)-COLUMN($X$27)+1)),"",$X$25-(WEEKDAY($X$25,1)-(start_day-1))-IF((WEEKDAY($X$25,1)-(start_day-1))<=0,7,0)+(ROW(AD29)-ROW($X$27))*7+(COLUMN(AD29)-COLUMN($X$27)+1)) -> 46102
O30: =IF(MONTH($O$25)<>MONTH($O$25-(WEEKDAY($O$25,1)-(start_day-1))-IF((WEEKDAY($O$25,1)-(start_day-1))<=0,7,0)+(ROW(O30)-ROW($O$27))*7+(COLUMN(O30)-COLUMN($O$27)+1)),"",$O$25-(WEEKDAY($O$25,1)-(start_day-1))-IF((WEEKDAY($O$25,1)-(start_day-1))<=0,7,0)+(ROW(O30)-ROW($O$27))*7+(COLUMN(O30)-COLUMN($O$27)+1)) -> 46040 | P30: =IF(MONTH($O$25)<>MONTH($O$25-(WEEKDAY($O$25,1)-(start_day-1))-IF((WEEKDAY($O$25,1)-(start_day-1))<=0,7,0)+(ROW(P30)-ROW($O$27))*7+(COLUMN(P30)-COLUMN($O$27)+1)),"",$O$25-(WEEKDAY($O$25,1)-(start_day-1))-IF((WEEKDAY($O$25,1)-(start_day-1))<=0,7,0)+(ROW(P30)-ROW($O$27))*7+(COLUMN(P30)-COLUMN($O$27)+1)) -> 46041 | Q30: =IF(MONTH($O$25)<>MONTH($O$25-(WEEKDAY($O$25,1)-(start_day-1))-IF((WEEKDAY($O$25,1)-(start_day-1))<=0,7,0)+(ROW(Q30)-ROW($O$27))*7+(COLUMN(Q30)-COLUMN($O$27)+1)),"",$O$25-(WEEKDAY($O$25,1)-(start_day-1))-IF((WEEKDAY($O$25,1)-(start_day-1))<=0,7,0)+(ROW(Q30)-ROW($O$27))*7+(COLUMN(Q30)-COLUMN($O$27)+1)) -> 46042 | R30: =IF(MONTH($O$25)<>MONTH($O$25-(WEEKDAY($O$25,1)-(start_day-1))-IF((WEEKDAY($O$25,1)-(start_day-1))<=0,7,0)+(ROW(R30)-ROW($O$27))*7+(COLUMN(R30)-COLUMN($O$27)+1)),"",$O$25-(WEEKDAY($O$25,1)-(start_day-1))-IF((WEEKDAY($O$25,1)-(start_day-1))<=0,7,0)+(ROW(R30)-ROW($O$27))*7+(COLUMN(R30)-COLUMN($O$27)+1)) -> 46043 | S30: =IF(MONTH($O$25)<>MONTH($O$25-(WEEKDAY($O$25,1)-(start_day-1))-IF((WEEKDAY($O$25,1)-(start_day-1))<=0,7,0)+(ROW(S30)-ROW($O$27))*7+(COLUMN(S30)-COLUMN($O$27)+1)),"",$O$25-(WEEKDAY($O$25,1)-(start_day-1))-IF((WEEKDAY($O$25,1)-(start_day-1))<=0,7,0)+(ROW(S30)-ROW($O$27))*7+(COLUMN(S30)-COLUMN($O$27)+1)) -> 46044 | T30: =IF(MONTH($O$25)<>MONTH($O$25-(WEEKDAY($O$25,1)-(start_day-1))-IF((WEEKDAY($O$25,1)-(start_day-1))<=0,7,0)+(ROW(T30)-ROW($O$27))*7+(COLUMN(T30)-COLUMN($O$27)+1)),"",$O$25-(WEEKDAY($O$25,1)-(start_day-1))-IF((WEEKDAY($O$25,1)-(start_day-1))<=0,7,0)+(ROW(T30)-ROW($O$27))*7+(COLUMN(T30)-COLUMN($O$27)+1)) -> 46045 | U30: =IF(MONTH($O$25)<>MONTH($O$25-(WEEKDAY($O$25,1)-(start_day-1))-IF((WEEKDAY($O$25,1)-(start_day-1))<=0,7,0)+(ROW(U30)-ROW($O$27))*7+(COLUMN(U30)-COLUMN($O$27)+1)),"",$O$25-(WEEKDAY($O$25,1)-(start_day-1))-IF((WEEKDAY($O$25,1)-(start_day-1))<=0,7,0)+(ROW(U30)-ROW($O$27))*7+(COLUMN(U30)-COLUMN($O$27)+1)) -> 46046 | X30: =IF(MONTH($X$25)<>MONTH($X$25-(WEEKDAY($X$25,1)-(start_day-1))-IF((WEEKDAY($X$25,1)-(start_day-1))<=0,7,0)+(ROW(X30)-ROW($X$27))*7+(COLUMN(X30)-COLUMN($X$27)+1)),"",$X$25-(WEEKDAY($X$25,1)-(start_day-1))-IF((WEEKDAY($X$25,1)-(start_day-1))<=0,7,0)+(ROW(X30)-ROW($X$27))*7+(COLUMN(X30)-COLUMN($X$27)+1)) -> 46103 | Y30: =IF(MONTH($X$25)<>MONTH($X$25-(WEEKDAY($X$25,1)-(start_day-1))-IF((WEEKDAY($X$25,1)-(start_day-1))<=0,7,0)+(ROW(Y30)-ROW($X$27))*7+(COLUMN(Y30)-COLUMN($X$27)+1)),"",$X$25-(WEEKDAY($X$25,1)-(start_day-1))-IF((WEEKDAY($X$25,1)-(start_day-1))<=0,7,0)+(ROW(Y30)-ROW($X$27))*7+(COLUMN(Y30)-COLUMN($X$27)+1)) -> 46104 | Z30: =IF(MONTH($X$25)<>MONTH($X$25-(WEEKDAY($X$25,1)-(start_day-1))-IF((WEEKDAY($X$25,1)-(start_day-1))<=0,7,0)+(ROW(Z30)-ROW($X$27))*7+(COLUMN(Z30)-COLUMN($X$27)+1)),"",$X$25-(WEEKDAY($X$25,1)-(start_day-1))-IF((WEEKDAY($X$25,1)-(start_day-1))<=0,7,0)+(ROW(Z30)-ROW($X$27))*7+(COLUMN(Z30)-COLUMN($X$27)+1)) -> 46105 | AA30: =IF(MONTH($X$25)<>MONTH($X$25-(WEEKDAY($X$25,1)-(start_day-1))-IF((WEEKDAY($X$25,1)-(start_day-1))<=0,7,0)+(ROW(AA30)-ROW($X$27))*7+(COLUMN(AA30)-COLUMN($X$27)+1)),"",$X$25-(WEEKDAY($X$25,1)-(start_day-1))-IF((WEEKDAY($X$25,1)-(start_day-1))<=0,7,0)+(ROW(AA30)-ROW($X$27))*7+(COLUMN(AA30)-COLUMN($X$27)+1)) -> 46106 | AB30: =IF(MONTH($X$25)<>MONTH($X$25-(WEEKDAY($X$25,1)-(start_day-1))-IF((WEEKDAY($X$25,1)-(start_day-1))<=0,7,0)+(ROW(AB30)-ROW($X$27))*7+(COLUMN(AB30)-COLUMN($X$27)+1)),"",$X$25-(WEEKDAY($X$25,1)-(start_day-1))-IF((WEEKDAY($X$25,1)-(start_day-1))<=0,7,0)+(ROW(AB30)-ROW($X$27))*7+(COLUMN(AB30)-COLUMN($X$27)+1)) -> 46107 | AC30: =IF(MONTH($X$25)<>MONTH($X$25-(WEEKDAY($X$25,1)-(start_day-1))-IF((WEEKDAY($X$25,1)-(start_day-1))<=0,7,0)+(ROW(AC30)-ROW($X$27))*7+(COLUMN(AC30)-COLUMN($X$27)+1)),"",$X$25-(WEEKDAY($X$25,1)-(start_day-1))-IF((WEEKDAY($X$25,1)-(start_day-1))<=0,7,0)+(ROW(AC30)-ROW($X$27))*7+(COLUMN(AC30)-COLUMN($X$27)+1)) -> 46108 | AD30: =IF(MONTH($X$25)<>MONTH($X$25-(WEEKDAY($X$25,1)-(start_day-1))-IF((WEEKDAY($X$25,1)-(start_day-1))<=0,7,0)+(ROW(AD30)-ROW($X$27))*7+(COLUMN(AD30)-COLUMN($X$27)+1)),"",$X$25-(WEEKDAY($X$25,1)-(start_day-1))-IF((WEEKDAY($X$25,1)-(start_day-1))<=0,7,0)+(ROW(AD30)-ROW($X$27))*7+(COLUMN(AD30)-COLUMN($X$27)+1)) -> 46109
O31: =IF(MONTH($O$25)<>MONTH($O$25-(WEEKDAY($O$25,1)-(start_day-1))-IF((WEEKDAY($O$25,1)-(start_day-1))<=0,7,0)+(ROW(O31)-ROW($O$27))*7+(COLUMN(O31)-COLUMN($O$27)+1)),"",$O$25-(WEEKDAY($O$25,1)-(start_day-1))-IF((WEEKDAY($O$25,1)-(start_day-1))<=0,7,0)+(ROW(O31)-ROW($O$27))*7+(COLUMN(O31)-COLUMN($O$27)+1)) -> 46047 | P31: =IF(MONTH($O$25)<>MONTH($O$25-(WEEKDAY($O$25,1)-(start_day-1))-IF((WEEKDAY($O$25,1)-(start_day-1))<=0,7,0)+(ROW(P31)-ROW($O$27))*7+(COLUMN(P31)-COLUMN($O$27)+1)),"",$O$25-(WEEKDAY($O$25,1)-(start_day-1))-IF((WEEKDAY($O$25,1)-(start_day-1))<=0,7,0)+(ROW(P31)-ROW($O$27))*7+(COLUMN(P31)-COLUMN($O$27)+1)) -> 46048 | Q31: =IF(MONTH($O$25)<>MONTH($O$25-(WEEKDAY($O$25,1)-(start_day-1))-IF((WEEKDAY($O$25,1)-(start_day-1))<=0,7,0)+(ROW(Q31)-ROW($O$27))*7+(COLUMN(Q31)-COLUMN($O$27)+1)),"",$O$25-(WEEKDAY($O$25,1)-(start_day-1))-IF((WEEKDAY($O$25,1)-(start_day-1))<=0,7,0)+(ROW(Q31)-ROW($O$27))*7+(COLUMN(Q31)-COLUMN($O$27)+1)) -> 46049 | R31: =IF(MONTH($O$25)<>MONTH($O$25-(WEEKDAY($O$25,1)-(start_day-1))-IF((WEEKDAY($O$25,1)-(start_day-1))<=0,7,0)+(ROW(R31)-ROW($O$27))*7+(COLUMN(R31)-COLUMN($O$27)+1)),"",$O$25-(WEEKDAY($O$25,1)-(start_day-1))-IF((WEEKDAY($O$25,1)-(start_day-1))<=0,7,0)+(ROW(R31)-ROW($O$27))*7+(COLUMN(R31)-COLUMN($O$27)+1)) -> 46050 | S31: =IF(MONTH($O$25)<>MONTH($O$25-(WEEKDAY($O$25,1)-(start_day-1))-IF((WEEKDAY($O$25,1)-(start_day-1))<=0,7,0)+(ROW(S31)-ROW($O$27))*7+(COLUMN(S31)-COLUMN($O$27)+1)),"",$O$25-(WEEKDAY($O$25,1)-(start_day-1))-IF((WEEKDAY($O$25,1)-(start_day-1))<=0,7,0)+(ROW(S31)-ROW($O$27))*7+(COLUMN(S31)-COLUMN($O$27)+1)) -> 46051 | T31: =IF(MONTH($O$25)<>MONTH($O$25-(WEEKDAY($O$25,1)-(start_day-1))-IF((WEEKDAY($O$25,1)-(start_day-1))<=0,7,0)+(ROW(T31)-ROW($O$27))*7+(COLUMN(T31)-COLUMN($O$27)+1)),"",$O$25-(WEEKDAY($O$25,1)-(start_day-1))-IF((WEEKDAY($O$25,1)-(start_day-1))<=0,7,0)+(ROW(T31)-ROW($O$27))*7+(COLUMN(T31)-COLUMN($O$27)+1)) -> 46052 | U31: =IF(MONTH($O$25)<>MONTH($O$25-(WEEKDAY($O$25,1)-(start_day-1))-IF((WEEKDAY($O$25,1)-(start_day-1))<=0,7,0)+(ROW(U31)-ROW($O$27))*7+(COLUMN(U31)-COLUMN($O$27)+1)),"",$O$25-(WEEKDAY($O$25,1)-(start_day-1))-IF((WEEKDAY($O$25,1)-(start_day-1))<=0,7,0)+(ROW(U31)-ROW($O$27))*7+(COLUMN(U31)-COLUMN($O$27)+1)) -> 46053 | X31: =IF(MONTH($X$25)<>MONTH($X$25-(WEEKDAY($X$25,1)-(start_day-1))-IF((WEEKDAY($X$25,1)-(start_day-1))<=0,7,0)+(ROW(X31)-ROW($X$27))*7+(COLUMN(X31)-COLUMN($X$27)+1)),"",$X$25-(WEEKDAY($X$25,1)-(start_day-1))-IF((WEEKDAY($X$25,1)-(start_day-1))<=0,7,0)+(ROW(X31)-ROW($X$27))*7+(COLUMN(X31)-COLUMN($X$27)+1)) -> 46110 | Y31: =IF(MONTH($X$25)<>MONTH($X$25-(WEEKDAY($X$25,1)-(start_day-1))-IF((WEEKDAY($X$25,1)-(start_day-1))<=0,7,0)+(ROW(Y31)-ROW($X$27))*7+(COLUMN(Y31)-COLUMN($X$27)+1)),"",$X$25-(WEEKDAY($X$25,1)-(start_day-1))-IF((WEEKDAY($X$25,1)-(start_day-1))<=0,7,0)+(ROW(Y31)-ROW($X$27))*7+(COLUMN(Y31)-COLUMN($X$27)+1)) -> 46111 | Z31: =IF(MONTH($X$25)<>MONTH($X$25-(WEEKDAY($X$25,1)-(start_day-1))-IF((WEEKDAY($X$25,1)-(start_day-1))<=0,7,0)+(ROW(Z31)-ROW($X$27))*7+(COLUMN(Z31)-COLUMN($X$27)+1)),"",$X$25-(WEEKDAY($X$25,1)-(start_day-1))-IF((WEEKDAY($X$25,1)-(start_day-1))<=0,7,0)+(ROW(Z31)-ROW($X$27))*7+(COLUMN(Z31)-COLUMN($X$27)+1)) -> 46112 | AA31: =IF(MONTH($X$25)<>MONTH($X$25-(WEEKDAY($X$25,1)-(start_day-1))-IF((WEEKDAY($X$25,1)-(start_day-1))<=0,7,0)+(ROW(AA31)-ROW($X$27))*7+(COLUMN(AA31)-COLUMN($X$27)+1)),"",$X$25-(WEEKDAY($X$25,1)-(start_day-1))-IF((WEEKDAY($X$25,1)-(start_day-1))<=0,7,0)+(ROW(AA31)-ROW($X$27))*7+(COLUMN(AA31)-COLUMN($X$27)+1)) | AB31: =IF(MONTH($X$25)<>MONTH($X$25-(WEEKDAY($X$25,1)-(start_day-1))-IF((WEEKDAY($X$25,1)-(start_day-1))<=0,7,0)+(ROW(AB31)-ROW($X$27))*7+(COLUMN(AB31)-COLUMN($X$27)+1)),"",$X$25-(WEEKDAY($X$25,1)-(start_day-1))-IF((WEEKDAY($X$25,1)-(start_day-1))<=0,7,0)+(ROW(AB31)-ROW($X$27))*7+(COLUMN(AB31)-COLUMN($X$27)+1)) | AC31: =IF(MONTH($X$25)<>MONTH($X$25-(WEEKDAY($X$25,1)-(start_day-1))-IF((WEEKDAY($X$25,1)-(start_day-1))<=0,7,0)+(ROW(AC31)-ROW($X$27))*7+(COLUMN(AC31)-COLUMN($X$27)+1)),"",$X$25-(WEEKDAY($X$25,1)-(start_day-1))-IF((WEEKDAY($X$25,1)-(start_day-1))<=0,7,0)+(ROW(AC31)-ROW($X$27))*7+(COLUMN(AC31)-COLUMN($X$27)+1)) | AD31: =IF(MONTH($X$25)<>MONTH($X$25-(WEEKDAY($X$25,1)-(start_day-1))-IF((WEEKDAY($X$25,1)-(start_day-1))<=0,7,0)+(ROW(AD31)-ROW($X$27))*7+(COLUMN(AD31)-COLUMN($X$27)+1)),"",$X$25-(WEEKDAY($X$25,1)-(start_day-1))-IF((WEEKDAY($X$25,1)-(start_day-1))<=0,7,0)+(ROW(AD31)-ROW($X$27))*7+(COLUMN(AD31)-COLUMN($X$27)+1))
O32: =IF(MONTH($O$25)<>MONTH($O$25-(WEEKDAY($O$25,1)-(start_day-1))-IF((WEEKDAY($O$25,1)-(start_day-1))<=0,7,0)+(ROW(O32)-ROW($O$27))*7+(COLUMN(O32)-COLUMN($O$27)+1)),"",$O$25-(WEEKDAY($O$25,1)-(start_day-1))-IF((WEEKDAY($O$25,1)-(start_day-1))<=0,7,0)+(ROW(O32)-ROW($O$27))*7+(COLUMN(O32)-COLUMN($O$27)+1)) | P32: =IF(MONTH($O$25)<>MONTH($O$25-(WEEKDAY($O$25,1)-(start_day-1))-IF((WEEKDAY($O$25,1)-(start_day-1))<=0,7,0)+(ROW(P32)-ROW($O$27))*7+(COLUMN(P32)-COLUMN($O$27)+1)),"",$O$25-(WEEKDAY($O$25,1)-(start_day-1))-IF((WEEKDAY($O$25,1)-(start_day-1))<=0,7,0)+(ROW(P32)-ROW($O$27))*7+(COLUMN(P32)-COLUMN($O$27)+1)) | Q32: =IF(MONTH($O$25)<>MONTH($O$25-(WEEKDAY($O$25,1)-(start_day-1))-IF((WEEKDAY($O$25,1)-(start_day-1))<=0,7,0)+(ROW(Q32)-ROW($O$27))*7+(COLUMN(Q32)-COLUMN($O$27)+1)),"",$O$25-(WEEKDAY($O$25,1)-(start_day-1))-IF((WEEKDAY($O$25,1)-(start_day-1))<=0,7,0)+(ROW(Q32)-ROW($O$27))*7+(COLUMN(Q32)-COLUMN($O$27)+1)) | R32: =IF(MONTH($O$25)<>MONTH($O$25-(WEEKDAY($O$25,1)-(start_day-1))-IF((WEEKDAY($O$25,1)-(start_day-1))<=0,7,0)+(ROW(R32)-ROW($O$27))*7+(COLUMN(R32)-COLUMN($O$27)+1)),"",$O$25-(WEEKDAY($O$25,1)-(start_day-1))-IF((WEEKDAY($O$25,1)-(start_day-1))<=0,7,0)+(ROW(R32)-ROW($O$27))*7+(COLUMN(R32)-COLUMN($O$27)+1)) | S32: =IF(MONTH($O$25)<>MONTH($O$25-(WEEKDAY($O$25,1)-(start_day-1))-IF((WEEKDAY($O$25,1)-(start_day-1))<=0,7,0)+(ROW(S32)-ROW($O$27))*7+(COLUMN(S32)-COLUMN($O$27)+1)),"",$O$25-(WEEKDAY($O$25,1)-(start_day-1))-IF((WEEKDAY($O$25,1)-(start_day-1))<=0,7,0)+(ROW(S32)-ROW($O$27))*7+(COLUMN(S32)-COLUMN($O$27)+1)) | T32: =IF(MONTH($O$25)<>MONTH($O$25-(WEEKDAY($O$25,1)-(start_day-1))-IF((WEEKDAY($O$25,1)-(start_day-1))<=0,7,0)+(ROW(T32)-ROW($O$27))*7+(COLUMN(T32)-COLUMN($O$27)+1)),"",$O$25-(WEEKDAY($O$25,1)-(start_day-1))-IF((WEEKDAY($O$25,1)-(start_day-1))<=0,7,0)+(ROW(T32)-ROW($O$27))*7+(COLUMN(T32)-COLUMN($O$27)+1)) | U32: =IF(MONTH($O$25)<>MONTH($O$25-(WEEKDAY($O$25,1)-(start_day-1))-IF((WEEKDAY($O$25,1)-(start_day-1))<=0,7,0)+(ROW(U32)-ROW($O$27))*7+(COLUMN(U32)-COLUMN($O$27)+1)),"",$O$25-(WEEKDAY($O$25,1)-(start_day-1))-IF((WEEKDAY($O$25,1)-(start_day-1))<=0,7,0)+(ROW(U32)-ROW($O$27))*7+(COLUMN(U32)-COLUMN($O$27)+1)) | X32: =IF(MONTH($X$25)<>MONTH($X$25-(WEEKDAY($X$25,1)-(start_day-1))-IF((WEEKDAY($X$25,1)-(start_day-1))<=0,7,0)+(ROW(X32)-ROW($X$27))*7+(COLUMN(X32)-COLUMN($X$27)+1)),"",$X$25-(WEEKDAY($X$25,1)-(start_day-1))-IF((WEEKDAY($X$25,1)-(start_day-1))<=0,7,0)+(ROW(X32)-ROW($X$27))*7+(COLUMN(X32)-COLUMN($X$27)+1)) | Y32: =IF(MONTH($X$25)<>MONTH($X$25-(WEEKDAY($X$25,1)-(start_day-1))-IF((WEEKDAY($X$25,1)-(start_day-1))<=0,7,0)+(ROW(Y32)-ROW($X$27))*7+(COLUMN(Y32)-COLUMN($X$27)+1)),"",$X$25-(WEEKDAY($X$25,1)-(start_day-1))-IF((WEEKDAY($X$25,1)-(start_day-1))<=0,7,0)+(ROW(Y32)-ROW($X$27))*7+(COLUMN(Y32)-COLUMN($X$27)+1)) | Z32: =IF(MONTH($X$25)<>MONTH($X$25-(WEEKDAY($X$25,1)-(start_day-1))-IF((WEEKDAY($X$25,1)-(start_day-1))<=0,7,0)+(ROW(Z32)-ROW($X$27))*7+(COLUMN(Z32)-COLUMN($X$27)+1)),"",$X$25-(WEEKDAY($X$25,1)-(start_day-1))-IF((WEEKDAY($X$25,1)-(start_day-1))<=0,7,0)+(ROW(Z32)-ROW($X$27))*7+(COLUMN(Z32)-COLUMN($X$27)+1)) | AA32: =IF(MONTH($X$25)<>MONTH($X$25-(WEEKDAY($X$25,1)-(start_day-1))-IF((WEEKDAY($X$25,1)-(start_day-1))<=0,7,0)+(ROW(AA32)-ROW($X$27))*7+(COLUMN(AA32)-COLUMN($X$27)+1)),"",$X$25-(WEEKDAY($X$25,1)-(start_day-1))-IF((WEEKDAY($X$25,1)-(start_day-1))<=0,7,0)+(ROW(AA32)-ROW($X$27))*7+(COLUMN(AA32)-COLUMN($X$27)+1)) | AB32: =IF(MONTH($X$25)<>MONTH($X$25-(WEEKDAY($X$25,1)-(start_day-1))-IF((WEEKDAY($X$25,1)-(start_day-1))<=0,7,0)+(ROW(AB32)-ROW($X$27))*7+(COLUMN(AB32)-COLUMN($X$27)+1)),"",$X$25-(WEEKDAY($X$25,1)-(start_day-1))-IF((WEEKDAY($X$25,1)-(start_day-1))<=0,7,0)+(ROW(AB32)-ROW($X$27))*7+(COLUMN(AB32)-COLUMN($X$27)+1)) | AC32: =IF(MONTH($X$25)<>MONTH($X$25-(WEEKDAY($X$25,1)-(start_day-1))-IF((WEEKDAY($X$25,1)-(start_day-1))<=0,7,0)+(ROW(AC32)-ROW($X$27))*7+(COLUMN(AC32)-COLUMN($X$27)+1)),"",$X$25-(WEEKDAY($X$25,1)-(start_day-1))-IF((WEEKDAY($X$25,1)-(start_day-1))<=0,7,0)+(ROW(AC32)-ROW($X$27))*7+(COLUMN(AC32)-COLUMN($X$27)+1)) | AD32: =IF(MONTH($X$25)<>MONTH($X$25-(WEEKDAY($X$25,1)-(start_day-1))-IF((WEEKDAY($X$25,1)-(start_day-1))<=0,7,0)+(ROW(AD32)-ROW($X$27))*7+(COLUMN(AD32)-COLUMN($X$27)+1)),"",$X$25-(WEEKDAY($X$25,1)-(start_day-1))-IF((WEEKDAY($X$25,1)-(start_day-1))<=0,7,0)+(ROW(AD32)-ROW($X$27))*7+(COLUMN(AD32)-COLUMN($X$27)+1))

Sheet March
C2: =DATE(About!Q8,About!Q10+2,1) -> 46082
C4: =C5 -> 46082 | E4: =E5 -> 46083 | G4: =G5 -> 46084 | I4: =I5 -> 46085 | K4: =K5 -> 46086 | O4: =O5 -> 46087 | W4: =W5 -> 46088
C5: =$C$2-(WEEKDAY($C$2,1)-(start_day-1))-IF((WEEKDAY($C$2,1)-(start_day-1))<=0,7,0)+1 -> 46082 | E5: =C5+1 -> 46083 | G5: =E5+1 -> 46084 | I5: =G5+1 -> 46085 | K5: =I5+1 -> 46086 | O5: =K5+1 -> 46087 | W5: =O5+1 -> 46088
C7: =W5+1 -> 46089
E8: =C7+1 -> 46090 | G8: =E8+1 -> 46091 | I8: =G8+1 -> 46092 | K8: =I8+1 -> 46093 | O8: =K8+1 -> 46094 | W8: =O8+1 -> 46095
C10: =W8+1 -> 46096
E11: =C10+1 -> 46097 | G11: =E11+1 -> 46098 | I11: =G11+1 -> 46099 | K11: =I11+1 -> 46100 | O11: =K11+1 -> 46101 | W11: =O11+1 -> 46102
C13: =W11+1 -> 46103
E14: =C13+1 -> 46104 | G14: =E14+1 -> 46105 | I14: =G14+1 -> 46106 | K14: =I14+1 -> 46107 | O14: =K14+1 -> 46108 | W14: =O14+1 -> 46109
C16: =W14+1 -> 46110
E17: =C16+1 -> 46111 | G17: =E17+1 -> 46112 | I17: =G17+1 -> 46113 | K17: =I17+1 -> 46114 | O17: =K17+1 -> 46115 | W17: =O17+1 -> 46116
C19: =W17+1 -> 46117
E20: =C19+1 -> 46118 | G20: =E20+1 -> 46119 | I20: =G20+1 -> 46120 | K20: =I20+1 -> 46121 | O20: =K20+1 -> 46122 | W20: =O20+1 -> 46123
C25: Notes | O25: =DATE(YEAR(C2),MONTH(C2)-1,1) -> 46054 | X25: =DATE(YEAR(C2),MONTH(C2)+1,1) -> 46113
O26: {=INDEX({"S";"M";"T";"W";"T";"F";"S"},1+MOD(start_day+1-2,7))} -> S | P26: {=INDEX({"S";"M";"T";"W";"T";"F";"S"},1+MOD(start_day+2-2,7))} -> M | Q26: {=INDEX({"S";"M";"T";"W";"T";"F";"S"},1+MOD(start_day+3-2,7))} -> T | R26: {=INDEX({"S";"M";"T";"W";"T";"F";"S"},1+MOD(start_day+4-2,7))} -> W | S26: {=INDEX({"S";"M";"T";"W";"T";"F";"S"},1+MOD(start_day+5-2,7))} -> T | T26: {=INDEX({"S";"M";"T";"W";"T";"F";"S"},1+MOD(start_day+6-2,7))} -> F | U26: {=INDEX({"S";"M";"T";"W";"T";"F";"S"},1+MOD(start_day+7-2,7))} -> S | X26: {=INDEX({"S";"M";"T";"W";"T";"F";"S"},1+MOD(start_day+1-2,7))} -> S | Y26: {=INDEX({"S";"M";"T";"W";"T";"F";"S"},1+MOD(start_day+2-2,7))} -> M | Z26: {=INDEX({"S";"M";"T";"W";"T";"F";"S"},1+MOD(start_day+3-2,7))} -> T | AA26: {=INDEX({"S";"M";"T";"W";"T";"F";"S"},1+MOD(start_day+4-2,7))} -> W | AB26: {=INDEX({"S";"M";"T";"W";"T";"F";"S"},1+MOD(start_day+5-2,7))} -> T | AC26: {=INDEX({"S";"M";"T";"W";"T";"F";"S"},1+MOD(start_day+6-2,7))} -> F | AD26: {=INDEX({"S";"M";"T";"W";"T";"F";"S"},1+MOD(start_day+7-2,7))} -> S
O27: =IF(MONTH($O$25)<>MONTH($O$25-(WEEKDAY($O$25,1)-(start_day-1))-IF((WEEKDAY($O$25,1)-(start_day-1))<=0,7,0)+(ROW(O27)-ROW($O$27))*7+(COLUMN(O27)-COLUMN($O$27)+1)),"",$O$25-(WEEKDAY($O$25,1)-(start_day-1))-IF((WEEKDAY($O$25,1)-(start_day-1))<=0,7,0)+(ROW(O27)-ROW($O$27))*7+(COLUMN(O27)-COLUMN($O$27)+1)) -> 46054 | P27: =IF(MONTH($O$25)<>MONTH($O$25-(WEEKDAY($O$25,1)-(start_day-1))-IF((WEEKDAY($O$25,1)-(start_day-1))<=0,7,0)+(ROW(P27)-ROW($O$27))*7+(COLUMN(P27)-COLUMN($O$27)+1)),"",$O$25-(WEEKDAY($O$25,1)-(start_day-1))-IF((WEEKDAY($O$25,1)-(start_day-1))<=0,7,0)+(ROW(P27)-ROW($O$27))*7+(COLUMN(P27)-COLUMN($O$27)+1)) -> 46055 | Q27: =IF(MONTH($O$25)<>MONTH($O$25-(WEEKDAY($O$25,1)-(start_day-1))-IF((WEEKDAY($O$25,1)-(start_day-1))<=0,7,0)+(ROW(Q27)-ROW($O$27))*7+(COLUMN(Q27)-COLUMN($O$27)+1)),"",$O$25-(WEEKDAY($O$25,1)-(start_day-1))-IF((WEEKDAY($O$25,1)-(start_day-1))<=0,7,0)+(ROW(Q27)-ROW($O$27))*7+(COLUMN(Q27)-COLUMN($O$27)+1)) -> 46056 | R27: =IF(MONTH($O$25)<>MONTH($O$25-(WEEKDAY($O$25,1)-(start_day-1))-IF((WEEKDAY($O$25,1)-(start_day-1))<=0,7,0)+(ROW(R27)-ROW($O$27))*7+(COLUMN(R27)-COLUMN($O$27)+1)),"",$O$25-(WEEKDAY($O$25,1)-(start_day-1))-IF((WEEKDAY($O$25,1)-(start_day-1))<=0,7,0)+(ROW(R27)-ROW($O$27))*7+(COLUMN(R27)-COLUMN($O$27)+1)) -> 46057 | S27: =IF(MONTH($O$25)<>MONTH($O$25-(WEEKDAY($O$25,1)-(start_day-1))-IF((WEEKDAY($O$25,1)-(start_day-1))<=0,7,0)+(ROW(S27)-ROW($O$27))*7+(COLUMN(S27)-COLUMN($O$27)+1)),"",$O$25-(WEEKDAY($O$25,1)-(start_day-1))-IF((WEEKDAY($O$25,1)-(start_day-1))<=0,7,0)+(ROW(S27)-ROW($O$27))*7+(COLUMN(S27)-COLUMN($O$27)+1)) -> 46058 | T27: =IF(MONTH($O$25)<>MONTH($O$25-(WEEKDAY($O$25,1)-(start_day-1))-IF((WEEKDAY($O$25,1)-(start_day-1))<=0,7,0)+(ROW(T27)-ROW($O$27))*7+(COLUMN(T27)-COLUMN($O$27)+1)),"",$O$25-(WEEKDAY($O$25,1)-(start_day-1))-IF((WEEKDAY($O$25,1)-(start_day-1))<=0,7,0)+(ROW(T27)-ROW($O$27))*7+(COLUMN(T27)-COLUMN($O$27)+1)) -> 46059 | U27: =IF(MONTH($O$25)<>MONTH($O$25-(WEEKDAY($O$25,1)-(start_day-1))-IF((WEEKDAY($O$25,1)-(start_day-1))<=0,7,0)+(ROW(U27)-ROW($O$27))*7+(COLUMN(U27)-COLUMN($O$27)+1)),"",$O$25-(WEEKDAY($O$25,1)-(start_day-1))-IF((WEEKDAY($O$25,1)-(start_day-1))<=0,7,0)+(ROW(U27)-ROW($O$27))*7+(COLUMN(U27)-COLUMN($O$27)+1)) -> 46060 | X27: =IF(MONTH($X$25)<>MONTH($X$25-(WEEKDAY($X$25,1)-(start_day-1))-IF((WEEKDAY($X$25,1)-(start_day-1))<=0,7,0)+(ROW(X27)-ROW($X$27))*7+(COLUMN(X27)-COLUMN($X$27)+1)),"",$X$25-(WEEKDAY($X$25,1)-(start_day-1))-IF((WEEKDAY($X$25,1)-(start_day-1))<=0,7,0)+(ROW(X27)-ROW($X$27))*7+(COLUMN(X27)-COLUMN($X$27)+1)) | Y27: =IF(MONTH($X$25)<>MONTH($X$25-(WEEKDAY($X$25,1)-(start_day-1))-IF((WEEKDAY($X$25,1)-(start_day-1))<=0,7,0)+(ROW(Y27)-ROW($X$27))*7+(COLUMN(Y27)-COLUMN($X$27)+1)),"",$X$25-(WEEKDAY($X$25,1)-(start_day-1))-IF((WEEKDAY($X$25,1)-(start_day-1))<=0,7,0)+(ROW(Y27)-ROW($X$27))*7+(COLUMN(Y27)-COLUMN($X$27)+1)) | Z27: =IF(MONTH($X$25)<>MONTH($X$25-(WEEKDAY($X$25,1)-(start_day-1))-IF((WEEKDAY($X$25,1)-(start_day-1))<=0,7,0)+(ROW(Z27)-ROW($X$27))*7+(COLUMN(Z27)-COLUMN($X$27)+1)),"",$X$25-(WEEKDAY($X$25,1)-(start_day-1))-IF((WEEKDAY($X$25,1)-(start_day-1))<=0,7,0)+(ROW(Z27)-ROW($X$27))*7+(COLUMN(Z27)-COLUMN($X$27)+1)) | AA27: =IF(MONTH($X$25)<>MONTH($X$25-(WEEKDAY($X$25,1)-(start_day-1))-IF((WEEKDAY($X$25,1)-(start_day-1))<=0,7,0)+(ROW(AA27)-ROW($X$27))*7+(COLUMN(AA27)-COLUMN($X$27)+1)),"",$X$25-(WEEKDAY($X$25,1)-(start_day-1))-IF((WEEKDAY($X$25,1)-(start_day-1))<=0,7,0)+(ROW(AA27)-ROW($X$27))*7+(COLUMN(AA27)-COLUMN($X$27)+1)) -> 46113 | AB27: =IF(MONTH($X$25)<>MONTH($X$25-(WEEKDAY($X$25,1)-(start_day-1))-IF((WEEKDAY($X$25,1)-(start_day-1))<=0,7,0)+(ROW(AB27)-ROW($X$27))*7+(COLUMN(AB27)-COLUMN($X$27)+1)),"",$X$25-(WEEKDAY($X$25,1)-(start_day-1))-IF((WEEKDAY($X$25,1)-(start_day-1))<=0,7,0)+(ROW(AB27)-ROW($X$27))*7+(COLUMN(AB27)-COLUMN($X$27)+1)) -> 46114 | AC27: =IF(MONTH($X$25)<>MONTH($X$25-(WEEKDAY($X$25,1)-(start_day-1))-IF((WEEKDAY($X$25,1)-(start_day-1))<=0,7,0)+(ROW(AC27)-ROW($X$27))*7+(COLUMN(AC27)-COLUMN($X$27)+1)),"",$X$25-(WEEKDAY($X$25,1)-(start_day-1))-IF((WEEKDAY($X$25,1)-(start_day-1))<=0,7,0)+(ROW(AC27)-ROW($X$27))*7+(COLUMN(AC27)-COLUMN($X$27)+1)) -> 46115 | AD27: =IF(MONTH($X$25)<>MONTH($X$25-(WEEKDAY($X$25,1)-(start_day-1))-IF((WEEKDAY($X$25,1)-(start_day-1))<=0,7,0)+(ROW(AD27)-ROW($X$27))*7+(COLUMN(AD27)-COLUMN($X$27)+1)),"",$X$25-(WEEKDAY($X$25,1)-(start_day-1))-IF((WEEKDAY($X$25,1)-(start_day-1))<=0,7,0)+(ROW(AD27)-ROW($X$27))*7+(COLUMN(AD27)-COLUMN($X$27)+1)) -> 46116
O28: =IF(MONTH($O$25)<>MONTH($O$25-(WEEKDAY($O$25,1)-(start_day-1))-IF((WEEKDAY($O$25,1)-(start_day-1))<=0,7,0)+(ROW(O28)-ROW($O$27))*7+(COLUMN(O28)-COLUMN($O$27)+1)),"",$O$25-(WEEKDAY($O$25,1)-(start_day-1))-IF((WEEKDAY($O$25,1)-(start_day-1))<=0,7,0)+(ROW(O28)-ROW($O$27))*7+(COLUMN(O28)-COLUMN($O$27)+1)) -> 46061 | P28: =IF(MONTH($O$25)<>MONTH($O$25-(WEEKDAY($O$25,1)-(start_day-1))-IF((WEEKDAY($O$25,1)-(start_day-1))<=0,7,0)+(ROW(P28)-ROW($O$27))*7+(COLUMN(P28)-COLUMN($O$27)+1)),"",$O$25-(WEEKDAY($O$25,1)-(start_day-1))-IF((WEEKDAY($O$25,1)-(start_day-1))<=0,7,0)+(ROW(P28)-ROW($O$27))*7+(COLUMN(P28)-COLUMN($O$27)+1)) -> 46062 | Q28: =IF(MONTH($O$25)<>MONTH($O$25-(WEEKDAY($O$25,1)-(start_day-1))-IF((WEEKDAY($O$25,1)-(start_day-1))<=0,7,0)+(ROW(Q28)-ROW($O$27))*7+(COLUMN(Q28)-COLUMN($O$27)+1)),"",$O$25-(WEEKDAY($O$25,1)-(start_day-1))-IF((WEEKDAY($O$25,1)-(start_day-1))<=0,7,0)+(ROW(Q28)-ROW($O$27))*7+(COLUMN(Q28)-COLUMN($O$27)+1)) -> 46063 | R28: =IF(MONTH($O$25)<>MONTH($O$25-(WEEKDAY($O$25,1)-(start_day-1))-IF((WEEKDAY($O$25,1)-(start_day-1))<=0,7,0)+(ROW(R28)-ROW($O$27))*7+(COLUMN(R28)-COLUMN($O$27)+1)),"",$O$25-(WEEKDAY($O$25,1)-(start_day-1))-IF((WEEKDAY($O$25,1)-(start_day-1))<=0,7,0)+(ROW(R28)-ROW($O$27))*7+(COLUMN(R28)-COLUMN($O$27)+1)) -> 46064 | S28: =IF(MONTH($O$25)<>MONTH($O$25-(WEEKDAY($O$25,1)-(start_day-1))-IF((WEEKDAY($O$25,1)-(start_day-1))<=0,7,0)+(ROW(S28)-ROW($O$27))*7+(COLUMN(S28)-COLUMN($O$27)+1)),"",$O$25-(WEEKDAY($O$25,1)-(start_day-1))-IF((WEEKDAY($O$25,1)-(start_day-1))<=0,7,0)+(ROW(S28)-ROW($O$27))*7+(COLUMN(S28)-COLUMN($O$27)+1)) -> 46065 | T28: =IF(MONTH($O$25)<>MONTH($O$25-(WEEKDAY($O$25,1)-(start_day-1))-IF((WEEKDAY($O$25,1)-(start_day-1))<=0,7,0)+(ROW(T28)-ROW($O$27))*7+(COLUMN(T28)-COLUMN($O$27)+1)),"",$O$25-(WEEKDAY($O$25,1)-(start_day-1))-IF((WEEKDAY($O$25,1)-(start_day-1))<=0,7,0)+(ROW(T28)-ROW($O$27))*7+(COLUMN(T28)-COLUMN($O$27)+1)) -> 46066 | U28: =IF(MONTH($O$25)<>MONTH($O$25-(WEEKDAY($O$25,1)-(start_day-1))-IF((WEEKDAY($O$25,1)-(start_day-1))<=0,7,0)+(ROW(U28)-ROW($O$27))*7+(COLUMN(U28)-COLUMN($O$27)+1)),"",$O$25-(WEEKDAY($O$25,1)-(start_day-1))-IF((WEEKDAY($O$25,1)-(start_day-1))<=0,7,0)+(ROW(U28)-ROW($O$27))*7+(COLUMN(U28)-COLUMN($O$27)+1)) -> 46067 | X28: =IF(MONTH($X$25)<>MONTH($X$25-(WEEKDAY($X$25,1)-(start_day-1))-IF((WEEKDAY($X$25,1)-(start_day-1))<=0,7,0)+(ROW(X28)-ROW($X$27))*7+(COLUMN(X28)-COLUMN($X$27)+1)),"",$X$25-(WEEKDAY($X$25,1)-(start_day-1))-IF((WEEKDAY($X$25,1)-(start_day-1))<=0,7,0)+(ROW(X28)-ROW($X$27))*7+(COLUMN(X28)-COLUMN($X$27)+1)) -> 46117 | Y28: =IF(MONTH($X$25)<>MONTH($X$25-(WEEKDAY($X$25,1)-(start_day-1))-IF((WEEKDAY($X$25,1)-(start_day-1))<=0,7,0)+(ROW(Y28)-ROW($X$27))*7+(COLUMN(Y28)-COLUMN($X$27)+1)),"",$X$25-(WEEKDAY($X$25,1)-(start_day-1))-IF((WEEKDAY($X$25,1)-(start_day-1))<=0,7,0)+(ROW(Y28)-ROW($X$27))*7+(COLUMN(Y28)-COLUMN($X$27)+1)) -> 46118 | Z28: =IF(MONTH($X$25)<>MONTH($X$25-(WEEKDAY($X$25,1)-(start_day-1))-IF((WEEKDAY($X$25,1)-(start_day-1))<=0,7,0)+(ROW(Z28)-ROW($X$27))*7+(COLUMN(Z28)-COLUMN($X$27)+1)),"",$X$25-(WEEKDAY($X$25,1)-(start_day-1))-IF((WEEKDAY($X$25,1)-(start_day-1))<=0,7,0)+(ROW(Z28)-ROW($X$27))*7+(COLUMN(Z28)-COLUMN($X$27)+1)) -> 46119 | AA28: =IF(MONTH($X$25)<>MONTH($X$25-(WEEKDAY($X$25,1)-(start_day-1))-IF((WEEKDAY($X$25,1)-(start_day-1))<=0,7,0)+(ROW(AA28)-ROW($X$27))*7+(COLUMN(AA28)-COLUMN($X$27)+1)),"",$X$25-(WEEKDAY($X$25,1)-(start_day-1))-IF((WEEKDAY($X$25,1)-(start_day-1))<=0,7,0)+(ROW(AA28)-ROW($X$27))*7+(COLUMN(AA28)-COLUMN($X$27)+1)) -> 46120 | AB28: =IF(MONTH($X$25)<>MONTH($X$25-(WEEKDAY($X$25,1)-(start_day-1))-IF((WEEKDAY($X$25,1)-(start_day-1))<=0,7,0)+(ROW(AB28)-ROW($X$27))*7+(COLUMN(AB28)-COLUMN($X$27)+1)),"",$X$25-(WEEKDAY($X$25,1)-(start_day-1))-IF((WEEKDAY($X$25,1)-(start_day-1))<=0,7,0)+(ROW(AB28)-ROW($X$27))*7+(COLUMN(AB28)-COLUMN($X$27)+1)) -> 46121 | AC28: =IF(MONTH($X$25)<>MONTH($X$25-(WEEKDAY($X$25,1)-(start_day-1))-IF((WEEKDAY($X$25,1)-(start_day-1))<=0,7,0)+(ROW(AC28)-ROW($X$27))*7+(COLUMN(AC28)-COLUMN($X$27)+1)),"",$X$25-(WEEKDAY($X$25,1)-(start_day-1))-IF((WEEKDAY($X$25,1)-(start_day-1))<=0,7,0)+(ROW(AC28)-ROW($X$27))*7+(COLUMN(AC28)-COLUMN($X$27)+1)) -> 46122 | AD28: =IF(MONTH($X$25)<>MONTH($X$25-(WEEKDAY($X$25,1)-(start_day-1))-IF((WEEKDAY($X$25,1)-(start_day-1))<=0,7,0)+(ROW(AD28)-ROW($X$27))*7+(COLUMN(AD28)-COLUMN($X$27)+1)),"",$X$25-(WEEKDAY($X$25,1)-(start_day-1))-IF((WEEKDAY($X$25,1)-(start_day-1))<=0,7,0)+(ROW(AD28)-ROW($X$27))*7+(COLUMN(AD28)-COLUMN($X$27)+1)) -> 46123
O29: =IF(MONTH($O$25)<>MONTH($O$25-(WEEKDAY($O$25,1)-(start_day-1))-IF((WEEKDAY($O$25,1)-(start_day-1))<=0,7,0)+(ROW(O29)-ROW($O$27))*7+(COLUMN(O29)-COLUMN($O$27)+1)),"",$O$25-(WEEKDAY($O$25,1)-(start_day-1))-IF((WEEKDAY($O$25,1)-(start_day-1))<=0,7,0)+(ROW(O29)-ROW($O$27))*7+(COLUMN(O29)-COLUMN($O$27)+1)) -> 46068 | P29: =IF(MONTH($O$25)<>MONTH($O$25-(WEEKDAY($O$25,1)-(start_day-1))-IF((WEEKDAY($O$25,1)-(start_day-1))<=0,7,0)+(ROW(P29)-ROW($O$27))*7+(COLUMN(P29)-COLUMN($O$27)+1)),"",$O$25-(WEEKDAY($O$25,1)-(start_day-1))-IF((WEEKDAY($O$25,1)-(start_day-1))<=0,7,0)+(ROW(P29)-ROW($O$27))*7+(COLUMN(P29)-COLUMN($O$27)+1)) -> 46069 | Q29: =IF(MONTH($O$25)<>MONTH($O$25-(WEEKDAY($O$25,1)-(start_day-1))-IF((WEEKDAY($O$25,1)-(start_day-1))<=0,7,0)+(ROW(Q29)-ROW($O$27))*7+(COLUMN(Q29)-COLUMN($O$27)+1)),"",$O$25-(WEEKDAY($O$25,1)-(start_day-1))-IF((WEEKDAY($O$25,1)-(start_day-1))<=0,7,0)+(ROW(Q29)-ROW($O$27))*7+(COLUMN(Q29)-COLUMN($O$27)+1)) -> 46070 | R29: =IF(MONTH($O$25)<>MONTH($O$25-(WEEKDAY($O$25,1)-(start_day-1))-IF((WEEKDAY($O$25,1)-(start_day-1))<=0,7,0)+(ROW(R29)-ROW($O$27))*7+(COLUMN(R29)-COLUMN($O$27)+1)),"",$O$25-(WEEKDAY($O$25,1)-(start_day-1))-IF((WEEKDAY($O$25,1)-(start_day-1))<=0,7,0)+(ROW(R29)-ROW($O$27))*7+(COLUMN(R29)-COLUMN($O$27)+1)) -> 46071 | S29: =IF(MONTH($O$25)<>MONTH($O$25-(WEEKDAY($O$25,1)-(start_day-1))-IF((WEEKDAY($O$25,1)-(start_day-1))<=0,7,0)+(ROW(S29)-ROW($O$27))*7+(COLUMN(S29)-COLUMN($O$27)+1)),"",$O$25-(WEEKDAY($O$25,1)-(start_day-1))-IF((WEEKDAY($O$25,1)-(start_day-1))<=0,7,0)+(ROW(S29)-ROW($O$27))*7+(COLUMN(S29)-COLUMN($O$27)+1)) -> 46072 | T29: =IF(MONTH($O$25)<>MONTH($O$25-(WEEKDAY($O$25,1)-(start_day-1))-IF((WEEKDAY($O$25,1)-(start_day-1))<=0,7,0)+(ROW(T29)-ROW($O$27))*7+(COLUMN(T29)-COLUMN($O$27)+1)),"",$O$25-(WEEKDAY($O$25,1)-(start_day-1))-IF((WEEKDAY($O$25,1)-(start_day-1))<=0,7,0)+(ROW(T29)-ROW($O$27))*7+(COLUMN(T29)-COLUMN($O$27)+1)) -> 46073 | U29: =IF(MONTH($O$25)<>MONTH($O$25-(WEEKDAY($O$25,1)-(start_day-1))-IF((WEEKDAY($O$25,1)-(start_day-1))<=0,7,0)+(ROW(U29)-ROW($O$27))*7+(COLUMN(U29)-COLUMN($O$27)+1)),"",$O$25-(WEEKDAY($O$25,1)-(start_day-1))-IF((WEEKDAY($O$25,1)-(start_day-1))<=0,7,0)+(ROW(U29)-ROW($O$27))*7+(COLUMN(U29)-COLUMN($O$27)+1)) -> 46074 | X29: =IF(MONTH($X$25)<>MONTH($X$25-(WEEKDAY($X$25,1)-(start_day-1))-IF((WEEKDAY($X$25,1)-(start_day-1))<=0,7,0)+(ROW(X29)-ROW($X$27))*7+(COLUMN(X29)-COLUMN($X$27)+1)),"",$X$25-(WEEKDAY($X$25,1)-(start_day-1))-IF((WEEKDAY($X$25,1)-(start_day-1))<=0,7,0)+(ROW(X29)-ROW($X$27))*7+(COLUMN(X29)-COLUMN($X$27)+1)) -> 46124 | Y29: =IF(MONTH($X$25)<>MONTH($X$25-(WEEKDAY($X$25,1)-(start_day-1))-IF((WEEKDAY($X$25,1)-(start_day-1))<=0,7,0)+(ROW(Y29)-ROW($X$27))*7+(COLUMN(Y29)-COLUMN($X$27)+1)),"",$X$25-(WEEKDAY($X$25,1)-(start_day-1))-IF((WEEKDAY($X$25,1)-(start_day-1))<=0,7,0)+(ROW(Y29)-ROW($X$27))*7+(COLUMN(Y29)-COLUMN($X$27)+1)) -> 46125 | Z29: =IF(MONTH($X$25)<>MONTH($X$25-(WEEKDAY($X$25,1)-(start_day-1))-IF((WEEKDAY($X$25,1)-(start_day-1))<=0,7,0)+(ROW(Z29)-ROW($X$27))*7+(COLUMN(Z29)-COLUMN($X$27)+1)),"",$X$25-(WEEKDAY($X$25,1)-(start_day-1))-IF((WEEKDAY($X$25,1)-(start_day-1))<=0,7,0)+(ROW(Z29)-ROW($X$27))*7+(COLUMN(Z29)-COLUMN($X$27)+1)) -> 46126 | AA29: =IF(MONTH($X$25)<>MONTH($X$25-(WEEKDAY($X$25,1)-(start_day-1))-IF((WEEKDAY($X$25,1)-(start_day-1))<=0,7,0)+(ROW(AA29)-ROW($X$27))*7+(COLUMN(AA29)-COLUMN($X$27)+1)),"",$X$25-(WEEKDAY($X$25,1)-(start_day-1))-IF((WEEKDAY($X$25,1)-(start_day-1))<=0,7,0)+(ROW(AA29)-ROW($X$27))*7+(COLUMN(AA29)-COLUMN($X$27)+1)) -> 46127 | AB29: =IF(MONTH($X$25)<>MONTH($X$25-(WEEKDAY($X$25,1)-(start_day-1))-IF((WEEKDAY($X$25,1)-(start_day-1))<=0,7,0)+(ROW(AB29)-ROW($X$27))*7+(COLUMN(AB29)-COLUMN($X$27)+1)),"",$X$25-(WEEKDAY($X$25,1)-(start_day-1))-IF((WEEKDAY($X$25,1)-(start_day-1))<=0,7,0)+(ROW(AB29)-ROW($X$27))*7+(COLUMN(AB29)-COLUMN($X$27)+1)) -> 46128 | AC29: =IF(MONTH($X$25)<>MONTH($X$25-(WEEKDAY($X$25,1)-(start_day-1))-IF((WEEKDAY($X$25,1)-(start_day-1))<=0,7,0)+(ROW(AC29)-ROW($X$27))*7+(COLUMN(AC29)-COLUMN($X$27)+1)),"",$X$25-(WEEKDAY($X$25,1)-(start_day-1))-IF((WEEKDAY($X$25,1)-(start_day-1))<=0,7,0)+(ROW(AC29)-ROW($X$27))*7+(COLUMN(AC29)-COLUMN($X$27)+1)) -> 46129 | AD29: =IF(MONTH($X$25)<>MONTH($X$25-(WEEKDAY($X$25,1)-(start_day-1))-IF((WEEKDAY($X$25,1)-(start_day-1))<=0,7,0)+(ROW(AD29)-ROW($X$27))*7+(COLUMN(AD29)-COLUMN($X$27)+1)),"",$X$25-(WEEKDAY($X$25,1)-(start_day-1))-IF((WEEKDAY($X$25,1)-(start_day-1))<=0,7,0)+(ROW(AD29)-ROW($X$27))*7+(COLUMN(AD29)-COLUMN($X$27)+1)) -> 46130
O30: =IF(MONTH($O$25)<>MONTH($O$25-(WEEKDAY($O$25,1)-(start_day-1))-IF((WEEKDAY($O$25,1)-(start_day-1))<=0,7,0)+(ROW(O30)-ROW($O$27))*7+(COLUMN(O30)-COLUMN($O$27)+1)),"",$O$25-(WEEKDAY($O$25,1)-(start_day-1))-IF((WEEKDAY($O$25,1)-(start_day-1))<=0,7,0)+(ROW(O30)-ROW($O$27))*7+(COLUMN(O30)-COLUMN($O$27)+1)) -> 46075 | P30: =IF(MONTH($O$25)<>MONTH($O$25-(WEEKDAY($O$25,1)-(start_day-1))-IF((WEEKDAY($O$25,1)-(start_day-1))<=0,7,0)+(ROW(P30)-ROW($O$27))*7+(COLUMN(P30)-COLUMN($O$27)+1)),"",$O$25-(WEEKDAY($O$25,1)-(start_day-1))-IF((WEEKDAY($O$25,1)-(start_day-1))<=0,7,0)+(ROW(P30)-ROW($O$27))*7+(COLUMN(P30)-COLUMN($O$27)+1)) -> 46076 | Q30: =IF(MONTH($O$25)<>MONTH($O$25-(WEEKDAY($O$25,1)-(start_day-1))-IF((WEEKDAY($O$25,1)-(start_day-1))<=0,7,0)+(ROW(Q30)-ROW($O$27))*7+(COLUMN(Q30)-COLUMN($O$27)+1)),"",$O$25-(WEEKDAY($O$25,1)-(start_day-1))-IF((WEEKDAY($O$25,1)-(start_day-1))<=0,7,0)+(ROW(Q30)-ROW($O$27))*7+(COLUMN(Q30)-COLUMN($O$27)+1)) -> 46077 | R30: =IF(MONTH($O$25)<>MONTH($O$25-(WEEKDAY($O$25,1)-(start_day-1))-IF((WEEKDAY($O$25,1)-(start_day-1))<=0,7,0)+(ROW(R30)-ROW($O$27))*7+(COLUMN(R30)-COLUMN($O$27)+1)),"",$O$25-(WEEKDAY($O$25,1)-(start_day-1))-IF((WEEKDAY($O$25,1)-(start_day-1))<=0,7,0)+(ROW(R30)-ROW($O$27))*7+(COLUMN(R30)-COLUMN($O$27)+1)) -> 46078 | S30: =IF(MONTH($O$25)<>MONTH($O$25-(WEEKDAY($O$25,1)-(start_day-1))-IF((WEEKDAY($O$25,1)-(start_day-1))<=0,7,0)+(ROW(S30)-ROW($O$27))*7+(COLUMN(S30)-COLUMN($O$27)+1)),"",$O$25-(WEEKDAY($O$25,1)-(start_day-1))-IF((WEEKDAY($O$25,1)-(start_day-1))<=0,7,0)+(ROW(S30)-ROW($O$27))*7+(COLUMN(S30)-COLUMN($O$27)+1)) -> 46079 | T30: =IF(MONTH($O$25)<>MONTH($O$25-(WEEKDAY($O$25,1)-(start_day-1))-IF((WEEKDAY($O$25,1)-(start_day-1))<=0,7,0)+(ROW(T30)-ROW($O$27))*7+(COLUMN(T30)-COLUMN($O$27)+1)),"",$O$25-(WEEKDAY($O$25,1)-(start_day-1))-IF((WEEKDAY($O$25,1)-(start_day-1))<=0,7,0)+(ROW(T30)-ROW($O$27))*7+(COLUMN(T30)-COLUMN($O$27)+1)) -> 46080 | U30: =IF(MONTH($O$25)<>MONTH($O$25-(WEEKDAY($O$25,1)-(start_day-1))-IF((WEEKDAY($O$25,1)-(start_day-1))<=0,7,0)+(ROW(U30)-ROW($O$27))*7+(COLUMN(U30)-COLUMN($O$27)+1)),"",$O$25-(WEEKDAY($O$25,1)-(start_day-1))-IF((WEEKDAY($O$25,1)-(start_day-1))<=0,7,0)+(ROW(U30)-ROW($O$27))*7+(COLUMN(U30)-COLUMN($O$27)+1)) -> 46081 | X30: =IF(MONTH($X$25)<>MONTH($X$25-(WEEKDAY($X$25,1)-(start_day-1))-IF((WEEKDAY($X$25,1)-(start_day-1))<=0,7,0)+(ROW(X30)-ROW($X$27))*7+(COLUMN(X30)-COLUMN($X$27)+1)),"",$X$25-(WEEKDAY($X$25,1)-(start_day-1))-IF((WEEKDAY($X$25,1)-(start_day-1))<=0,7,0)+(ROW(X30)-ROW($X$27))*7+(COLUMN(X30)-COLUMN($X$27)+1)) -> 46131 | Y30: =IF(MONTH($X$25)<>MONTH($X$25-(WEEKDAY($X$25,1)-(start_day-1))-IF((WEEKDAY($X$25,1)-(start_day-1))<=0,7,0)+(ROW(Y30)-ROW($X$27))*7+(COLUMN(Y30)-COLUMN($X$27)+1)),"",$X$25-(WEEKDAY($X$25,1)-(start_day-1))-IF((WEEKDAY($X$25,1)-(start_day-1))<=0,7,0)+(ROW(Y30)-ROW($X$27))*7+(COLUMN(Y30)-COLUMN($X$27)+1)) -> 46132 | Z30: =IF(MONTH($X$25)<>MONTH($X$25-(WEEKDAY($X$25,1)-(start_day-1))-IF((WEEKDAY($X$25,1)-(start_day-1))<=0,7,0)+(ROW(Z30)-ROW($X$27))*7+(COLUMN(Z30)-COLUMN($X$27)+1)),"",$X$25-(WEEKDAY($X$25,1)-(start_day-1))-IF((WEEKDAY($X$25,1)-(start_day-1))<=0,7,0)+(ROW(Z30)-ROW($X$27))*7+(COLUMN(Z30)-COLUMN($X$27)+1)) -> 46133 | AA30: =IF(MONTH($X$25)<>MONTH($X$25-(WEEKDAY($X$25,1)-(start_day-1))-IF((WEEKDAY($X$25,1)-(start_day-1))<=0,7,0)+(ROW(AA30)-ROW($X$27))*7+(COLUMN(AA30)-COLUMN($X$27)+1)),"",$X$25-(WEEKDAY($X$25,1)-(start_day-1))-IF((WEEKDAY($X$25,1)-(start_day-1))<=0,7,0)+(ROW(AA30)-ROW($X$27))*7+(COLUMN(AA30)-COLUMN($X$27)+1)) -> 46134 | AB30: =IF(MONTH($X$25)<>MONTH($X$25-(WEEKDAY($X$25,1)-(start_day-1))-IF((WEEKDAY($X$25,1)-(start_day-1))<=0,7,0)+(ROW(AB30)-ROW($X$27))*7+(COLUMN(AB30)-COLUMN($X$27)+1)),"",$X$25-(WEEKDAY($X$25,1)-(start_day-1))-IF((WEEKDAY($X$25,1)-(start_day-1))<=0,7,0)+(ROW(AB30)-ROW($X$27))*7+(COLUMN(AB30)-COLUMN($X$27)+1)) -> 46135 | AC30: =IF(MONTH($X$25)<>MONTH($X$25-(WEEKDAY($X$25,1)-(start_day-1))-IF((WEEKDAY($X$25,1)-(start_day-1))<=0,7,0)+(ROW(AC30)-ROW($X$27))*7+(COLUMN(AC30)-COLUMN($X$27)+1)),"",$X$25-(WEEKDAY($X$25,1)-(start_day-1))-IF((WEEKDAY($X$25,1)-(start_day-1))<=0,7,0)+(ROW(AC30)-ROW($X$27))*7+(COLUMN(AC30)-COLUMN($X$27)+1)) -> 46136 | AD30: =IF(MONTH($X$25)<>MONTH($X$25-(WEEKDAY($X$25,1)-(start_day-1))-IF((WEEKDAY($X$25,1)-(start_day-1))<=0,7,0)+(ROW(AD30)-ROW($X$27))*7+(COLUMN(AD30)-COLUMN($X$27)+1)),"",$X$25-(WEEKDAY($X$25,1)-(start_day-1))-IF((WEEKDAY($X$25,1)-(start_day-1))<=0,7,0)+(ROW(AD30)-ROW($X$27))*7+(COLUMN(AD30)-COLUMN($X$27)+1)) -> 46137
O31: =IF(MONTH($O$25)<>MONTH($O$25-(WEEKDAY($O$25,1)-(start_day-1))-IF((WEEKDAY($O$25,1)-(start_day-1))<=0,7,0)+(ROW(O31)-ROW($O$27))*7+(COLUMN(O31)-COLUMN($O$27)+1)),"",$O$25-(WEEKDAY($O$25,1)-(start_day-1))-IF((WEEKDAY($O$25,1)-(start_day-1))<=0,7,0)+(ROW(O31)-ROW($O$27))*7+(COLUMN(O31)-COLUMN($O$27)+1)) | P31: =IF(MONTH($O$25)<>MONTH($O$25-(WEEKDAY($O$25,1)-(start_day-1))-IF((WEEKDAY($O$25,1)-(start_day-1))<=0,7,0)+(ROW(P31)-ROW($O$27))*7+(COLUMN(P31)-COLUMN($O$27)+1)),"",$O$25-(WEEKDAY($O$25,1)-(start_day-1))-IF((WEEKDAY($O$25,1)-(start_day-1))<=0,7,0)+(ROW(P31)-ROW($O$27))*7+(COLUMN(P31)-COLUMN($O$27)+1)) | Q31: =IF(MONTH($O$25)<>MONTH($O$25-(WEEKDAY($O$25,1)-(start_day-1))-IF((WEEKDAY($O$25,1)-(start_day-1))<=0,7,0)+(ROW(Q31)-ROW($O$27))*7+(COLUMN(Q31)-COLUMN($O$27)+1)),"",$O$25-(WEEKDAY($O$25,1)-(start_day-1))-IF((WEEKDAY($O$25,1)-(start_day-1))<=0,7,0)+(ROW(Q31)-ROW($O$27))*7+(COLUMN(Q31)-COLUMN($O$27)+1)) | R31: =IF(MONTH($O$25)<>MONTH($O$25-(WEEKDAY($O$25,1)-(start_day-1))-IF((WEEKDAY($O$25,1)-(start_day-1))<=0,7,0)+(ROW(R31)-ROW($O$27))*7+(COLUMN(R31)-COLUMN($O$27)+1)),"",$O$25-(WEEKDAY($O$25,1)-(start_day-1))-IF((WEEKDAY($O$25,1)-(start_day-1))<=0,7,0)+(ROW(R31)-ROW($O$27))*7+(COLUMN(R31)-COLUMN($O$27)+1)) | S31: =IF(MONTH($O$25)<>MONTH($O$25-(WEEKDAY($O$25,1)-(start_day-1))-IF((WEEKDAY($O$25,1)-(start_day-1))<=0,7,0)+(ROW(S31)-ROW($O$27))*7+(COLUMN(S31)-COLUMN($O$27)+1)),"",$O$25-(WEEKDAY($O$25,1)-(start_day-1))-IF((WEEKDAY($O$25,1)-(start_day-1))<=0,7,0)+(ROW(S31)-ROW($O$27))*7+(COLUMN(S31)-COLUMN($O$27)+1)) | T31: =IF(MONTH($O$25)<>MONTH($O$25-(WEEKDAY($O$25,1)-(start_day-1))-IF((WEEKDAY($O$25,1)-(start_day-1))<=0,7,0)+(ROW(T31)-ROW($O$27))*7+(COLUMN(T31)-COLUMN($O$27)+1)),"",$O$25-(WEEKDAY($O$25,1)-(start_day-1))-IF((WEEKDAY($O$25,1)-(start_day-1))<=0,7,0)+(ROW(T31)-ROW($O$27))*7+(COLUMN(T31)-COLUMN($O$27)+1)) | U31: =IF(MONTH($O$25)<>MONTH($O$25-(WEEKDAY($O$25,1)-(start_day-1))-IF((WEEKDAY($O$25,1)-(start_day-1))<=0,7,0)+(ROW(U31)-ROW($O$27))*7+(COLUMN(U31)-COLUMN($O$27)+1)),"",$O$25-(WEEKDAY($O$25,1)-(start_day-1))-IF((WEEKDAY($O$25,1)-(start_day-1))<=0,7,0)+(ROW(U31)-ROW($O$27))*7+(COLUMN(U31)-COLUMN($O$27)+1)) | X31: =IF(MONTH($X$25)<>MONTH($X$25-(WEEKDAY($X$25,1)-(start_day-1))-IF((WEEKDAY($X$25,1)-(start_day-1))<=0,7,0)+(ROW(X31)-ROW($X$27))*7+(COLUMN(X31)-COLUMN($X$27)+1)),"",$X$25-(WEEKDAY($X$25,1)-(start_day-1))-IF((WEEKDAY($X$25,1)-(start_day-1))<=0,7,0)+(ROW(X31)-ROW($X$27))*7+(COLUMN(X31)-COLUMN($X$27)+1)) -> 46138 | Y31: =IF(MONTH($X$25)<>MONTH($X$25-(WEEKDAY($X$25,1)-(start_day-1))-IF((WEEKDAY($X$25,1)-(start_day-1))<=0,7,0)+(ROW(Y31)-ROW($X$27))*7+(COLUMN(Y31)-COLUMN($X$27)+1)),"",$X$25-(WEEKDAY($X$25,1)-(start_day-1))-IF((WEEKDAY($X$25,1)-(start_day-1))<=0,7,0)+(ROW(Y31)-ROW($X$27))*7+(COLUMN(Y31)-COLUMN($X$27)+1)) -> 46139 | Z31: =IF(MONTH($X$25)<>MONTH($X$25-(WEEKDAY($X$25,1)-(start_day-1))-IF((WEEKDAY($X$25,1)-(start_day-1))<=0,7,0)+(ROW(Z31)-ROW($X$27))*7+(COLUMN(Z31)-COLUMN($X$27)+1)),"",$X$25-(WEEKDAY($X$25,1)-(start_day-1))-IF((WEEKDAY($X$25,1)-(start_day-1))<=0,7,0)+(ROW(Z31)-ROW($X$27))*7+(COLUMN(Z31)-COLUMN($X$27)+1)) -> 46140 | AA31: =IF(MONTH($X$25)<>MONTH($X$25-(WEEKDAY($X$25,1)-(start_day-1))-IF((WEEKDAY($X$25,1)-(start_day-1))<=0,7,0)+(ROW(AA31)-ROW($X$27))*7+(COLUMN(AA31)-COLUMN($X$27)+1)),"",$X$25-(WEEKDAY($X$25,1)-(start_day-1))-IF((WEEKDAY($X$25,1)-(start_day-1))<=0,7,0)+(ROW(AA31)-ROW($X$27))*7+(COLUMN(AA31)-COLUMN($X$27)+1)) -> 46141 | AB31: =IF(MONTH($X$25)<>MONTH($X$25-(WEEKDAY($X$25,1)-(start_day-1))-IF((WEEKDAY($X$25,1)-(start_day-1))<=0,7,0)+(ROW(AB31)-ROW($X$27))*7+(COLUMN(AB31)-COLUMN($X$27)+1)),"",$X$25-(WEEKDAY($X$25,1)-(start_day-1))-IF((WEEKDAY($X$25,1)-(start_day-1))<=0,7,0)+(ROW(AB31)-ROW($X$27))*7+(COLUMN(AB31)-COLUMN($X$27)+1)) -> 46142 | AC31: =IF(MONTH($X$25)<>MONTH($X$25-(WEEKDAY($X$25,1)-(start_day-1))-IF((WEEKDAY($X$25,1)-(start_day-1))<=0,7,0)+(ROW(AC31)-ROW($X$27))*7+(COLUMN(AC31)-COLUMN($X$27)+1)),"",$X$25-(WEEKDAY($X$25,1)-(start_day-1))-IF((WEEKDAY($X$25,1)-(start_day-1))<=0,7,0)+(ROW(AC31)-ROW($X$27))*7+(COLUMN(AC31)-COLUMN($X$27)+1)) | AD31: =IF(MONTH($X$25)<>MONTH($X$25-(WEEKDAY($X$25,1)-(start_day-1))-IF((WEEKDAY($X$25,1)-(start_day-1))<=0,7,0)+(ROW(AD31)-ROW($X$27))*7+(COLUMN(AD31)-COLUMN($X$27)+1)),"",$X$25-(WEEKDAY($X$25,1)-(start_day-1))-IF((WEEKDAY($X$25,1)-(start_day-1))<=0,7,0)+(ROW(AD31)-ROW($X$27))*7+(COLUMN(AD31)-COLUMN($X$27)+1))
O32: =IF(MONTH($O$25)<>MONTH($O$25-(WEEKDAY($O$25,1)-(start_day-1))-IF((WEEKDAY($O$25,1)-(start_day-1))<=0,7,0)+(ROW(O32)-ROW($O$27))*7+(COLUMN(O32)-COLUMN($O$27)+1)),"",$O$25-(WEEKDAY($O$25,1)-(start_day-1))-IF((WEEKDAY($O$25,1)-(start_day-1))<=0,7,0)+(ROW(O32)-ROW($O$27))*7+(COLUMN(O32)-COLUMN($O$27)+1)) | P32: =IF(MONTH($O$25)<>MONTH($O$25-(WEEKDAY($O$25,1)-(start_day-1))-IF((WEEKDAY($O$25,1)-(start_day-1))<=0,7,0)+(ROW(P32)-ROW($O$27))*7+(COLUMN(P32)-COLUMN($O$27)+1)),"",$O$25-(WEEKDAY($O$25,1)-(start_day-1))-IF((WEEKDAY($O$25,1)-(start_day-1))<=0,7,0)+(ROW(P32)-ROW($O$27))*7+(COLUMN(P32)-COLUMN($O$27)+1)) | Q32: =IF(MONTH($O$25)<>MONTH($O$25-(WEEKDAY($O$25,1)-(start_day-1))-IF((WEEKDAY($O$25,1)-(start_day-1))<=0,7,0)+(ROW(Q32)-ROW($O$27))*7+(COLUMN(Q32)-COLUMN($O$27)+1)),"",$O$25-(WEEKDAY($O$25,1)-(start_day-1))-IF((WEEKDAY($O$25,1)-(start_day-1))<=0,7,0)+(ROW(Q32)-ROW($O$27))*7+(COLUMN(Q32)-COLUMN($O$27)+1)) | R32: =IF(MONTH($O$25)<>MONTH($O$25-(WEEKDAY($O$25,1)-(start_day-1))-IF((WEEKDAY($O$25,1)-(start_day-1))<=0,7,0)+(ROW(R32)-ROW($O$27))*7+(COLUMN(R32)-COLUMN($O$27)+1)),"",$O$25-(WEEKDAY($O$25,1)-(start_day-1))-IF((WEEKDAY($O$25,1)-(start_day-1))<=0,7,0)+(ROW(R32)-ROW($O$27))*7+(COLUMN(R32)-COLUMN($O$27)+1)) | S32: =IF(MONTH($O$25)<>MONTH($O$25-(WEEKDAY($O$25,1)-(start_day-1))-IF((WEEKDAY($O$25,1)-(start_day-1))<=0,7,0)+(ROW(S32)-ROW($O$27))*7+(COLUMN(S32)-COLUMN($O$27)+1)),"",$O$25-(WEEKDAY($O$25,1)-(start_day-1))-IF((WEEKDAY($O$25,1)-(start_day-1))<=0,7,0)+(ROW(S32)-ROW($O$27))*7+(COLUMN(S32)-COLUMN($O$27)+1)) | T32: =IF(MONTH($O$25)<>MONTH($O$25-(WEEKDAY($O$25,1)-(start_day-1))-IF((WEEKDAY($O$25,1)-(start_day-1))<=0,7,0)+(ROW(T32)-ROW($O$27))*7+(COLUMN(T32)-COLUMN($O$27)+1)),"",$O$25-(WEEKDAY($O$25,1)-(start_day-1))-IF((WEEKDAY($O$25,1)-(start_day-1))<=0,7,0)+(ROW(T32)-ROW($O$27))*7+(COLUMN(T32)-COLUMN($O$27)+1)) | U32: =IF(MONTH($O$25)<>MONTH($O$25-(WEEKDAY($O$25,1)-(start_day-1))-IF((WEEKDAY($O$25,1)-(start_day-1))<=0,7,0)+(ROW(U32)-ROW($O$27))*7+(COLUMN(U32)-COLUMN($O$27)+1)),"",$O$25-(WEEKDAY($O$25,1)-(start_day-1))-IF((WEEKDAY($O$25,1)-(start_day-1))<=0,7,0)+(ROW(U32)-ROW($O$27))*7+(COLUMN(U32)-COLUMN($O$27)+1)) | X32: =IF(MONTH($X$25)<>MONTH($X$25-(WEEKDAY($X$25,1)-(start_day-1))-IF((WEEKDAY($X$25,1)-(start_day-1))<=0,7,0)+(ROW(X32)-ROW($X$27))*7+(COLUMN(X32)-COLUMN($X$27)+1)),"",$X$25-(WEEKDAY($X$25,1)-(start_day-1))-IF((WEEKDAY($X$25,1)-(start_day-1))<=0,7,0)+(ROW(X32)-ROW($X$27))*7+(COLUMN(X32)-COLUMN($X$27)+1)) | Y32: =IF(MONTH($X$25)<>MONTH($X$25-(WEEKDAY($X$25,1)-(start_day-1))-IF((WEEKDAY($X$25,1)-(start_day-1))<=0,7,0)+(ROW(Y32)-ROW($X$27))*7+(COLUMN(Y32)-COLUMN($X$27)+1)),"",$X$25-(WEEKDAY($X$25,1)-(start_day-1))-IF((WEEKDAY($X$25,1)-(start_day-1))<=0,7,0)+(ROW(Y32)-ROW($X$27))*7+(COLUMN(Y32)-COLUMN($X$27)+1)) | Z32: =IF(MONTH($X$25)<>MONTH($X$25-(WEEKDAY($X$25,1)-(start_day-1))-IF((WEEKDAY($X$25,1)-(start_day-1))<=0,7,0)+(ROW(Z32)-ROW($X$27))*7+(COLUMN(Z32)-COLUMN($X$27)+1)),"",$X$25-(WEEKDAY($X$25,1)-(start_day-1))-IF((WEEKDAY($X$25,1)-(start_day-1))<=0,7,0)+(ROW(Z32)-ROW($X$27))*7+(COLUMN(Z32)-COLUMN($X$27)+1)) | AA32: =IF(MONTH($X$25)<>MONTH($X$25-(WEEKDAY($X$25,1)-(start_day-1))-IF((WEEKDAY($X$25,1)-(start_day-1))<=0,7,0)+(ROW(AA32)-ROW($X$27))*7+(COLUMN(AA32)-COLUMN($X$27)+1)),"",$X$25-(WEEKDAY($X$25,1)-(start_day-1))-IF((WEEKDAY($X$25,1)-(start_day-1))<=0,7,0)+(ROW(AA32)-ROW($X$27))*7+(COLUMN(AA32)-COLUMN($X$27)+1)) | AB32: =IF(MONTH($X$25)<>MONTH($X$25-(WEEKDAY($X$25,1)-(start_day-1))-IF((WEEKDAY($X$25,1)-(start_day-1))<=0,7,0)+(ROW(AB32)-ROW($X$27))*7+(COLUMN(AB32)-COLUMN($X$27)+1)),"",$X$25-(WEEKDAY($X$25,1)-(start_day-1))-IF((WEEKDAY($X$25,1)-(start_day-1))<=0,7,0)+(ROW(AB32)-ROW($X$27))*7+(COLUMN(AB32)-COLUMN($X$27)+1)) | AC32: =IF(MONTH($X$25)<>MONTH($X$25-(WEEKDAY($X$25,1)-(start_day-1))-IF((WEEKDAY($X$25,1)-(start_day-1))<=0,7,0)+(ROW(AC32)-ROW($X$27))*7+(COLUMN(AC32)-COLUMN($X$27)+1)),"",$X$25-(WEEKDAY($X$25,1)-(start_day-1))-IF((WEEKDAY($X$25,1)-(start_day-1))<=0,7,0)+(ROW(AC32)-ROW($X$27))*7+(COLUMN(AC32)-COLUMN($X$27)+1)) | AD32: =IF(MONTH($X$25)<>MONTH($X$25-(WEEKDAY($X$25,1)-(start_day-1))-IF((WEEKDAY($X$25,1)-(start_day-1))<=0,7,0)+(ROW(AD32)-ROW($X$27))*7+(COLUMN(AD32)-COLUMN($X$27)+1)),"",$X$25-(WEEKDAY($X$25,1)-(start_day-1))-IF((WEEKDAY($X$25,1)-(start_day-1))<=0,7,0)+(ROW(AD32)-ROW($X$27))*7+(COLUMN(AD32)-COLUMN($X$27)+1))

Sheet April
C2: =DATE(About!Q8,About!Q10+3,1) -> 46113
C4: =C5 -> 46110 | E4: =E5 -> 46111 | G4: =G5 -> 46112 | I4: =I5 -> 46113 | K4: =K5 -> 46114 | O4: =O5 -> 46115 | W4: =W5 -> 46116
C5: =$C$2-(WEEKDAY($C$2,1)-(start_day-1))-IF((WEEKDAY($C$2,1)-(start_day-1))<=0,7,0)+1 -> 46110 | E5: =C5+1 -> 46111 | G5: =E5+1 -> 46112 | I5: =G5+1 -> 46113 | K5: =I5+1 -> 46114 | O5: =K5+1 -> 46115 | W5: =O5+1 -> 46116
C7: =W5+1 -> 46117
E8: =C7+1 -> 46118 | G8: =E8+1 -> 46119 | I8: =G8+1 -> 46120 | K8: =I8+1 -> 46121 | O8: =K8+1 -> 46122 | W8: =O8+1 -> 46123
C10: =W8+1 -> 46124
E11: =C10+1 -> 46125 | G11: =E11+1 -> 46126 | I11: =G11+1 -> 46127 | K11: =I11+1 -> 46128 | O11: =K11+1 -> 46129 | W11: =O11+1 -> 46130
C13: =W11+1 -> 46131
E14: =C13+1 -> 46132 | G14: =E14+1 -> 46133 | I14: =G14+1 -> 46134 | K14: =I14+1 -> 46135 | O14: =K14+1 -> 46136 | W14: =O14+1 -> 46137
C16: =W14+1 -> 46138
E17: =C16+1 -> 46139 | G17: =E17+1 -> 46140 | I17: =G17+1 -> 46141 | K17: =I17+1 -> 46142 | O17: =K17+1 -> 46143 | W17: =O17+1 -> 46144
C19: =W17+1 -> 46145
E20: =C19+1 -> 46146 | G20: =E20+1 -> 46147 | I20: =G20+1 -> 46148 | K20: =I20+1 -> 46149 | O20: =K20+1 -> 46150 | W20: =O20+1 -> 46151
C25: Notes | O25: =DATE(YEAR(C2),MONTH(C2)-1,1) -> 46082 | X25: =DATE(YEAR(C2),MONTH(C2)+1,1) -> 46143
O26: {=INDEX({"S";"M";"T";"W";"T";"F";"S"},1+MOD(start_day+1-2,7))} -> S | P26: {=INDEX({"S";"M";"T";"W";"T";"F";"S"},1+MOD(start_day+2-2,7))} -> M | Q26: {=INDEX({"S";"M";"T";"W";"T";"F";"S"},1+MOD(start_day+3-2,7))} -> T | R26: {=INDEX({"S";"M";"T";"W";"T";"F";"S"},1+MOD(start_day+4-2,7))} -> W | S26: {=INDEX({"S";"M";"T";"W";"T";"F";"S"},1+MOD(start_day+5-2,7))} -> T | T26: {=INDEX({"S";"M";"T";"W";"T";"F";"S"},1+MOD(start_day+6-2,7))} -> F | U26: {=INDEX({"S";"M";"T";"W";"T";"F";"S"},1+MOD(start_day+7-2,7))} -> S | X26: {=INDEX({"S";"M";"T";"W";"T";"F";"S"},1+MOD(start_day+1-2,7))} -> S | Y26: {=INDEX({"S";"M";"T";"W";"T";"F";"S"},1+MOD(start_day+2-2,7))} -> M | Z26: {=INDEX({"S";"M";"T";"W";"T";"F";"S"},1+MOD(start_day+3-2,7))} -> T | AA26: {=INDEX({"S";"M";"T";"W";"T";"F";"S"},1+MOD(start_day+4-2,7))} -> W | AB26: {=INDEX({"S";"M";"T";"W";"T";"F";"S"},1+MOD(start_day+5-2,7))} -> T | AC26: {=INDEX({"S";"M";"T";"W";"T";"F";"S"},1+MOD(start_day+6-2,7))} -> F | AD26: {=INDEX({"S";"M";"T";"W";"T";"F";"S"},1+MOD(start_day+7-2,7))} -> S
O27: =IF(MONTH($O$25)<>MONTH($O$25-(WEEKDAY($O$25,1)-(start_day-1))-IF((WEEKDAY($O$25,1)-(start_day-1))<=0,7,0)+(ROW(O27)-ROW($O$27))*7+(COLUMN(O27)-COLUMN($O$27)+1)),"",$O$25-(WEEKDAY($O$25,1)-(start_day-1))-IF((WEEKDAY($O$25,1)-(start_day-1))<=0,7,0)+(ROW(O27)-ROW($O$27))*7+(COLUMN(O27)-COLUMN($O$27)+1)) -> 46082 | P27: =IF(MONTH($O$25)<>MONTH($O$25-(WEEKDAY($O$25,1)-(start_day-1))-IF((WEEKDAY($O$25,1)-(start_day-1))<=0,7,0)+(ROW(P27)-ROW($O$27))*7+(COLUMN(P27)-COLUMN($O$27)+1)),"",$O$25-(WEEKDAY($O$25,1)-(start_day-1))-IF((WEEKDAY($O$25,1)-(start_day-1))<=0,7,0)+(ROW(P27)-ROW($O$27))*7+(COLUMN(P27)-COLUMN($O$27)+1)) -> 46083 | Q27: =IF(MONTH($O$25)<>MONTH($O$25-(WEEKDAY($O$25,1)-(start_day-1))-IF((WEEKDAY($O$25,1)-(start_day-1))<=0,7,0)+(ROW(Q27)-ROW($O$27))*7+(COLUMN(Q27)-COLUMN($O$27)+1)),"",$O$25-(WEEKDAY($O$25,1)-(start_day-1))-IF((WEEKDAY($O$25,1)-(start_day-1))<=0,7,0)+(ROW(Q27)-ROW($O$27))*7+(COLUMN(Q27)-COLUMN($O$27)+1)) -> 46084 | R27: =IF(MONTH($O$25)<>MONTH($O$25-(WEEKDAY($O$25,1)-(start_day-1))-IF((WEEKDAY($O$25,1)-(start_day-1))<=0,7,0)+(ROW(R27)-ROW($O$27))*7+(COLUMN(R27)-COLUMN($O$27)+1)),"",$O$25-(WEEKDAY($O$25,1)-(start_day-1))-IF((WEEKDAY($O$25,1)-(start_day-1))<=0,7,0)+(ROW(R27)-ROW($O$27))*7+(COLUMN(R27)-COLUMN($O$27)+1)) -> 46085 | S27: =IF(MONTH($O$25)<>MONTH($O$25-(WEEKDAY($O$25,1)-(start_day-1))-IF((WEEKDAY($O$25,1)-(start_day-1))<=0,7,0)+(ROW(S27)-ROW($O$27))*7+(COLUMN(S27)-COLUMN($O$27)+1)),"",$O$25-(WEEKDAY($O$25,1)-(start_day-1))-IF((WEEKDAY($O$25,1)-(start_day-1))<=0,7,0)+(ROW(S27)-ROW($O$27))*7+(COLUMN(S27)-COLUMN($O$27)+1)) -> 46086 | T27: =IF(MONTH($O$25)<>MONTH($O$25-(WEEKDAY($O$25,1)-(start_day-1))-IF((WEEKDAY($O$25,1)-(start_day-1))<=0,7,0)+(ROW(T27)-ROW($O$27))*7+(COLUMN(T27)-COLUMN($O$27)+1)),"",$O$25-(WEEKDAY($O$25,1)-(start_day-1))-IF((WEEKDAY($O$25,1)-(start_day-1))<=0,7,0)+(ROW(T27)-ROW($O$27))*7+(COLUMN(T27)-COLUMN($O$27)+1)) -> 46087 | U27: =IF(MONTH($O$25)<>MONTH($O$25-(WEEKDAY($O$25,1)-(start_day-1))-IF((WEEKDAY($O$25,1)-(start_day-1))<=0,7,0)+(ROW(U27)-ROW($O$27))*7+(COLUMN(U27)-COLUMN($O$27)+1)),"",$O$25-(WEEKDAY($O$25,1)-(start_day-1))-IF((WEEKDAY($O$25,1)-(start_day-1))<=0,7,0)+(ROW(U27)-ROW($O$27))*7+(COLUMN(U27)-COLUMN($O$27)+1)) -> 46088 | X27: =IF(MONTH($X$25)<>MONTH($X$25-(WEEKDAY($X$25,1)-(start_day-1))-IF((WEEKDAY($X$25,1)-(start_day-1))<=0,7,0)+(ROW(X27)-ROW($X$27))*7+(COLUMN(X27)-COLUMN($X$27)+1)),"",$X$25-(WEEKDAY($X$25,1)-(start_day-1))-IF((WEEKDAY($X$25,1)-(start_day-1))<=0,7,0)+(ROW(X27)-ROW($X$27))*7+(COLUMN(X27)-COLUMN($X$27)+1)) | Y27: =IF(MONTH($X$25)<>MONTH($X$25-(WEEKDAY($X$25,1)-(start_day-1))-IF((WEEKDAY($X$25,1)-(start_day-1))<=0,7,0)+(ROW(Y27)-ROW($X$27))*7+(COLUMN(Y27)-COLUMN($X$27)+1)),"",$X$25-(WEEKDAY($X$25,1)-(start_day-1))-IF((WEEKDAY($X$25,1)-(start_day-1))<=0,7,0)+(ROW(Y27)-ROW($X$27))*7+(COLUMN(Y27)-COLUMN($X$27)+1)) | Z27: =IF(MONTH($X$25)<>MONTH($X$25-(WEEKDAY($X$25,1)-(start_day-1))-IF((WEEKDAY($X$25,1)-(start_day-1))<=0,7,0)+(ROW(Z27)-ROW($X$27))*7+(COLUMN(Z27)-COLUMN($X$27)+1)),"",$X$25-(WEEKDAY($X$25,1)-(start_day-1))-IF((WEEKDAY($X$25,1)-(start_day-1))<=0,7,0)+(ROW(Z27)-ROW($X$27))*7+(COLUMN(Z27)-COLUMN($X$27)+1)) | AA27: =IF(MONTH($X$25)<>MONTH($X$25-(WEEKDAY($X$25,1)-(start_day-1))-IF((WEEKDAY($X$25,1)-(start_day-1))<=0,7,0)+(ROW(AA27)-ROW($X$27))*7+(COLUMN(AA27)-COLUMN($X$27)+1)),"",$X$25-(WEEKDAY($X$25,1)-(start_day-1))-IF((WEEKDAY($X$25,1)-(start_day-1))<=0,7,0)+(ROW(AA27)-ROW($X$27))*7+(COLUMN(AA27)-COLUMN($X$27)+1)) | AB27: =IF(MONTH($X$25)<>MONTH($X$25-(WEEKDAY($X$25,1)-(start_day-1))-IF((WEEKDAY($X$25,1)-(start_day-1))<=0,7,0)+(ROW(AB27)-ROW($X$27))*7+(COLUMN(AB27)-COLUMN($X$27)+1)),"",$X$25-(WEEKDAY($X$25,1)-(start_day-1))-IF((WEEKDAY($X$25,1)-(start_day-1))<=0,7,0)+(ROW(AB27)-ROW($X$27))*7+(COLUMN(AB27)-COLUMN($X$27)+1)) | AC27: =IF(MONTH($X$25)<>MONTH($X$25-(WEEKDAY($X$25,1)-(start_day-1))-IF((WEEKDAY($X$25,1)-(start_day-1))<=0,7,0)+(ROW(AC27)-ROW($X$27))*7+(COLUMN(AC27)-COLUMN($X$27)+1)),"",$X$25-(WEEKDAY($X$25,1)-(start_day-1))-IF((WEEKDAY($X$25,1)-(start_day-1))<=0,7,0)+(ROW(AC27)-ROW($X$27))*7+(COLUMN(AC27)-COLUMN($X$27)+1)) -> 46143 | AD27: =IF(MONTH($X$25)<>MONTH($X$25-(WEEKDAY($X$25,1)-(start_day-1))-IF((WEEKDAY($X$25,1)-(start_day-1))<=0,7,0)+(ROW(AD27)-ROW($X$27))*7+(COLUMN(AD27)-COLUMN($X$27)+1)),"",$X$25-(WEEKDAY($X$25,1)-(start_day-1))-IF((WEEKDAY($X$25,1)-(start_day-1))<=0,7,0)+(ROW(AD27)-ROW($X$27))*7+(COLUMN(AD27)-COLUMN($X$27)+1)) -> 46144
O28: =IF(MONTH($O$25)<>MONTH($O$25-(WEEKDAY($O$25,1)-(start_day-1))-IF((WEEKDAY($O$25,1)-(start_day-1))<=0,7,0)+(ROW(O28)-ROW($O$27))*7+(COLUMN(O28)-COLUMN($O$27)+1)),"",$O$25-(WEEKDAY($O$25,1)-(start_day-1))-IF((WEEKDAY($O$25,1)-(start_day-1))<=0,7,0)+(ROW(O28)-ROW($O$27))*7+(COLUMN(O28)-COLUMN($O$27)+1)) -> 46089 | P28: =IF(MONTH($O$25)<>MONTH($O$25-(WEEKDAY($O$25,1)-(start_day-1))-IF((WEEKDAY($O$25,1)-(start_day-1))<=0,7,0)+(ROW(P28)-ROW($O$27))*7+(COLUMN(P28)-COLUMN($O$27)+1)),"",$O$25-(WEEKDAY($O$25,1)-(start_day-1))-IF((WEEKDAY($O$25,1)-(start_day-1))<=0,7,0)+(ROW(P28)-ROW($O$27))*7+(COLUMN(P28)-COLUMN($O$27)+1)) -> 46090 | Q28: =IF(MONTH($O$25)<>MONTH($O$25-(WEEKDAY($O$25,1)-(start_day-1))-IF((WEEKDAY($O$25,1)-(start_day-1))<=0,7,0)+(ROW(Q28)-ROW($O$27))*7+(COLUMN(Q28)-COLUMN($O$27)+1)),"",$O$25-(WEEKDAY($O$25,1)-(start_day-1))-IF((WEEKDAY($O$25,1)-(start_day-1))<=0,7,0)+(ROW(Q28)-ROW($O$27))*7+(COLUMN(Q28)-COLUMN($O$27)+1)) -> 46091 | R28: =IF(MONTH($O$25)<>MONTH($O$25-(WEEKDAY($O$25,1)-(start_day-1))-IF((WEEKDAY($O$25,1)-(start_day-1))<=0,7,0)+(ROW(R28)-ROW($O$27))*7+(COLUMN(R28)-COLUMN($O$27)+1)),"",$O$25-(WEEKDAY($O$25,1)-(start_day-1))-IF((WEEKDAY($O$25,1)-(start_day-1))<=0,7,0)+(ROW(R28)-ROW($O$27))*7+(COLUMN(R28)-COLUMN($O$27)+1)) -> 46092 | S28: =IF(MONTH($O$25)<>MONTH($O$25-(WEEKDAY($O$25,1)-(start_day-1))-IF((WEEKDAY($O$25,1)-(start_day-1))<=0,7,0)+(ROW(S28)-ROW($O$27))*7+(COLUMN(S28)-COLUMN($O$27)+1)),"",$O$25-(WEEKDAY($O$25,1)-(start_day-1))-IF((WEEKDAY($O$25,1)-(start_day-1))<=0,7,0)+(ROW(S28)-ROW($O$27))*7+(COLUMN(S28)-COLUMN($O$27)+1)) -> 46093 | T28: =IF(MONTH($O$25)<>MONTH($O$25-(WEEKDAY($O$25,1)-(start_day-1))-IF((WEEKDAY($O$25,1)-(start_day-1))<=0,7,0)+(ROW(T28)-ROW($O$27))*7+(COLUMN(T28)-COLUMN($O$27)+1)),"",$O$25-(WEEKDAY($O$25,1)-(start_day-1))-IF((WEEKDAY($O$25,1)-(start_day-1))<=0,7,0)+(ROW(T28)-ROW($O$27))*7+(COLUMN(T28)-COLUMN($O$27)+1)) -> 46094 | U28: =IF(MONTH($O$25)<>MONTH($O$25-(WEEKDAY($O$25,1)-(start_day-1))-IF((WEEKDAY($O$25,1)-(start_day-1))<=0,7,0)+(ROW(U28)-ROW($O$27))*7+(COLUMN(U28)-COLUMN($O$27)+1)),"",$O$25-(WEEKDAY($O$25,1)-(start_day-1))-IF((WEEKDAY($O$25,1)-(start_day-1))<=0,7,0)+(ROW(U28)-ROW($O$27))*7+(COLUMN(U28)-COLUMN($O$27)+1)) -> 46095 | X28: =IF(MONTH($X$25)<>MONTH($X$25-(WEEKDAY($X$25,1)-(start_day-1))-IF((WEEKDAY($X$25,1)-(start_day-1))<=0,7,0)+(ROW(X28)-ROW($X$27))*7+(COLUMN(X28)-COLUMN($X$27)+1)),"",$X$25-(WEEKDAY($X$25,1)-(start_day-1))-IF((WEEKDAY($X$25,1)-(start_day-1))<=0,7,0)+(ROW(X28)-ROW($X$27))*7+(COLUMN(X28)-COLUMN($X$27)+1)) -> 46145 | Y28: =IF(MONTH($X$25)<>MONTH($X$25-(WEEKDAY($X$25,1)-(start_day-1))-IF((WEEKDAY($X$25,1)-(start_day-1))<=0,7,0)+(ROW(Y28)-ROW($X$27))*7+(COLUMN(Y28)-COLUMN($X$27)+1)),"",$X$25-(WEEKDAY($X$25,1)-(start_day-1))-IF((WEEKDAY($X$25,1)-(start_day-1))<=0,7,0)+(ROW(Y28)-ROW($X$27))*7+(COLUMN(Y28)-COLUMN($X$27)+1)) -> 46146 | Z28: =IF(MONTH($X$25)<>MONTH($X$25-(WEEKDAY($X$25,1)-(start_day-1))-IF((WEEKDAY($X$25,1)-(start_day-1))<=0,7,0)+(ROW(Z28)-ROW($X$27))*7+(COLUMN(Z28)-COLUMN($X$27)+1)),"",$X$25-(WEEKDAY($X$25,1)-(start_day-1))-IF((WEEKDAY($X$25,1)-(start_day-1))<=0,7,0)+(ROW(Z28)-ROW($X$27))*7+(COLUMN(Z28)-COLUMN($X$27)+1)) -> 46147 | AA28: =IF(MONTH($X$25)<>MONTH($X$25-(WEEKDAY($X$25,1)-(start_day-1))-IF((WEEKDAY($X$25,1)-(start_day-1))<=0,7,0)+(ROW(AA28)-ROW($X$27))*7+(COLUMN(AA28)-COLUMN($X$27)+1)),"",$X$25-(WEEKDAY($X$25,1)-(start_day-1))-IF((WEEKDAY($X$25,1)-(start_day-1))<=0,7,0)+(ROW(AA28)-ROW($X$27))*7+(COLUMN(AA28)-COLUMN($X$27)+1)) -> 46148 | AB28: =IF(MONTH($X$25)<>MONTH($X$25-(WEEKDAY($X$25,1)-(start_day-1))-IF((WEEKDAY($X$25,1)-(start_day-1))<=0,7,0)+(ROW(AB28)-ROW($X$27))*7+(COLUMN(AB28)-COLUMN($X$27)+1)),"",$X$25-(WEEKDAY($X$25,1)-(start_day-1))-IF((WEEKDAY($X$25,1)-(start_day-1))<=0,7,0)+(ROW(AB28)-ROW($X$27))*7+(COLUMN(AB28)-COLUMN($X$27)+1)) -> 46149 | AC28: =IF(MONTH($X$25)<>MONTH($X$25-(WEEKDAY($X$25,1)-(start_day-1))-IF((WEEKDAY($X$25,1)-(start_day-1))<=0,7,0)+(ROW(AC28)-ROW($X$27))*7+(COLUMN(AC28)-COLUMN($X$27)+1)),"",$X$25-(WEEKDAY($X$25,1)-(start_day-1))-IF((WEEKDAY($X$25,1)-(start_day-1))<=0,7,0)+(ROW(AC28)-ROW($X$27))*7+(COLUMN(AC28)-COLUMN($X$27)+1)) -> 46150 | AD28: =IF(MONTH($X$25)<>MONTH($X$25-(WEEKDAY($X$25,1)-(start_day-1))-IF((WEEKDAY($X$25,1)-(start_day-1))<=0,7,0)+(ROW(AD28)-ROW($X$27))*7+(COLUMN(AD28)-COLUMN($X$27)+1)),"",$X$25-(WEEKDAY($X$25,1)-(start_day-1))-IF((WEEKDAY($X$25,1)-(start_day-1))<=0,7,0)+(ROW(AD28)-ROW($X$27))*7+(COLUMN(AD28)-COLUMN($X$27)+1)) -> 46151
O29: =IF(MONTH($O$25)<>MONTH($O$25-(WEEKDAY($O$25,1)-(start_day-1))-IF((WEEKDAY($O$25,1)-(start_day-1))<=0,7,0)+(ROW(O29)-ROW($O$27))*7+(COLUMN(O29)-COLUMN($O$27)+1)),"",$O$25-(WEEKDAY($O$25,1)-(start_day-1))-IF((WEEKDAY($O$25,1)-(start_day-1))<=0,7,0)+(ROW(O29)-ROW($O$27))*7+(COLUMN(O29)-COLUMN($O$27)+1)) -> 46096 | P29: =IF(MONTH($O$25)<>MONTH($O$25-(WEEKDAY($O$25,1)-(start_day-1))-IF((WEEKDAY($O$25,1)-(start_day-1))<=0,7,0)+(ROW(P29)-ROW($O$27))*7+(COLUMN(P29)-COLUMN($O$27)+1)),"",$O$25-(WEEKDAY($O$25,1)-(start_day-1))-IF((WEEKDAY($O$25,1)-(start_day-1))<=0,7,0)+(ROW(P29)-ROW($O$27))*7+(COLUMN(P29)-COLUMN($O$27)+1)) -> 46097 | Q29: =IF(MONTH($O$25)<>MONTH($O$25-(WEEKDAY($O$25,1)-(start_day-1))-IF((WEEKDAY($O$25,1)-(start_day-1))<=0,7,0)+(ROW(Q29)-ROW($O$27))*7+(COLUMN(Q29)-COLUMN($O$27)+1)),"",$O$25-(WEEKDAY($O$25,1)-(start_day-1))-IF((WEEKDAY($O$25,1)-(start_day-1))<=0,7,0)+(ROW(Q29)-ROW($O$27))*7+(COLUMN(Q29)-COLUMN($O$27)+1)) -> 46098 | R29: =IF(MONTH($O$25)<>MONTH($O$25-(WEEKDAY($O$25,1)-(start_day-1))-IF((WEEKDAY($O$25,1)-(start_day-1))<=0,7,0)+(ROW(R29)-ROW($O$27))*7+(COLUMN(R29)-COLUMN($O$27)+1)),"",$O$25-(WEEKDAY($O$25,1)-(start_day-1))-IF((WEEKDAY($O$25,1)-(start_day-1))<=0,7,0)+(ROW(R29)-ROW($O$27))*7+(COLUMN(R29)-COLUMN($O$27)+1)) -> 46099 | S29: =IF(MONTH($O$25)<>MONTH($O$25-(WEEKDAY($O$25,1)-(start_day-1))-IF((WEEKDAY($O$25,1)-(start_day-1))<=0,7,0)+(ROW(S29)-ROW($O$27))*7+(COLUMN(S29)-COLUMN($O$27)+1)),"",$O$25-(WEEKDAY($O$25,1)-(start_day-1))-IF((WEEKDAY($O$25,1)-(start_day-1))<=0,7,0)+(ROW(S29)-ROW($O$27))*7+(COLUMN(S29)-COLUMN($O$27)+1)) -> 46100 | T29: =IF(MONTH($O$25)<>MONTH($O$25-(WEEKDAY($O$25,1)-(start_day-1))-IF((WEEKDAY($O$25,1)-(start_day-1))<=0,7,0)+(ROW(T29)-ROW($O$27))*7+(COLUMN(T29)-COLUMN($O$27)+1)),"",$O$25-(WEEKDAY($O$25,1)-(start_day-1))-IF((WEEKDAY($O$25,1)-(start_day-1))<=0,7,0)+(ROW(T29)-ROW($O$27))*7+(COLUMN(T29)-COLUMN($O$27)+1)) -> 46101 | U29: =IF(MONTH($O$25)<>MONTH($O$25-(WEEKDAY($O$25,1)-(start_day-1))-IF((WEEKDAY($O$25,1)-(start_day-1))<=0,7,0)+(ROW(U29)-ROW($O$27))*7+(COLUMN(U29)-COLUMN($O$27)+1)),"",$O$25-(WEEKDAY($O$25,1)-(start_day-1))-IF((WEEKDAY($O$25,1)-(start_day-1))<=0,7,0)+(ROW(U29)-ROW($O$27))*7+(COLUMN(U29)-COLUMN($O$27)+1)) -> 46102 | X29: =IF(MONTH($X$25)<>MONTH($X$25-(WEEKDAY($X$25,1)-(start_day-1))-IF((WEEKDAY($X$25,1)-(start_day-1))<=0,7,0)+(ROW(X29)-ROW($X$27))*7+(COLUMN(X29)-COLUMN($X$27)+1)),"",$X$25-(WEEKDAY($X$25,1)-(start_day-1))-IF((WEEKDAY($X$25,1)-(start_day-1))<=0,7,0)+(ROW(X29)-ROW($X$27))*7+(COLUMN(X29)-COLUMN($X$27)+1)) -> 46152 | Y29: =IF(MONTH($X$25)<>MONTH($X$25-(WEEKDAY($X$25,1)-(start_day-1))-IF((WEEKDAY($X$25,1)-(start_day-1))<=0,7,0)+(ROW(Y29)-ROW($X$27))*7+(COLUMN(Y29)-COLUMN($X$27)+1)),"",$X$25-(WEEKDAY($X$25,1)-(start_day-1))-IF((WEEKDAY($X$25,1)-(start_day-1))<=0,7,0)+(ROW(Y29)-ROW($X$27))*7+(COLUMN(Y29)-COLUMN($X$27)+1)) -> 46153 | Z29: =IF(MONTH($X$25)<>MONTH($X$25-(WEEKDAY($X$25,1)-(start_day-1))-IF((WEEKDAY($X$25,1)-(start_day-1))<=0,7,0)+(ROW(Z29)-ROW($X$27))*7+(COLUMN(Z29)-COLUMN($X$27)+1)),"",$X$25-(WEEKDAY($X$25,1)-(start_day-1))-IF((WEEKDAY($X$25,1)-(start_day-1))<=0,7,0)+(ROW(Z29)-ROW($X$27))*7+(COLUMN(Z29)-COLUMN($X$27)+1)) -> 46154 | AA29: =IF(MONTH($X$25)<>MONTH($X$25-(WEEKDAY($X$25,1)-(start_day-1))-IF((WEEKDAY($X$25,1)-(start_day-1))<=0,7,0)+(ROW(AA29)-ROW($X$27))*7+(COLUMN(AA29)-COLUMN($X$27)+1)),"",$X$25-(WEEKDAY($X$25,1)-(start_day-1))-IF((WEEKDAY($X$25,1)-(start_day-1))<=0,7,0)+(ROW(AA29)-ROW($X$27))*7+(COLUMN(AA29)-COLUMN($X$27)+1)) -> 46155 | AB29: =IF(MONTH($X$25)<>MONTH($X$25-(WEEKDAY($X$25,1)-(start_day-1))-IF((WEEKDAY($X$25,1)-(start_day-1))<=0,7,0)+(ROW(AB29)-ROW($X$27))*7+(COLUMN(AB29)-COLUMN($X$27)+1)),"",$X$25-(WEEKDAY($X$25,1)-(start_day-1))-IF((WEEKDAY($X$25,1)-(start_day-1))<=0,7,0)+(ROW(AB29)-ROW($X$27))*7+(COLUMN(AB29)-COLUMN($X$27)+1)) -> 46156 | AC29: =IF(MONTH($X$25)<>MONTH($X$25-(WEEKDAY($X$25,1)-(start_day-1))-IF((WEEKDAY($X$25,1)-(start_day-1))<=0,7,0)+(ROW(AC29)-ROW($X$27))*7+(COLUMN(AC29)-COLUMN($X$27)+1)),"",$X$25-(WEEKDAY($X$25,1)-(start_day-1))-IF((WEEKDAY($X$25,1)-(start_day-1))<=0,7,0)+(ROW(AC29)-ROW($X$27))*7+(COLUMN(AC29)-COLUMN($X$27)+1)) -> 46157 | AD29: =IF(MONTH($X$25)<>MONTH($X$25-(WEEKDAY($X$25,1)-(start_day-1))-IF((WEEKDAY($X$25,1)-(start_day-1))<=0,7,0)+(ROW(AD29)-ROW($X$27))*7+(COLUMN(AD29)-COLUMN($X$27)+1)),"",$X$25-(WEEKDAY($X$25,1)-(start_day-1))-IF((WEEKDAY($X$25,1)-(start_day-1))<=0,7,0)+(ROW(AD29)-ROW($X$27))*7+(COLUMN(AD29)-COLUMN($X$27)+1)) -> 46158
O30: =IF(MONTH($O$25)<>MONTH($O$25-(WEEKDAY($O$25,1)-(start_day-1))-IF((WEEKDAY($O$25,1)-(start_day-1))<=0,7,0)+(ROW(O30)-ROW($O$27))*7+(COLUMN(O30)-COLUMN($O$27)+1)),"",$O$25-(WEEKDAY($O$25,1)-(start_day-1))-IF((WEEKDAY($O$25,1)-(start_day-1))<=0,7,0)+(ROW(O30)-ROW($O$27))*7+(COLUMN(O30)-COLUMN($O$27)+1)) -> 46103 | P30: =IF(MONTH($O$25)<>MONTH($O$25-(WEEKDAY($O$25,1)-(start_day-1))-IF((WEEKDAY($O$25,1)-(start_day-1))<=0,7,0)+(ROW(P30)-ROW($O$27))*7+(COLUMN(P30)-COLUMN($O$27)+1)),"",$O$25-(WEEKDAY($O$25,1)-(start_day-1))-IF((WEEKDAY($O$25,1)-(start_day-1))<=0,7,0)+(ROW(P30)-ROW($O$27))*7+(COLUMN(P30)-COLUMN($O$27)+1)) -> 46104 | Q30: =IF(MONTH($O$25)<>MONTH($O$25-(WEEKDAY($O$25,1)-(start_day-1))-IF((WEEKDAY($O$25,1)-(start_day-1))<=0,7,0)+(ROW(Q30)-ROW($O$27))*7+(COLUMN(Q30)-COLUMN($O$27)+1)),"",$O$25-(WEEKDAY($O$25,1)-(start_day-1))-IF((WEEKDAY($O$25,1)-(start_day-1))<=0,7,0)+(ROW(Q30)-ROW($O$27))*7+(COLUMN(Q30)-COLUMN($O$27)+1)) -> 46105 | R30: =IF(MONTH($O$25)<>MONTH($O$25-(WEEKDAY($O$25,1)-(start_day-1))-IF((WEEKDAY($O$25,1)-(start_day-1))<=0,7,0)+(ROW(R30)-ROW($O$27))*7+(COLUMN(R30)-COLUMN($O$27)+1)),"",$O$25-(WEEKDAY($O$25,1)-(start_day-1))-IF((WEEKDAY($O$25,1)-(start_day-1))<=0,7,0)+(ROW(R30)-ROW($O$27))*7+(COLUMN(R30)-COLUMN($O$27)+1)) -> 46106 | S30: =IF(MONTH($O$25)<>MONTH($O$25-(WEEKDAY($O$25,1)-(start_day-1))-IF((WEEKDAY($O$25,1)-(start_day-1))<=0,7,0)+(ROW(S30)-ROW($O$27))*7+(COLUMN(S30)-COLUMN($O$27)+1)),"",$O$25-(WEEKDAY($O$25,1)-(start_day-1))-IF((WEEKDAY($O$25,1)-(start_day-1))<=0,7,0)+(ROW(S30)-ROW($O$27))*7+(COLUMN(S30)-COLUMN($O$27)+1)) -> 46107 | T30: =IF(MONTH($O$25)<>MONTH($O$25-(WEEKDAY($O$25,1)-(start_day-1))-IF((WEEKDAY($O$25,1)-(start_day-1))<=0,7,0)+(ROW(T30)-ROW($O$27))*7+(COLUMN(T30)-COLUMN($O$27)+1)),"",$O$25-(WEEKDAY($O$25,1)-(start_day-1))-IF((WEEKDAY($O$25,1)-(start_day-1))<=0,7,0)+(ROW(T30)-ROW($O$27))*7+(COLUMN(T30)-COLUMN($O$27)+1)) -> 46108 | U30: =IF(MONTH($O$25)<>MONTH($O$25-(WEEKDAY($O$25,1)-(start_day-1))-IF((WEEKDAY($O$25,1)-(start_day-1))<=0,7,0)+(ROW(U30)-ROW($O$27))*7+(COLUMN(U30)-COLUMN($O$27)+1)),"",$O$25-(WEEKDAY($O$25,1)-(start_day-1))-IF((WEEKDAY($O$25,1)-(start_day-1))<=0,7,0)+(ROW(U30)-ROW($O$27))*7+(COLUMN(U30)-COLUMN($O$27)+1)) -> 46109 | X30: =IF(MONTH($X$25)<>MONTH($X$25-(WEEKDAY($X$25,1)-(start_day-1))-IF((WEEKDAY($X$25,1)-(start_day-1))<=0,7,0)+(ROW(X30)-ROW($X$27))*7+(COLUMN(X30)-COLUMN($X$27)+1)),"",$X$25-(WEEKDAY($X$25,1)-(start_day-1))-IF((WEEKDAY($X$25,1)-(start_day-1))<=0,7,0)+(ROW(X30)-ROW($X$27))*7+(COLUMN(X30)-COLUMN($X$27)+1)) -> 46159 | Y30: =IF(MONTH($X$25)<>MONTH($X$25-(WEEKDAY($X$25,1)-(start_day-1))-IF((WEEKDAY($X$25,1)-(start_day-1))<=0,7,0)+(ROW(Y30)-ROW($X$27))*7+(COLUMN(Y30)-COLUMN($X$27)+1)),"",$X$25-(WEEKDAY($X$25,1)-(start_day-1))-IF((WEEKDAY($X$25,1)-(start_day-1))<=0,7,0)+(ROW(Y30)-ROW($X$27))*7+(COLUMN(Y30)-COLUMN($X$27)+1)) -> 46160 | Z30: =IF(MONTH($X$25)<>MONTH($X$25-(WEEKDAY($X$25,1)-(start_day-1))-IF((WEEKDAY($X$25,1)-(start_day-1))<=0,7,0)+(ROW(Z30)-ROW($X$27))*7+(COLUMN(Z30)-COLUMN($X$27)+1)),"",$X$25-(WEEKDAY($X$25,1)-(start_day-1))-IF((WEEKDAY($X$25,1)-(start_day-1))<=0,7,0)+(ROW(Z30)-ROW($X$27))*7+(COLUMN(Z30)-COLUMN($X$27)+1)) -> 46161 | AA30: =IF(MONTH($X$25)<>MONTH($X$25-(WEEKDAY($X$25,1)-(start_day-1))-IF((WEEKDAY($X$25,1)-(start_day-1))<=0,7,0)+(ROW(AA30)-ROW($X$27))*7+(COLUMN(AA30)-COLUMN($X$27)+1)),"",$X$25-(WEEKDAY($X$25,1)-(start_day-1))-IF((WEEKDAY($X$25,1)-(start_day-1))<=0,7,0)+(ROW(AA30)-ROW($X$27))*7+(COLUMN(AA30)-COLUMN($X$27)+1)) -> 46162 | AB30: =IF(MONTH($X$25)<>MONTH($X$25-(WEEKDAY($X$25,1)-(start_day-1))-IF((WEEKDAY($X$25,1)-(start_day-1))<=0,7,0)+(ROW(AB30)-ROW($X$27))*7+(COLUMN(AB30)-COLUMN($X$27)+1)),"",$X$25-(WEEKDAY($X$25,1)-(start_day-1))-IF((WEEKDAY($X$25,1)-(start_day-1))<=0,7,0)+(ROW(AB30)-ROW($X$27))*7+(COLUMN(AB30)-COLUMN($X$27)+1)) -> 46163 | AC30: =IF(MONTH($X$25)<>MONTH($X$25-(WEEKDAY($X$25,1)-(start_day-1))-IF((WEEKDAY($X$25,1)-(start_day-1))<=0,7,0)+(ROW(AC30)-ROW($X$27))*7+(COLUMN(AC30)-COLUMN($X$27)+1)),"",$X$25-(WEEKDAY($X$25,1)-(start_day-1))-IF((WEEKDAY($X$25,1)-(start_day-1))<=0,7,0)+(ROW(AC30)-ROW($X$27))*7+(COLUMN(AC30)-COLUMN($X$27)+1)) -> 46164 | AD30: =IF(MONTH($X$25)<>MONTH($X$25-(WEEKDAY($X$25,1)-(start_day-1))-IF((WEEKDAY($X$25,1)-(start_day-1))<=0,7,0)+(ROW(AD30)-ROW($X$27))*7+(COLUMN(AD30)-COLUMN($X$27)+1)),"",$X$25-(WEEKDAY($X$25,1)-(start_day-1))-IF((WEEKDAY($X$25,1)-(start_day-1))<=0,7,0)+(ROW(AD30)-ROW($X$27))*7+(COLUMN(AD30)-COLUMN($X$27)+1)) -> 46165
O31: =IF(MONTH($O$25)<>MONTH($O$25-(WEEKDAY($O$25,1)-(start_day-1))-IF((WEEKDAY($O$25,1)-(start_day-1))<=0,7,0)+(ROW(O31)-ROW($O$27))*7+(COLUMN(O31)-COLUMN($O$27)+1)),"",$O$25-(WEEKDAY($O$25,1)-(start_day-1))-IF((WEEKDAY($O$25,1)-(start_day-1))<=0,7,0)+(ROW(O31)-ROW($O$27))*7+(COLUMN(O31)-COLUMN($O$27)+1)) -> 46110 | P31: =IF(MONTH($O$25)<>MONTH($O$25-(WEEKDAY($O$25,1)-(start_day-1))-IF((WEEKDAY($O$25,1)-(start_day-1))<=0,7,0)+(ROW(P31)-ROW($O$27))*7+(COLUMN(P31)-COLUMN($O$27)+1)),"",$O$25-(WEEKDAY($O$25,1)-(start_day-1))-IF((WEEKDAY($O$25,1)-(start_day-1))<=0,7,0)+(ROW(P31)-ROW($O$27))*7+(COLUMN(P31)-COLUMN($O$27)+1)) -> 46111 | Q31: =IF(MONTH($O$25)<>MONTH($O$25-(WEEKDAY($O$25,1)-(start_day-1))-IF((WEEKDAY($O$25,1)-(start_day-1))<=0,7,0)+(ROW(Q31)-ROW($O$27))*7+(COLUMN(Q31)-COLUMN($O$27)+1)),"",$O$25-(WEEKDAY($O$25,1)-(start_day-1))-IF((WEEKDAY($O$25,1)-(start_day-1))<=0,7,0)+(ROW(Q31)-ROW($O$27))*7+(COLUMN(Q31)-COLUMN($O$27)+1)) -> 46112 | R31: =IF(MONTH($O$25)<>MONTH($O$25-(WEEKDAY($O$25,1)-(start_day-1))-IF((WEEKDAY($O$25,1)-(start_day-1))<=0,7,0)+(ROW(R31)-ROW($O$27))*7+(COLUMN(R31)-COLUMN($O$27)+1)),"",$O$25-(WEEKDAY($O$25,1)-(start_day-1))-IF((WEEKDAY($O$25,1)-(start_day-1))<=0,7,0)+(ROW(R31)-ROW($O$27))*7+(COLUMN(R31)-COLUMN($O$27)+1)) | S31: =IF(MONTH($O$25)<>MONTH($O$25-(WEEKDAY($O$25,1)-(start_day-1))-IF((WEEKDAY($O$25,1)-(start_day-1))<=0,7,0)+(ROW(S31)-ROW($O$27))*7+(COLUMN(S31)-COLUMN($O$27)+1)),"",$O$25-(WEEKDAY($O$25,1)-(start_day-1))-IF((WEEKDAY($O$25,1)-(start_day-1))<=0,7,0)+(ROW(S31)-ROW($O$27))*7+(COLUMN(S31)-COLUMN($O$27)+1)) | T31: =IF(MONTH($O$25)<>MONTH($O$25-(WEEKDAY($O$25,1)-(start_day-1))-IF((WEEKDAY($O$25,1)-(start_day-1))<=0,7,0)+(ROW(T31)-ROW($O$27))*7+(COLUMN(T31)-COLUMN($O$27)+1)),"",$O$25-(WEEKDAY($O$25,1)-(start_day-1))-IF((WEEKDAY($O$25,1)-(start_day-1))<=0,7,0)+(ROW(T31)-ROW($O$27))*7+(COLUMN(T31)-COLUMN($O$27)+1)) | U31: =IF(MONTH($O$25)<>MONTH($O$25-(WEEKDAY($O$25,1)-(start_day-1))-IF((WEEKDAY($O$25,1)-(start_day-1))<=0,7,0)+(ROW(U31)-ROW($O$27))*7+(COLUMN(U31)-COLUMN($O$27)+1)),"",$O$25-(WEEKDAY($O$25,1)-(start_day-1))-IF((WEEKDAY($O$25,1)-(start_day-1))<=0,7,0)+(ROW(U31)-ROW($O$27))*7+(COLUMN(U31)-COLUMN($O$27)+1)) | X31: =IF(MONTH($X$25)<>MONTH($X$25-(WEEKDAY($X$25,1)-(start_day-1))-IF((WEEKDAY($X$25,1)-(start_day-1))<=0,7,0)+(ROW(X31)-ROW($X$27))*7+(COLUMN(X31)-COLUMN($X$27)+1)),"",$X$25-(WEEKDAY($X$25,1)-(start_day-1))-IF((WEEKDAY($X$25,1)-(start_day-1))<=0,7,0)+(ROW(X31)-ROW($X$27))*7+(COLUMN(X31)-COLUMN($X$27)+1)) -> 46166 | Y31: =IF(MONTH($X$25)<>MONTH($X$25-(WEEKDAY($X$25,1)-(start_day-1))-IF((WEEKDAY($X$25,1)-(start_day-1))<=0,7,0)+(ROW(Y31)-ROW($X$27))*7+(COLUMN(Y31)-COLUMN($X$27)+1)),"",$X$25-(WEEKDAY($X$25,1)-(start_day-1))-IF((WEEKDAY($X$25,1)-(start_day-1))<=0,7,0)+(ROW(Y31)-ROW($X$27))*7+(COLUMN(Y31)-COLUMN($X$27)+1)) -> 46167 | Z31: =IF(MONTH($X$25)<>MONTH($X$25-(WEEKDAY($X$25,1)-(start_day-1))-IF((WEEKDAY($X$25,1)-(start_day-1))<=0,7,0)+(ROW(Z31)-ROW($X$27))*7+(COLUMN(Z31)-COLUMN($X$27)+1)),"",$X$25-(WEEKDAY($X$25,1)-(start_day-1))-IF((WEEKDAY($X$25,1)-(start_day-1))<=0,7,0)+(ROW(Z31)-ROW($X$27))*7+(COLUMN(Z31)-COLUMN($X$27)+1)) -> 46168 | AA31: =IF(MONTH($X$25)<>MONTH($X$25-(WEEKDAY($X$25,1)-(start_day-1))-IF((WEEKDAY($X$25,1)-(start_day-1))<=0,7,0)+(ROW(AA31)-ROW($X$27))*7+(COLUMN(AA31)-COLUMN($X$27)+1)),"",$X$25-(WEEKDAY($X$25,1)-(start_day-1))-IF((WEEKDAY($X$25,1)-(start_day-1))<=0,7,0)+(ROW(AA31)-ROW($X$27))*7+(COLUMN(AA31)-COLUMN($X$27)+1)) -> 46169 | AB31: =IF(MONTH($X$25)<>MONTH($X$25-(WEEKDAY($X$25,1)-(start_day-1))-IF((WEEKDAY($X$25,1)-(start_day-1))<=0,7,0)+(ROW(AB31)-ROW($X$27))*7+(COLUMN(AB31)-COLUMN($X$27)+1)),"",$X$25-(WEEKDAY($X$25,1)-(start_day-1))-IF((WEEKDAY($X$25,1)-(start_day-1))<=0,7,0)+(ROW(AB31)-ROW($X$27))*7+(COLUMN(AB31)-COLUMN($X$27)+1)) -> 46170 | AC31: =IF(MONTH($X$25)<>MONTH($X$25-(WEEKDAY($X$25,1)-(start_day-1))-IF((WEEKDAY($X$25,1)-(start_day-1))<=0,7,0)+(ROW(AC31)-ROW($X$27))*7+(COLUMN(AC31)-COLUMN($X$27)+1)),"",$X$25-(WEEKDAY($X$25,1)-(start_day-1))-IF((WEEKDAY($X$25,1)-(start_day-1))<=0,7,0)+(ROW(AC31)-ROW($X$27))*7+(COLUMN(AC31)-COLUMN($X$27)+1)) -> 46171 | AD31: =IF(MONTH($X$25)<>MONTH($X$25-(WEEKDAY($X$25,1)-(start_day-1))-IF((WEEKDAY($X$25,1)-(start_day-1))<=0,7,0)+(ROW(AD31)-ROW($X$27))*7+(COLUMN(AD31)-COLUMN($X$27)+1)),"",$X$25-(WEEKDAY($X$25,1)-(start_day-1))-IF((WEEKDAY($X$25,1)-(start_day-1))<=0,7,0)+(ROW(AD31)-ROW($X$27))*7+(COLUMN(AD31)-COLUMN($X$27)+1)) -> 46172
O32: =IF(MONTH($O$25)<>MONTH($O$25-(WEEKDAY($O$25,1)-(start_day-1))-IF((WEEKDAY($O$25,1)-(start_day-1))<=0,7,0)+(ROW(O32)-ROW($O$27))*7+(COLUMN(O32)-COLUMN($O$27)+1)),"",$O$25-(WEEKDAY($O$25,1)-(start_day-1))-IF((WEEKDAY($O$25,1)-(start_day-1))<=0,7,0)+(ROW(O32)-ROW($O$27))*7+(COLUMN(O32)-COLUMN($O$27)+1)) | P32: =IF(MONTH($O$25)<>MONTH($O$25-(WEEKDAY($O$25,1)-(start_day-1))-IF((WEEKDAY($O$25,1)-(start_day-1))<=0,7,0)+(ROW(P32)-ROW($O$27))*7+(COLUMN(P32)-COLUMN($O$27)+1)),"",$O$25-(WEEKDAY($O$25,1)-(start_day-1))-IF((WEEKDAY($O$25,1)-(start_day-1))<=0,7,0)+(ROW(P32)-ROW($O$27))*7+(COLUMN(P32)-COLUMN($O$27)+1)) | Q32: =IF(MONTH($O$25)<>MONTH($O$25-(WEEKDAY($O$25,1)-(start_day-1))-IF((WEEKDAY($O$25,1)-(start_day-1))<=0,7,0)+(ROW(Q32)-ROW($O$27))*7+(COLUMN(Q32)-COLUMN($O$27)+1)),"",$O$25-(WEEKDAY($O$25,1)-(start_day-1))-IF((WEEKDAY($O$25,1)-(start_day-1))<=0,7,0)+(ROW(Q32)-ROW($O$27))*7+(COLUMN(Q32)-COLUMN($O$27)+1)) | R32: =IF(MONTH($O$25)<>MONTH($O$25-(WEEKDAY($O$25,1)-(start_day-1))-IF((WEEKDAY($O$25,1)-(start_day-1))<=0,7,0)+(ROW(R32)-ROW($O$27))*7+(COLUMN(R32)-COLUMN($O$27)+1)),"",$O$25-(WEEKDAY($O$25,1)-(start_day-1))-IF((WEEKDAY($O$25,1)-(start_day-1))<=0,7,0)+(ROW(R32)-ROW($O$27))*7+(COLUMN(R32)-COLUMN($O$27)+1)) | S32: =IF(MONTH($O$25)<>MONTH($O$25-(WEEKDAY($O$25,1)-(start_day-1))-IF((WEEKDAY($O$25,1)-(start_day-1))<=0,7,0)+(ROW(S32)-ROW($O$27))*7+(COLUMN(S32)-COLUMN($O$27)+1)),"",$O$25-(WEEKDAY($O$25,1)-(start_day-1))-IF((WEEKDAY($O$25,1)-(start_day-1))<=0,7,0)+(ROW(S32)-ROW($O$27))*7+(COLUMN(S32)-COLUMN($O$27)+1)) | T32: =IF(MONTH($O$25)<>MONTH($O$25-(WEEKDAY($O$25,1)-(start_day-1))-IF((WEEKDAY($O$25,1)-(start_day-1))<=0,7,0)+(ROW(T32)-ROW($O$27))*7+(COLUMN(T32)-COLUMN($O$27)+1)),"",$O$25-(WEEKDAY($O$25,1)-(start_day-1))-IF((WEEKDAY($O$25,1)-(start_day-1))<=0,7,0)+(ROW(T32)-ROW($O$27))*7+(COLUMN(T32)-COLUMN($O$27)+1)) | U32: =IF(MONTH($O$25)<>MONTH($O$25-(WEEKDAY($O$25,1)-(start_day-1))-IF((WEEKDAY($O$25,1)-(start_day-1))<=0,7,0)+(ROW(U32)-ROW($O$27))*7+(COLUMN(U32)-COLUMN($O$27)+1)),"",$O$25-(WEEKDAY($O$25,1)-(start_day-1))-IF((WEEKDAY($O$25,1)-(start_day-1))<=0,7,0)+(ROW(U32)-ROW($O$27))*7+(COLUMN(U32)-COLUMN($O$27)+1)) | X32: =IF(MONTH($X$25)<>MONTH($X$25-(WEEKDAY($X$25,1)-(start_day-1))-IF((WEEKDAY($X$25,1)-(start_day-1))<=0,7,0)+(ROW(X32)-ROW($X$27))*7+(COLUMN(X32)-COLUMN($X$27)+1)),"",$X$25-(WEEKDAY($X$25,1)-(start_day-1))-IF((WEEKDAY($X$25,1)-(start_day-1))<=0,7,0)+(ROW(X32)-ROW($X$27))*7+(COLUMN(X32)-COLUMN($X$27)+1)) -> 46173 | Y32: =IF(MONTH($X$25)<>MONTH($X$25-(WEEKDAY($X$25,1)-(start_day-1))-IF((WEEKDAY($X$25,1)-(start_day-1))<=0,7,0)+(ROW(Y32)-ROW($X$27))*7+(COLUMN(Y32)-COLUMN($X$27)+1)),"",$X$25-(WEEKDAY($X$25,1)-(start_day-1))-IF((WEEKDAY($X$25,1)-(start_day-1))<=0,7,0)+(ROW(Y32)-ROW($X$27))*7+(COLUMN(Y32)-COLUMN($X$27)+1)) | Z32: =IF(MONTH($X$25)<>MONTH($X$25-(WEEKDAY($X$25,1)-(start_day-1))-IF((WEEKDAY($X$25,1)-(start_day-1))<=0,7,0)+(ROW(Z32)-ROW($X$27))*7+(COLUMN(Z32)-COLUMN($X$27)+1)),"",$X$25-(WEEKDAY($X$25,1)-(start_day-1))-IF((WEEKDAY($X$25,1)-(start_day-1))<=0,7,0)+(ROW(Z32)-ROW($X$27))*7+(COLUMN(Z32)-COLUMN($X$27)+1)) | AA32: =IF(MONTH($X$25)<>MONTH($X$25-(WEEKDAY($X$25,1)-(start_day-1))-IF((WEEKDAY($X$25,1)-(start_day-1))<=0,7,0)+(ROW(AA32)-ROW($X$27))*7+(COLUMN(AA32)-COLUMN($X$27)+1)),"",$X$25-(WEEKDAY($X$25,1)-(start_day-1))-IF((WEEKDAY($X$25,1)-(start_day-1))<=0,7,0)+(ROW(AA32)-ROW($X$27))*7+(COLUMN(AA32)-COLUMN($X$27)+1)) | AB32: =IF(MONTH($X$25)<>MONTH($X$25-(WEEKDAY($X$25,1)-(start_day-1))-IF((WEEKDAY($X$25,1)-(start_day-1))<=0,7,0)+(ROW(AB32)-ROW($X$27))*7+(COLUMN(AB32)-COLUMN($X$27)+1)),"",$X$25-(WEEKDAY($X$25,1)-(start_day-1))-IF((WEEKDAY($X$25,1)-(start_day-1))<=0,7,0)+(ROW(AB32)-ROW($X$27))*7+(COLUMN(AB32)-COLUMN($X$27)+1)) | AC32: =IF(MONTH($X$25)<>MONTH($X$25-(WEEKDAY($X$25,1)-(start_day-1))-IF((WEEKDAY($X$25,1)-(start_day-1))<=0,7,0)+(ROW(AC32)-ROW($X$27))*7+(COLUMN(AC32)-COLUMN($X$27)+1)),"",$X$25-(WEEKDAY($X$25,1)-(start_day-1))-IF((WEEKDAY($X$25,1)-(start_day-1))<=0,7,0)+(ROW(AC32)-ROW($X$27))*7+(COLUMN(AC32)-COLUMN($X$27)+1)) | AD32: =IF(MONTH($X$25)<>MONTH($X$25-(WEEKDAY($X$25,1)-(start_day-1))-IF((WEEKDAY($X$25,1)-(start_day-1))<=0,7,0)+(ROW(AD32)-ROW($X$27))*7+(COLUMN(AD32)-COLUMN($X$27)+1)),"",$X$25-(WEEKDAY($X$25,1)-(start_day-1))-IF((WEEKDAY($X$25,1)-(start_day-1))<=0,7,0)+(ROW(AD32)-ROW($X$27))*7+(COLUMN(AD32)-COLUMN($X$27)+1))

Sheet May
C2: =DATE(About!Q8,About!Q10+4,1) -> 46143
C4: =C5 -> 46138 | E4: =E5 -> 46139 | G4: =G5 -> 46140 | I4: =I5 -> 46141 | K4: =K5 -> 46142 | O4: =O5 -> 46143 | W4: =W5 -> 46144
C5: =$C$2-(WEEKDAY($C$2,1)-(start_day-1))-IF((WEEKDAY($C$2,1)-(start_day-1))<=0,7,0)+1 -> 46138 | E5: =C5+1 -> 46139 | G5: =E5+1 -> 46140 | I5: =G5+1 -> 46141 | K5: =I5+1 -> 46142 | O5: =K5+1 -> 46143 | W5: =O5+1 -> 46144
C7: =W5+1 -> 46145
E8: =C7+1 -> 46146 | G8: =E8+1 -> 46147 | I8: =G8+1 -> 46148 | K8: =I8+1 -> 46149 | O8: =K8+1 -> 46150 | W8: =O8+1 -> 46151
C10: =W8+1 -> 46152
E11: =C10+1 -> 46153 | G11: =E11+1 -> 46154 | I11: =G11+1 -> 46155 | K11: =I11+1 -> 46156 | O11: =K11+1 -> 46157 | W11: =O11+1 -> 46158
C13: =W11+1 -> 46159
E14: =C13+1 -> 46160 | G14: =E14+1 -> 46161 | I14: =G14+1 -> 46162 | K14: =I14+1 -> 46163 | O14: =K14+1 -> 46164 | W14: =O14+1 -> 46165
C16: =W14+1 -> 46166
E17: =C16+1 -> 46167 | G17: =E17+1 -> 46168 | I17: =G17+1 -> 46169 | K17: =I17+1 -> 46170 | O17: =K17+1 -> 46171 | W17: =O17+1 -> 46172
C19: =W17+1 -> 46173
E20: =C19+1 -> 46174 | G20: =E20+1 -> 46175 | I20: =G20+1 -> 46176 | K20: =I20+1 -> 46177 | O20: =K20+1 -> 46178 | W20: =O20+1 -> 46179
C25: Notes | O25: =DATE(YEAR(C2),MONTH(C2)-1,1) -> 46113 | X25: =DATE(YEAR(C2),MONTH(C2)+1,1) -> 46174
O26: {=INDEX({"S";"M";"T";"W";"T";"F";"S"},1+MOD(start_day+1-2,7))} -> S | P26: {=INDEX({"S";"M";"T";"W";"T";"F";"S"},1+MOD(start_day+2-2,7))} -> M | Q26: {=INDEX({"S";"M";"T";"W";"T";"F";"S"},1+MOD(start_day+3-2,7))} -> T | R26: {=INDEX({"S";"M";"T";"W";"T";"F";"S"},1+MOD(start_day+4-2,7))} -> W | S26: {=INDEX({"S";"M";"T";"W";"T";"F";"S"},1+MOD(start_day+5-2,7))} -> T | T26: {=INDEX({"S";"M";"T";"W";"T";"F";"S"},1+MOD(start_day+6-2,7))} -> F | U26: {=INDEX({"S";"M";"T";"W";"T";"F";"S"},1+MOD(start_day+7-2,7))} -> S | X26: {=INDEX({"S";"M";"T";"W";"T";"F";"S"},1+MOD(start_day+1-2,7))} -> S | Y26: {=INDEX({"S";"M";"T";"W";"T";"F";"S"},1+MOD(start_day+2-2,7))} -> M | Z26: {=INDEX({"S";"M";"T";"W";"T";"F";"S"},1+MOD(start_day+3-2,7))} -> T | AA26: {=INDEX({"S";"M";"T";"W";"T";"F";"S"},1+MOD(start_day+4-2,7))} -> W | AB26: {=INDEX({"S";"M";"T";"W";"T";"F";"S"},1+MOD(start_day+5-2,7))} -> T | AC26: {=INDEX({"S";"M";"T";"W";"T";"F";"S"},1+MOD(start_day+6-2,7))} -> F | AD26: {=INDEX({"S";"M";"T";"W";"T";"F";"S"},1+MOD(start_day+7-2,7))} -> S
O27: =IF(MONTH($O$25)<>MONTH($O$25-(WEEKDAY($O$25,1)-(start_day-1))-IF((WEEKDAY($O$25,1)-(start_day-1))<=0,7,0)+(ROW(O27)-ROW($O$27))*7+(COLUMN(O27)-COLUMN($O$27)+1)),"",$O$25-(WEEKDAY($O$25,1)-(start_day-1))-IF((WEEKDAY($O$25,1)-(start_day-1))<=0,7,0)+(ROW(O27)-ROW($O$27))*7+(COLUMN(O27)-COLUMN($O$27)+1)) | P27: =IF(MONTH($O$25)<>MONTH($O$25-(WEEKDAY($O$25,1)-(start_day-1))-IF((WEEKDAY($O$25,1)-(start_day-1))<=0,7,0)+(ROW(P27)-ROW($O$27))*7+(COLUMN(P27)-COLUMN($O$27)+1)),"",$O$25-(WEEKDAY($O$25,1)-(start_day-1))-IF((WEEKDAY($O$25,1)-(start_day-1))<=0,7,0)+(ROW(P27)-ROW($O$27))*7+(COLUMN(P27)-COLUMN($O$27)+1)) | Q27: =IF(MONTH($O$25)<>MONTH($O$25-(WEEKDAY($O$25,1)-(start_day-1))-IF((WEEKDAY($O$25,1)-(start_day-1))<=0,7,0)+(ROW(Q27)-ROW($O$27))*7+(COLUMN(Q27)-COLUMN($O$27)+1)),"",$O$25-(WEEKDAY($O$25,1)-(start_day-1))-IF((WEEKDAY($O$25,1)-(start_day-1))<=0,7,0)+(ROW(Q27)-ROW($O$27))*7+(COLUMN(Q27)-COLUMN($O$27)+1)) | R27: =IF(MONTH($O$25)<>MONTH($O$25-(WEEKDAY($O$25,1)-(start_day-1))-IF((WEEKDAY($O$25,1)-(start_day-1))<=0,7,0)+(ROW(R27)-ROW($O$27))*7+(COLUMN(R27)-COLUMN($O$27)+1)),"",$O$25-(WEEKDAY($O$25,1)-(start_day-1))-IF((WEEKDAY($O$25,1)-(start_day-1))<=0,7,0)+(ROW(R27)-ROW($O$27))*7+(COLUMN(R27)-COLUMN($O$27)+1)) -> 46113 | S27: =IF(MONTH($O$25)<>MONTH($O$25-(WEEKDAY($O$25,1)-(start_day-1))-IF((WEEKDAY($O$25,1)-(start_day-1))<=0,7,0)+(ROW(S27)-ROW($O$27))*7+(COLUMN(S27)-COLUMN($O$27)+1)),"",$O$25-(WEEKDAY($O$25,1)-(start_day-1))-IF((WEEKDAY($O$25,1)-(start_day-1))<=0,7,0)+(ROW(S27)-ROW($O$27))*7+(COLUMN(S27)-COLUMN($O$27)+1)) -> 46114 | T27: =IF(MONTH($O$25)<>MONTH($O$25-(WEEKDAY($O$25,1)-(start_day-1))-IF((WEEKDAY($O$25,1)-(start_day-1))<=0,7,0)+(ROW(T27)-ROW($O$27))*7+(COLUMN(T27)-COLUMN($O$27)+1)),"",$O$25-(WEEKDAY($O$25,1)-(start_day-1))-IF((WEEKDAY($O$25,1)-(start_day-1))<=0,7,0)+(ROW(T27)-ROW($O$27))*7+(COLUMN(T27)-COLUMN($O$27)+1)) -> 46115 | U27: =IF(MONTH($O$25)<>MONTH($O$25-(WEEKDAY($O$25,1)-(start_day-1))-IF((WEEKDAY($O$25,1)-(start_day-1))<=0,7,0)+(ROW(U27)-ROW($O$27))*7+(COLUMN(U27)-COLUMN($O$27)+1)),"",$O$25-(WEEKDAY($O$25,1)-(start_day-1))-IF((WEEKDAY($O$25,1)-(start_day-1))<=0,7,0)+(ROW(U27)-ROW($O$27))*7+(COLUMN(U27)-COLUMN($O$27)+1)) -> 46116 | X27: =IF(MONTH($X$25)<>MONTH($X$25-(WEEKDAY($X$25,1)-(start_day-1))-IF((WEEKDAY($X$25,1)-(start_day-1))<=0,7,0)+(ROW(X27)-ROW($X$27))*7+(COLUMN(X27)-COLUMN($X$27)+1)),"",$X$25-(WEEKDAY($X$25,1)-(start_day-1))-IF((WEEKDAY($X$25,1)-(start_day-1))<=0,7,0)+(ROW(X27)-ROW($X$27))*7+(COLUMN(X27)-COLUMN($X$27)+1)) | Y27: =IF(MONTH($X$25)<>MONTH($X$25-(WEEKDAY($X$25,1)-(start_day-1))-IF((WEEKDAY($X$25,1)-(start_day-1))<=0,7,0)+(ROW(Y27)-ROW($X$27))*7+(COLUMN(Y27)-COLUMN($X$27)+1)),"",$X$25-(WEEKDAY($X$25,1)-(start_day-1))-IF((WEEKDAY($X$25,1)-(start_day-1))<=0,7,0)+(ROW(Y27)-ROW($X$27))*7+(COLUMN(Y27)-COLUMN($X$27)+1)) -> 46174 | Z27: =IF(MONTH($X$25)<>MONTH($X$25-(WEEKDAY($X$25,1)-(start_day-1))-IF((WEEKDAY($X$25,1)-(start_day-1))<=0,7,0)+(ROW(Z27)-ROW($X$27))*7+(COLUMN(Z27)-COLUMN($X$27)+1)),"",$X$25-(WEEKDAY($X$25,1)-(start_day-1))-IF((WEEKDAY($X$25,1)-(start_day-1))<=0,7,0)+(ROW(Z27)-ROW($X$27))*7+(COLUMN(Z27)-COLUMN($X$27)+1)) -> 46175 | AA27: =IF(MONTH($X$25)<>MONTH($X$25-(WEEKDAY($X$25,1)-(start_day-1))-IF((WEEKDAY($X$25,1)-(start_day-1))<=0,7,0)+(ROW(AA27)-ROW($X$27))*7+(COLUMN(AA27)-COLUMN($X$27)+1)),"",$X$25-(WEEKDAY($X$25,1)-(start_day-1))-IF((WEEKDAY($X$25,1)-(start_day-1))<=0,7,0)+(ROW(AA27)-ROW($X$27))*7+(COLUMN(AA27)-COLUMN($X$27)+1)) -> 46176 | AB27: =IF(MONTH($X$25)<>MONTH($X$25-(WEEKDAY($X$25,1)-(start_day-1))-IF((WEEKDAY($X$25,1)-(start_day-1))<=0,7,0)+(ROW(AB27)-ROW($X$27))*7+(COLUMN(AB27)-COLUMN($X$27)+1)),"",$X$25-(WEEKDAY($X$25,1)-(start_day-1))-IF((WEEKDAY($X$25,1)-(start_day-1))<=0,7,0)+(ROW(AB27)-ROW($X$27))*7+(COLUMN(AB27)-COLUMN($X$27)+1)) -> 46177 | AC27: =IF(MONTH($X$25)<>MONTH($X$25-(WEEKDAY($X$25,1)-(start_day-1))-IF((WEEKDAY($X$25,1)-(start_day-1))<=0,7,0)+(ROW(AC27)-ROW($X$27))*7+(COLUMN(AC27)-COLUMN($X$27)+1)),"",$X$25-(WEEKDAY($X$25,1)-(start_day-1))-IF((WEEKDAY($X$25,1)-(start_day-1))<=0,7,0)+(ROW(AC27)-ROW($X$27))*7+(COLUMN(AC27)-COLUMN($X$27)+1)) -> 46178 | AD27: =IF(MONTH($X$25)<>MONTH($X$25-(WEEKDAY($X$25,1)-(start_day-1))-IF((WEEKDAY($X$25,1)-(start_day-1))<=0,7,0)+(ROW(AD27)-ROW($X$27))*7+(COLUMN(AD27)-COLUMN($X$27)+1)),"",$X$25-(WEEKDAY($X$25,1)-(start_day-1))-IF((WEEKDAY($X$25,1)-(start_day-1))<=0,7,0)+(ROW(AD27)-ROW($X$27))*7+(COLUMN(AD27)-COLUMN($X$27)+1)) -> 46179
O28: =IF(MONTH($O$25)<>MONTH($O$25-(WEEKDAY($O$25,1)-(start_day-1))-IF((WEEKDAY($O$25,1)-(start_day-1))<=0,7,0)+(ROW(O28)-ROW($O$27))*7+(COLUMN(O28)-COLUMN($O$27)+1)),"",$O$25-(WEEKDAY($O$25,1)-(start_day-1))-IF((WEEKDAY($O$25,1)-(start_day-1))<=0,7,0)+(ROW(O28)-ROW($O$27))*7+(COLUMN(O28)-COLUMN($O$27)+1)) -> 46117 | P28: =IF(MONTH($O$25)<>MONTH($O$25-(WEEKDAY($O$25,1)-(start_day-1))-IF((WEEKDAY($O$25,1)-(start_day-1))<=0,7,0)+(ROW(P28)-ROW($O$27))*7+(COLUMN(P28)-COLUMN($O$27)+1)),"",$O$25-(WEEKDAY($O$25,1)-(start_day-1))-IF((WEEKDAY($O$25,1)-(start_day-1))<=0,7,0)+(ROW(P28)-ROW($O$27))*7+(COLUMN(P28)-COLUMN($O$27)+1)) -> 46118 | Q28: =IF(MONTH($O$25)<>MONTH($O$25-(WEEKDAY($O$25,1)-(start_day-1))-IF((WEEKDAY($O$25,1)-(start_day-1))<=0,7,0)+(ROW(Q28)-ROW($O$27))*7+(COLUMN(Q28)-COLUMN($O$27)+1)),"",$O$25-(WEEKDAY($O$25,1)-(start_day-1))-IF((WEEKDAY($O$25,1)-(start_day-1))<=0,7,0)+(ROW(Q28)-ROW($O$27))*7+(COLUMN(Q28)-COLUMN($O$27)+1)) -> 46119 | R28: =IF(MONTH($O$25)<>MONTH($O$25-(WEEKDAY($O$25,1)-(start_day-1))-IF((WEEKDAY($O$25,1)-(start_day-1))<=0,7,0)+(ROW(R28)-ROW($O$27))*7+(COLUMN(R28)-COLUMN($O$27)+1)),"",$O$25-(WEEKDAY($O$25,1)-(start_day-1))-IF((WEEKDAY($O$25,1)-(start_day-1))<=0,7,0)+(ROW(R28)-ROW($O$27))*7+(COLUMN(R28)-COLUMN($O$27)+1)) -> 46120 | S28: =IF(MONTH($O$25)<>MONTH($O$25-(WEEKDAY($O$25,1)-(start_day-1))-IF((WEEKDAY($O$25,1)-(start_day-1))<=0,7,0)+(ROW(S28)-ROW($O$27))*7+(COLUMN(S28)-COLUMN($O$27)+1)),"",$O$25-(WEEKDAY($O$25,1)-(start_day-1))-IF((WEEKDAY($O$25,1)-(start_day-1))<=0,7,0)+(ROW(S28)-ROW($O$27))*7+(COLUMN(S28)-COLUMN($O$27)+1)) -> 46121 | T28: =IF(MONTH($O$25)<>MONTH($O$25-(WEEKDAY($O$25,1)-(start_day-1))-IF((WEEKDAY($O$25,1)-(start_day-1))<=0,7,0)+(ROW(T28)-ROW($O$27))*7+(COLUMN(T28)-COLUMN($O$27)+1)),"",$O$25-(WEEKDAY($O$25,1)-(start_day-1))-IF((WEEKDAY($O$25,1)-(start_day-1))<=0,7,0)+(ROW(T28)-ROW($O$27))*7+(COLUMN(T28)-COLUMN($O$27)+1)) -> 46122 | U28: =IF(MONTH($O$25)<>MONTH($O$25-(WEEKDAY($O$25,1)-(start_day-1))-IF((WEEKDAY($O$25,1)-(start_day-1))<=0,7,0)+(ROW(U28)-ROW($O$27))*7+(COLUMN(U28)-COLUMN($O$27)+1)),"",$O$25-(WEEKDAY($O$25,1)-(start_day-1))-IF((WEEKDAY($O$25,1)-(start_day-1))<=0,7,0)+(ROW(U28)-ROW($O$27))*7+(COLUMN(U28)-COLUMN($O$27)+1)) -> 46123 | X28: =IF(MONTH($X$25)<>MONTH($X$25-(WEEKDAY($X$25,1)-(start_day-1))-IF((WEEKDAY($X$25,1)-(start_day-1))<=0,7,0)+(ROW(X28)-ROW($X$27))*7+(COLUMN(X28)-COLUMN($X$27)+1)),"",$X$25-(WEEKDAY($X$25,1)-(start_day-1))-IF((WEEKDAY($X$25,1)-(start_day-1))<=0,7,0)+(ROW(X28)-ROW($X$27))*7+(COLUMN(X28)-COLUMN($X$27)+1)) -> 46180 | Y28: =IF(MONTH($X$25)<>MONTH($X$25-(WEEKDAY($X$25,1)-(start_day-1))-IF((WEEKDAY($X$25,1)-(start_day-1))<=0,7,0)+(ROW(Y28)-ROW($X$27))*7+(COLUMN(Y28)-COLUMN($X$27)+1)),"",$X$25-(WEEKDAY($X$25,1)-(start_day-1))-IF((WEEKDAY($X$25,1)-(start_day-1))<=0,7,0)+(ROW(Y28)-ROW($X$27))*7+(COLUMN(Y28)-COLUMN($X$27)+1)) -> 46181 | Z28: =IF(MONTH($X$25)<>MONTH($X$25-(WEEKDAY($X$25,1)-(start_day-1))-IF((WEEKDAY($X$25,1)-(start_day-1))<=0,7,0)+(ROW(Z28)-ROW($X$27))*7+(COLUMN(Z28)-COLUMN($X$27)+1)),"",$X$25-(WEEKDAY($X$25,1)-(start_day-1))-IF((WEEKDAY($X$25,1)-(start_day-1))<=0,7,0)+(ROW(Z28)-ROW($X$27))*7+(COLUMN(Z28)-COLUMN($X$27)+1)) -> 46182 | AA28: =IF(MONTH($X$25)<>MONTH($X$25-(WEEKDAY($X$25,1)-(start_day-1))-IF((WEEKDAY($X$25,1)-(start_day-1))<=0,7,0)+(ROW(AA28)-ROW($X$27))*7+(COLUMN(AA28)-COLUMN($X$27)+1)),"",$X$25-(WEEKDAY($X$25,1)-(start_day-1))-IF((WEEKDAY($X$25,1)-(start_day-1))<=0,7,0)+(ROW(AA28)-ROW($X$27))*7+(COLUMN(AA28)-COLUMN($X$27)+1)) -> 46183 | AB28: =IF(MONTH($X$25)<>MONTH($X$25-(WEEKDAY($X$25,1)-(start_day-1))-IF((WEEKDAY($X$25,1)-(start_day-1))<=0,7,0)+(ROW(AB28)-ROW($X$27))*7+(COLUMN(AB28)-COLUMN($X$27)+1)),"",$X$25-(WEEKDAY($X$25,1)-(start_day-1))-IF((WEEKDAY($X$25,1)-(start_day-1))<=0,7,0)+(ROW(AB28)-ROW($X$27))*7+(COLUMN(AB28)-COLUMN($X$27)+1)) -> 46184 | AC28: =IF(MONTH($X$25)<>MONTH($X$25-(WEEKDAY($X$25,1)-(start_day-1))-IF((WEEKDAY($X$25,1)-(start_day-1))<=0,7,0)+(ROW(AC28)-ROW($X$27))*7+(COLUMN(AC28)-COLUMN($X$27)+1)),"",$X$25-(WEEKDAY($X$25,1)-(start_day-1))-IF((WEEKDAY($X$25,1)-(start_day-1))<=0,7,0)+(ROW(AC28)-ROW($X$27))*7+(COLUMN(AC28)-COLUMN($X$27)+1)) -> 46185 | AD28: =IF(MONTH($X$25)<>MONTH($X$25-(WEEKDAY($X$25,1)-(start_day-1))-IF((WEEKDAY($X$25,1)-(start_day-1))<=0,7,0)+(ROW(AD28)-ROW($X$27))*7+(COLUMN(AD28)-COLUMN($X$27)+1)),"",$X$25-(WEEKDAY($X$25,1)-(start_day-1))-IF((WEEKDAY($X$25,1)-(start_day-1))<=0,7,0)+(ROW(AD28)-ROW($X$27))*7+(COLUMN(AD28)-COLUMN($X$27)+1)) -> 46186
O29: =IF(MONTH($O$25)<>MONTH($O$25-(WEEKDAY($O$25,1)-(start_day-1))-IF((WEEKDAY($O$25,1)-(start_day-1))<=0,7,0)+(ROW(O29)-ROW($O$27))*7+(COLUMN(O29)-COLUMN($O$27)+1)),"",$O$25-(WEEKDAY($O$25,1)-(start_day-1))-IF((WEEKDAY($O$25,1)-(start_day-1))<=0,7,0)+(ROW(O29)-ROW($O$27))*7+(COLUMN(O29)-COLUMN($O$27)+1)) -> 46124 | P29: =IF(MONTH($O$25)<>MONTH($O$25-(WEEKDAY($O$25,1)-(start_day-1))-IF((WEEKDAY($O$25,1)-(start_day-1))<=0,7,0)+(ROW(P29)-ROW($O$27))*7+(COLUMN(P29)-COLUMN($O$27)+1)),"",$O$25-(WEEKDAY($O$25,1)-(start_day-1))-IF((WEEKDAY($O$25,1)-(start_day-1))<=0,7,0)+(ROW(P29)-ROW($O$27))*7+(COLUMN(P29)-COLUMN($O$27)+1)) -> 46125 | Q29: =IF(MONTH($O$25)<>MONTH($O$25-(WEEKDAY($O$25,1)-(start_day-1))-IF((WEEKDAY($O$25,1)-(start_day-1))<=0,7,0)+(ROW(Q29)-ROW($O$27))*7+(COLUMN(Q29)-COLUMN($O$27)+1)),"",$O$25-(WEEKDAY($O$25,1)-(start_day-1))-IF((WEEKDAY($O$25,1)-(start_day-1))<=0,7,0)+(ROW(Q29)-ROW($O$27))*7+(COLUMN(Q29)-COLUMN($O$27)+1)) -> 46126 | R29: =IF(MONTH($O$25)<>MONTH($O$25-(WEEKDAY($O$25,1)-(start_day-1))-IF((WEEKDAY($O$25,1)-(start_day-1))<=0,7,0)+(ROW(R29)-ROW($O$27))*7+(COLUMN(R29)-COLUMN($O$27)+1)),"",$O$25-(WEEKDAY($O$25,1)-(start_day-1))-IF((WEEKDAY($O$25,1)-(start_day-1))<=0,7,0)+(ROW(R29)-ROW($O$27))*7+(COLUMN(R29)-COLUMN($O$27)+1)) -> 46127 | S29: =IF(MONTH($O$25)<>MONTH($O$25-(WEEKDAY($O$25,1)-(start_day-1))-IF((WEEKDAY($O$25,1)-(start_day-1))<=0,7,0)+(ROW(S29)-ROW($O$27))*7+(COLUMN(S29)-COLUMN($O$27)+1)),"",$O$25-(WEEKDAY($O$25,1)-(start_day-1))-IF((WEEKDAY($O$25,1)-(start_day-1))<=0,7,0)+(ROW(S29)-ROW($O$27))*7+(COLUMN(S29)-COLUMN($O$27)+1)) -> 46128 | T29: =IF(MONTH($O$25)<>MONTH($O$25-(WEEKDAY($O$25,1)-(start_day-1))-IF((WEEKDAY($O$25,1)-(start_day-1))<=0,7,0)+(ROW(T29)-ROW($O$27))*7+(COLUMN(T29)-COLUMN($O$27)+1)),"",$O$25-(WEEKDAY($O$25,1)-(start_day-1))-IF((WEEKDAY($O$25,1)-(start_day-1))<=0,7,0)+(ROW(T29)-ROW($O$27))*7+(COLUMN(T29)-COLUMN($O$27)+1)) -> 46129 | U29: =IF(MONTH($O$25)<>MONTH($O$25-(WEEKDAY($O$25,1)-(start_day-1))-IF((WEEKDAY($O$25,1)-(start_day-1))<=0,7,0)+(ROW(U29)-ROW($O$27))*7+(COLUMN(U29)-COLUMN($O$27)+1)),"",$O$25-(WEEKDAY($O$25,1)-(start_day-1))-IF((WEEKDAY($O$25,1)-(start_day-1))<=0,7,0)+(ROW(U29)-ROW($O$27))*7+(COLUMN(U29)-COLUMN($O$27)+1)) -> 46130 | X29: =IF(MONTH($X$25)<>MONTH($X$25-(WEEKDAY($X$25,1)-(start_day-1))-IF((WEEKDAY($X$25,1)-(start_day-1))<=0,7,0)+(ROW(X29)-ROW($X$27))*7+(COLUMN(X29)-COLUMN($X$27)+1)),"",$X$25-(WEEKDAY($X$25,1)-(start_day-1))-IF((WEEKDAY($X$25,1)-(start_day-1))<=0,7,0)+(ROW(X29)-ROW($X$27))*7+(COLUMN(X29)-COLUMN($X$27)+1)) -> 46187 | Y29: =IF(MONTH($X$25)<>MONTH($X$25-(WEEKDAY($X$25,1)-(start_day-1))-IF((WEEKDAY($X$25,1)-(start_day-1))<=0,7,0)+(ROW(Y29)-ROW($X$27))*7+(COLUMN(Y29)-COLUMN($X$27)+1)),"",$X$25-(WEEKDAY($X$25,1)-(start_day-1))-IF((WEEKDAY($X$25,1)-(start_day-1))<=0,7,0)+(ROW(Y29)-ROW($X$27))*7+(COLUMN(Y29)-COLUMN($X$27)+1)) -> 46188 | Z29: =IF(MONTH($X$25)<>MONTH($X$25-(WEEKDAY($X$25,1)-(start_day-1))-IF((WEEKDAY($X$25,1)-(start_day-1))<=0,7,0)+(ROW(Z29)-ROW($X$27))*7+(COLUMN(Z29)-COLUMN($X$27)+1)),"",$X$25-(WEEKDAY($X$25,1)-(start_day-1))-IF((WEEKDAY($X$25,1)-(start_day-1))<=0,7,0)+(ROW(Z29)-ROW($X$27))*7+(COLUMN(Z29)-COLUMN($X$27)+1)) -> 46189 | AA29: =IF(MONTH($X$25)<>MONTH($X$25-(WEEKDAY($X$25,1)-(start_day-1))-IF((WEEKDAY($X$25,1)-(start_day-1))<=0,7,0)+(ROW(AA29)-ROW($X$27))*7+(COLUMN(AA29)-COLUMN($X$27)+1)),"",$X$25-(WEEKDAY($X$25,1)-(start_day-1))-IF((WEEKDAY($X$25,1)-(start_day-1))<=0,7,0)+(ROW(AA29)-ROW($X$27))*7+(COLUMN(AA29)-COLUMN($X$27)+1)) -> 46190 | AB29: =IF(MONTH($X$25)<>MONTH($X$25-(WEEKDAY($X$25,1)-(start_day-1))-IF((WEEKDAY($X$25,1)-(start_day-1))<=0,7,0)+(ROW(AB29)-ROW($X$27))*7+(COLUMN(AB29)-COLUMN($X$27)+1)),"",$X$25-(WEEKDAY($X$25,1)-(start_day-1))-IF((WEEKDAY($X$25,1)-(start_day-1))<=0,7,0)+(ROW(AB29)-ROW($X$27))*7+(COLUMN(AB29)-COLUMN($X$27)+1)) -> 46191 | AC29: =IF(MONTH($X$25)<>MONTH($X$25-(WEEKDAY($X$25,1)-(start_day-1))-IF((WEEKDAY($X$25,1)-(start_day-1))<=0,7,0)+(ROW(AC29)-ROW($X$27))*7+(COLUMN(AC29)-COLUMN($X$27)+1)),"",$X$25-(WEEKDAY($X$25,1)-(start_day-1))-IF((WEEKDAY($X$25,1)-(start_day-1))<=0,7,0)+(ROW(AC29)-ROW($X$27))*7+(COLUMN(AC29)-COLUMN($X$27)+1)) -> 46192 | AD29: =IF(MONTH($X$25)<>MONTH($X$25-(WEEKDAY($X$25,1)-(start_day-1))-IF((WEEKDAY($X$25,1)-(start_day-1))<=0,7,0)+(ROW(AD29)-ROW($X$27))*7+(COLUMN(AD29)-COLUMN($X$27)+1)),"",$X$25-(WEEKDAY($X$25,1)-(start_day-1))-IF((WEEKDAY($X$25,1)-(start_day-1))<=0,7,0)+(ROW(AD29)-ROW($X$27))*7+(COLUMN(AD29)-COLUMN($X$27)+1)) -> 46193
O30: =IF(MONTH($O$25)<>MONTH($O$25-(WEEKDAY($O$25,1)-(start_day-1))-IF((WEEKDAY($O$25,1)-(start_day-1))<=0,7,0)+(ROW(O30)-ROW($O$27))*7+(COLUMN(O30)-COLUMN($O$27)+1)),"",$O$25-(WEEKDAY($O$25,1)-(start_day-1))-IF((WEEKDAY($O$25,1)-(start_day-1))<=0,7,0)+(ROW(O30)-ROW($O$27))*7+(COLUMN(O30)-COLUMN($O$27)+1)) -> 46131 | P30: =IF(MONTH($O$25)<>MONTH($O$25-(WEEKDAY($O$25,1)-(start_day-1))-IF((WEEKDAY($O$25,1)-(start_day-1))<=0,7,0)+(ROW(P30)-ROW($O$27))*7+(COLUMN(P30)-COLUMN($O$27)+1)),"",$O$25-(WEEKDAY($O$25,1)-(start_day-1))-IF((WEEKDAY($O$25,1)-(start_day-1))<=0,7,0)+(ROW(P30)-ROW($O$27))*7+(COLUMN(P30)-COLUMN($O$27)+1)) -> 46132 | Q30: =IF(MONTH($O$25)<>MONTH($O$25-(WEEKDAY($O$25,1)-(start_day-1))-IF((WEEKDAY($O$25,1)-(start_day-1))<=0,7,0)+(ROW(Q30)-ROW($O$27))*7+(COLUMN(Q30)-COLUMN($O$27)+1)),"",$O$25-(WEEKDAY($O$25,1)-(start_day-1))-IF((WEEKDAY($O$25,1)-(start_day-1))<=0,7,0)+(ROW(Q30)-ROW($O$27))*7+(COLUMN(Q30)-COLUMN($O$27)+1)) -> 46133 | R30: =IF(MONTH($O$25)<>MONTH($O$25-(WEEKDAY($O$25,1)-(start_day-1))-IF((WEEKDAY($O$25,1)-(start_day-1))<=0,7,0)+(ROW(R30)-ROW($O$27))*7+(COLUMN(R30)-COLUMN($O$27)+1)),"",$O$25-(WEEKDAY($O$25,1)-(start_day-1))-IF((WEEKDAY($O$25,1)-(start_day-1))<=0,7,0)+(ROW(R30)-ROW($O$27))*7+(COLUMN(R30)-COLUMN($O$27)+1)) -> 46134 | S30: =IF(MONTH($O$25)<>MONTH($O$25-(WEEKDAY($O$25,1)-(start_day-1))-IF((WEEKDAY($O$25,1)-(start_day-1))<=0,7,0)+(ROW(S30)-ROW($O$27))*7+(COLUMN(S30)-COLUMN($O$27)+1)),"",$O$25-(WEEKDAY($O$25,1)-(start_day-1))-IF((WEEKDAY($O$25,1)-(start_day-1))<=0,7,0)+(ROW(S30)-ROW($O$27))*7+(COLUMN(S30)-COLUMN($O$27)+1)) -> 46135 | T30: =IF(MONTH($O$25)<>MONTH($O$25-(WEEKDAY($O$25,1)-(start_day-1))-IF((WEEKDAY($O$25,1)-(start_day-1))<=0,7,0)+(ROW(T30)-ROW($O$27))*7+(COLUMN(T30)-COLUMN($O$27)+1)),"",$O$25-(WEEKDAY($O$25,1)-(start_day-1))-IF((WEEKDAY($O$25,1)-(start_day-1))<=0,7,0)+(ROW(T30)-ROW($O$27))*7+(COLUMN(T30)-COLUMN($O$27)+1)) -> 46136 | U30: =IF(MONTH($O$25)<>MONTH($O$25-(WEEKDAY($O$25,1)-(start_day-1))-IF((WEEKDAY($O$25,1)-(start_day-1))<=0,7,0)+(ROW(U30)-ROW($O$27))*7+(COLUMN(U30)-COLUMN($O$27)+1)),"",$O$25-(WEEKDAY($O$25,1)-(start_day-1))-IF((WEEKDAY($O$25,1)-(start_day-1))<=0,7,0)+(ROW(U30)-ROW($O$27))*7+(COLUMN(U30)-COLUMN($O$27)+1)) -> 46137 | X30: =IF(MONTH($X$25)<>MONTH($X$25-(WEEKDAY($X$25,1)-(start_day-1))-IF((WEEKDAY($X$25,1)-(start_day-1))<=0,7,0)+(ROW(X30)-ROW($X$27))*7+(COLUMN(X30)-COLUMN($X$27)+1)),"",$X$25-(WEEKDAY($X$25,1)-(start_day-1))-IF((WEEKDAY($X$25,1)-(start_day-1))<=0,7,0)+(ROW(X30)-ROW($X$27))*7+(COLUMN(X30)-COLUMN($X$27)+1)) -> 46194 | Y30: =IF(MONTH($X$25)<>MONTH($X$25-(WEEKDAY($X$25,1)-(start_day-1))-IF((WEEKDAY($X$25,1)-(start_day-1))<=0,7,0)+(ROW(Y30)-ROW($X$27))*7+(COLUMN(Y30)-COLUMN($X$27)+1)),"",$X$25-(WEEKDAY($X$25,1)-(start_day-1))-IF((WEEKDAY($X$25,1)-(start_day-1))<=0,7,0)+(ROW(Y30)-ROW($X$27))*7+(COLUMN(Y30)-COLUMN($X$27)+1)) -> 46195 | Z30: =IF(MONTH($X$25)<>MONTH($X$25-(WEEKDAY($X$25,1)-(start_day-1))-IF((WEEKDAY($X$25,1)-(start_day-1))<=0,7,0)+(ROW(Z30)-ROW($X$27))*7+(COLUMN(Z30)-COLUMN($X$27)+1)),"",$X$25-(WEEKDAY($X$25,1)-(start_day-1))-IF((WEEKDAY($X$25,1)-(start_day-1))<=0,7,0)+(ROW(Z30)-ROW($X$27))*7+(COLUMN(Z30)-COLUMN($X$27)+1)) -> 46196 | AA30: =IF(MONTH($X$25)<>MONTH($X$25-(WEEKDAY($X$25,1)-(start_day-1))-IF((WEEKDAY($X$25,1)-(start_day-1))<=0,7,0)+(ROW(AA30)-ROW($X$27))*7+(COLUMN(AA30)-COLUMN($X$27)+1)),"",$X$25-(WEEKDAY($X$25,1)-(start_day-1))-IF((WEEKDAY($X$25,1)-(start_day-1))<=0,7,0)+(ROW(AA30)-ROW($X$27))*7+(COLUMN(AA30)-COLUMN($X$27)+1)) -> 46197 | AB30: =IF(MONTH($X$25)<>MONTH($X$25-(WEEKDAY($X$25,1)-(start_day-1))-IF((WEEKDAY($X$25,1)-(start_day-1))<=0,7,0)+(ROW(AB30)-ROW($X$27))*7+(COLUMN(AB30)-COLUMN($X$27)+1)),"",$X$25-(WEEKDAY($X$25,1)-(start_day-1))-IF((WEEKDAY($X$25,1)-(start_day-1))<=0,7,0)+(ROW(AB30)-ROW($X$27))*7+(COLUMN(AB30)-COLUMN($X$27)+1)) -> 46198 | AC30: =IF(MONTH($X$25)<>MONTH($X$25-(WEEKDAY($X$25,1)-(start_day-1))-IF((WEEKDAY($X$25,1)-(start_day-1))<=0,7,0)+(ROW(AC30)-ROW($X$27))*7+(COLUMN(AC30)-COLUMN($X$27)+1)),"",$X$25-(WEEKDAY($X$25,1)-(start_day-1))-IF((WEEKDAY($X$25,1)-(start_day-1))<=0,7,0)+(ROW(AC30)-ROW($X$27))*7+(COLUMN(AC30)-COLUMN($X$27)+1)) -> 46199 | AD30: =IF(MONTH($X$25)<>MONTH($X$25-(WEEKDAY($X$25,1)-(start_day-1))-IF((WEEKDAY($X$25,1)-(start_day-1))<=0,7,0)+(ROW(AD30)-ROW($X$27))*7+(COLUMN(AD30)-COLUMN($X$27)+1)),"",$X$25-(WEEKDAY($X$25,1)-(start_day-1))-IF((WEEKDAY($X$25,1)-(start_day-1))<=0,7,0)+(ROW(AD30)-ROW($X$27))*7+(COLUMN(AD30)-COLUMN($X$27)+1)) -> 46200
O31: =IF(MONTH($O$25)<>MONTH($O$25-(WEEKDAY($O$25,1)-(start_day-1))-IF((WEEKDAY($O$25,1)-(start_day-1))<=0,7,0)+(ROW(O31)-ROW($O$27))*7+(COLUMN(O31)-COLUMN($O$27)+1)),"",$O$25-(WEEKDAY($O$25,1)-(start_day-1))-IF((WEEKDAY($O$25,1)-(start_day-1))<=0,7,0)+(ROW(O31)-ROW($O$27))*7+(COLUMN(O31)-COLUMN($O$27)+1)) -> 46138 | P31: =IF(MONTH($O$25)<>MONTH($O$25-(WEEKDAY($O$25,1)-(start_day-1))-IF((WEEKDAY($O$25,1)-(start_day-1))<=0,7,0)+(ROW(P31)-ROW($O$27))*7+(COLUMN(P31)-COLUMN($O$27)+1)),"",$O$25-(WEEKDAY($O$25,1)-(start_day-1))-IF((WEEKDAY($O$25,1)-(start_day-1))<=0,7,0)+(ROW(P31)-ROW($O$27))*7+(COLUMN(P31)-COLUMN($O$27)+1)) -> 46139 | Q31: =IF(MONTH($O$25)<>MONTH($O$25-(WEEKDAY($O$25,1)-(start_day-1))-IF((WEEKDAY($O$25,1)-(start_day-1))<=0,7,0)+(ROW(Q31)-ROW($O$27))*7+(COLUMN(Q31)-COLUMN($O$27)+1)),"",$O$25-(WEEKDAY($O$25,1)-(start_day-1))-IF((WEEKDAY($O$25,1)-(start_day-1))<=0,7,0)+(ROW(Q31)-ROW($O$27))*7+(COLUMN(Q31)-COLUMN($O$27)+1)) -> 46140 | R31: =IF(MONTH($O$25)<>MONTH($O$25-(WEEKDAY($O$25,1)-(start_day-1))-IF((WEEKDAY($O$25,1)-(start_day-1))<=0,7,0)+(ROW(R31)-ROW($O$27))*7+(COLUMN(R31)-COLUMN($O$27)+1)),"",$O$25-(WEEKDAY($O$25,1)-(start_day-1))-IF((WEEKDAY($O$25,1)-(start_day-1))<=0,7,0)+(ROW(R31)-ROW($O$27))*7+(COLUMN(R31)-COLUMN($O$27)+1)) -> 46141 | S31: =IF(MONTH($O$25)<>MONTH($O$25-(WEEKDAY($O$25,1)-(start_day-1))-IF((WEEKDAY($O$25,1)-(start_day-1))<=0,7,0)+(ROW(S31)-ROW($O$27))*7+(COLUMN(S31)-COLUMN($O$27)+1)),"",$O$25-(WEEKDAY($O$25,1)-(start_day-1))-IF((WEEKDAY($O$25,1)-(start_day-1))<=0,7,0)+(ROW(S31)-ROW($O$27))*7+(COLUMN(S31)-COLUMN($O$27)+1)) -> 46142 | T31: =IF(MONTH($O$25)<>MONTH($O$25-(WEEKDAY($O$25,1)-(start_day-1))-IF((WEEKDAY($O$25,1)-(start_day-1))<=0,7,0)+(ROW(T31)-ROW($O$27))*7+(COLUMN(T31)-COLUMN($O$27)+1)),"",$O$25-(WEEKDAY($O$25,1)-(start_day-1))-IF((WEEKDAY($O$25,1)-(start_day-1))<=0,7,0)+(ROW(T31)-ROW($O$27))*7+(COLUMN(T31)-COLUMN($O$27)+1)) | U31: =IF(MONTH($O$25)<>MONTH($O$25-(WEEKDAY($O$25,1)-(start_day-1))-IF((WEEKDAY($O$25,1)-(start_day-1))<=0,7,0)+(ROW(U31)-ROW($O$27))*7+(COLUMN(U31)-COLUMN($O$27)+1)),"",$O$25-(WEEKDAY($O$25,1)-(start_day-1))-IF((WEEKDAY($O$25,1)-(start_day-1))<=0,7,0)+(ROW(U31)-ROW($O$27))*7+(COLUMN(U31)-COLUMN($O$27)+1)) | X31: =IF(MONTH($X$25)<>MONTH($X$25-(WEEKDAY($X$25,1)-(start_day-1))-IF((WEEKDAY($X$25,1)-(start_day-1))<=0,7,0)+(ROW(X31)-ROW($X$27))*7+(COLUMN(X31)-COLUMN($X$27)+1)),"",$X$25-(WEEKDAY($X$25,1)-(start_day-1))-IF((WEEKDAY($X$25,1)-(start_day-1))<=0,7,0)+(ROW(X31)-ROW($X$27))*7+(COLUMN(X31)-COLUMN($X$27)+1)) -> 46201 | Y31: =IF(MONTH($X$25)<>MONTH($X$25-(WEEKDAY($X$25,1)-(start_day-1))-IF((WEEKDAY($X$25,1)-(start_day-1))<=0,7,0)+(ROW(Y31)-ROW($X$27))*7+(COLUMN(Y31)-COLUMN($X$27)+1)),"",$X$25-(WEEKDAY($X$25,1)-(start_day-1))-IF((WEEKDAY($X$25,1)-(start_day-1))<=0,7,0)+(ROW(Y31)-ROW($X$27))*7+(COLUMN(Y31)-COLUMN($X$27)+1)) -> 46202 | Z31: =IF(MONTH($X$25)<>MONTH($X$25-(WEEKDAY($X$25,1)-(start_day-1))-IF((WEEKDAY($X$25,1)-(start_day-1))<=0,7,0)+(ROW(Z31)-ROW($X$27))*7+(COLUMN(Z31)-COLUMN($X$27)+1)),"",$X$25-(WEEKDAY($X$25,1)-(start_day-1))-IF((WEEKDAY($X$25,1)-(start_day-1))<=0,7,0)+(ROW(Z31)-ROW($X$27))*7+(COLUMN(Z31)-COLUMN($X$27)+1)) -> 46203 | AA31: =IF(MONTH($X$25)<>MONTH($X$25-(WEEKDAY($X$25,1)-(start_day-1))-IF((WEEKDAY($X$25,1)-(start_day-1))<=0,7,0)+(ROW(AA31)-ROW($X$27))*7+(COLUMN(AA31)-COLUMN($X$27)+1)),"",$X$25-(WEEKDAY($X$25,1)-(start_day-1))-IF((WEEKDAY($X$25,1)-(start_day-1))<=0,7,0)+(ROW(AA31)-ROW($X$27))*7+(COLUMN(AA31)-COLUMN($X$27)+1)) | AB31: =IF(MONTH($X$25)<>MONTH($X$25-(WEEKDAY($X$25,1)-(start_day-1))-IF((WEEKDAY($X$25,1)-(start_day-1))<=0,7,0)+(ROW(AB31)-ROW($X$27))*7+(COLUMN(AB31)-COLUMN($X$27)+1)),"",$X$25-(WEEKDAY($X$25,1)-(start_day-1))-IF((WEEKDAY($X$25,1)-(start_day-1))<=0,7,0)+(ROW(AB31)-ROW($X$27))*7+(COLUMN(AB31)-COLUMN($X$27)+1)) | AC31: =IF(MONTH($X$25)<>MONTH($X$25-(WEEKDAY($X$25,1)-(start_day-1))-IF((WEEKDAY($X$25,1)-(start_day-1))<=0,7,0)+(ROW(AC31)-ROW($X$27))*7+(COLUMN(AC31)-COLUMN($X$27)+1)),"",$X$25-(WEEKDAY($X$25,1)-(start_day-1))-IF((WEEKDAY($X$25,1)-(start_day-1))<=0,7,0)+(ROW(AC31)-ROW($X$27))*7+(COLUMN(AC31)-COLUMN($X$27)+1)) | AD31: =IF(MONTH($X$25)<>MONTH($X$25-(WEEKDAY($X$25,1)-(start_day-1))-IF((WEEKDAY($X$25,1)-(start_day-1))<=0,7,0)+(ROW(AD31)-ROW($X$27))*7+(COLUMN(AD31)-COLUMN($X$27)+1)),"",$X$25-(WEEKDAY($X$25,1)-(start_day-1))-IF((WEEKDAY($X$25,1)-(start_day-1))<=0,7,0)+(ROW(AD31)-ROW($X$27))*7+(COLUMN(AD31)-COLUMN($X$27)+1))
O32: =IF(MONTH($O$25)<>MONTH($O$25-(WEEKDAY($O$25,1)-(start_day-1))-IF((WEEKDAY($O$25,1)-(start_day-1))<=0,7,0)+(ROW(O32)-ROW($O$27))*7+(COLUMN(O32)-COLUMN($O$27)+1)),"",$O$25-(WEEKDAY($O$25,1)-(start_day-1))-IF((WEEKDAY($O$25,1)-(start_day-1))<=0,7,0)+(ROW(O32)-ROW($O$27))*7+(COLUMN(O32)-COLUMN($O$27)+1)) | P32: =IF(MONTH($O$25)<>MONTH($O$25-(WEEKDAY($O$25,1)-(start_day-1))-IF((WEEKDAY($O$25,1)-(start_day-1))<=0,7,0)+(ROW(P32)-ROW($O$27))*7+(COLUMN(P32)-COLUMN($O$27)+1)),"",$O$25-(WEEKDAY($O$25,1)-(start_day-1))-IF((WEEKDAY($O$25,1)-(start_day-1))<=0,7,0)+(ROW(P32)-ROW($O$27))*7+(COLUMN(P32)-COLUMN($O$27)+1)) | Q32: =IF(MONTH($O$25)<>MONTH($O$25-(WEEKDAY($O$25,1)-(start_day-1))-IF((WEEKDAY($O$25,1)-(start_day-1))<=0,7,0)+(ROW(Q32)-ROW($O$27))*7+(COLUMN(Q32)-COLUMN($O$27)+1)),"",$O$25-(WEEKDAY($O$25,1)-(start_day-1))-IF((WEEKDAY($O$25,1)-(start_day-1))<=0,7,0)+(ROW(Q32)-ROW($O$27))*7+(COLUMN(Q32)-COLUMN($O$27)+1)) | R32: =IF(MONTH($O$25)<>MONTH($O$25-(WEEKDAY($O$25,1)-(start_day-1))-IF((WEEKDAY($O$25,1)-(start_day-1))<=0,7,0)+(ROW(R32)-ROW($O$27))*7+(COLUMN(R32)-COLUMN($O$27)+1)),"",$O$25-(WEEKDAY($O$25,1)-(start_day-1))-IF((WEEKDAY($O$25,1)-(start_day-1))<=0,7,0)+(ROW(R32)-ROW($O$27))*7+(COLUMN(R32)-COLUMN($O$27)+1)) | S32: =IF(MONTH($O$25)<>MONTH($O$25-(WEEKDAY($O$25,1)-(start_day-1))-IF((WEEKDAY($O$25,1)-(start_day-1))<=0,7,0)+(ROW(S32)-ROW($O$27))*7+(COLUMN(S32)-COLUMN($O$27)+1)),"",$O$25-(WEEKDAY($O$25,1)-(start_day-1))-IF((WEEKDAY($O$25,1)-(start_day-1))<=0,7,0)+(ROW(S32)-ROW($O$27))*7+(COLUMN(S32)-COLUMN($O$27)+1)) | T32: =IF(MONTH($O$25)<>MONTH($O$25-(WEEKDAY($O$25,1)-(start_day-1))-IF((WEEKDAY($O$25,1)-(start_day-1))<=0,7,0)+(ROW(T32)-ROW($O$27))*7+(COLUMN(T32)-COLUMN($O$27)+1)),"",$O$25-(WEEKDAY($O$25,1)-(start_day-1))-IF((WEEKDAY($O$25,1)-(start_day-1))<=0,7,0)+(ROW(T32)-ROW($O$27))*7+(COLUMN(T32)-COLUMN($O$27)+1)) | U32: =IF(MONTH($O$25)<>MONTH($O$25-(WEEKDAY($O$25,1)-(start_day-1))-IF((WEEKDAY($O$25,1)-(start_day-1))<=0,7,0)+(ROW(U32)-ROW($O$27))*7+(COLUMN(U32)-COLUMN($O$27)+1)),"",$O$25-(WEEKDAY($O$25,1)-(start_day-1))-IF((WEEKDAY($O$25,1)-(start_day-1))<=0,7,0)+(ROW(U32)-ROW($O$27))*7+(COLUMN(U32)-COLUMN($O$27)+1)) | X32: =IF(MONTH($X$25)<>MONTH($X$25-(WEEKDAY($X$25,1)-(start_day-1))-IF((WEEKDAY($X$25,1)-(start_day-1))<=0,7,0)+(ROW(X32)-ROW($X$27))*7+(COLUMN(X32)-COLUMN($X$27)+1)),"",$X$25-(WEEKDAY($X$25,1)-(start_day-1))-IF((WEEKDAY($X$25,1)-(start_day-1))<=0,7,0)+(ROW(X32)-ROW($X$27))*7+(COLUMN(X32)-COLUMN($X$27)+1)) | Y32: =IF(MONTH($X$25)<>MONTH($X$25-(WEEKDAY($X$25,1)-(start_day-1))-IF((WEEKDAY($X$25,1)-(start_day-1))<=0,7,0)+(ROW(Y32)-ROW($X$27))*7+(COLUMN(Y32)-COLUMN($X$27)+1)),"",$X$25-(WEEKDAY($X$25,1)-(start_day-1))-IF((WEEKDAY($X$25,1)-(start_day-1))<=0,7,0)+(ROW(Y32)-ROW($X$27))*7+(COLUMN(Y32)-COLUMN($X$27)+1)) | Z32: =IF(MONTH($X$25)<>MONTH($X$25-(WEEKDAY($X$25,1)-(start_day-1))-IF((WEEKDAY($X$25,1)-(start_day-1))<=0,7,0)+(ROW(Z32)-ROW($X$27))*7+(COLUMN(Z32)-COLUMN($X$27)+1)),"",$X$25-(WEEKDAY($X$25,1)-(start_day-1))-IF((WEEKDAY($X$25,1)-(start_day-1))<=0,7,0)+(ROW(Z32)-ROW($X$27))*7+(COLUMN(Z32)-COLUMN($X$27)+1)) | AA32: =IF(MONTH($X$25)<>MONTH($X$25-(WEEKDAY($X$25,1)-(start_day-1))-IF((WEEKDAY($X$25,1)-(start_day-1))<=0,7,0)+(ROW(AA32)-ROW($X$27))*7+(COLUMN(AA32)-COLUMN($X$27)+1)),"",$X$25-(WEEKDAY($X$25,1)-(start_day-1))-IF((WEEKDAY($X$25,1)-(start_day-1))<=0,7,0)+(ROW(AA32)-ROW($X$27))*7+(COLUMN(AA32)-COLUMN($X$27)+1)) | AB32: =IF(MONTH($X$25)<>MONTH($X$25-(WEEKDAY($X$25,1)-(start_day-1))-IF((WEEKDAY($X$25,1)-(start_day-1))<=0,7,0)+(ROW(AB32)-ROW($X$27))*7+(COLUMN(AB32)-COLUMN($X$27)+1)),"",$X$25-(WEEKDAY($X$25,1)-(start_day-1))-IF((WEEKDAY($X$25,1)-(start_day-1))<=0,7,0)+(ROW(AB32)-ROW($X$27))*7+(COLUMN(AB32)-COLUMN($X$27)+1)) | AC32: =IF(MONTH($X$25)<>MONTH($X$25-(WEEKDAY($X$25,1)-(start_day-1))-IF((WEEKDAY($X$25,1)-(start_day-1))<=0,7,0)+(ROW(AC32)-ROW($X$27))*7+(COLUMN(AC32)-COLUMN($X$27)+1)),"",$X$25-(WEEKDAY($X$25,1)-(start_day-1))-IF((WEEKDAY($X$25,1)-(start_day-1))<=0,7,0)+(ROW(AC32)-ROW($X$27))*7+(COLUMN(AC32)-COLUMN($X$27)+1)) | AD32: =IF(MONTH($X$25)<>MONTH($X$25-(WEEKDAY($X$25,1)-(start_day-1))-IF((WEEKDAY($X$25,1)-(start_day-1))<=0,7,0)+(ROW(AD32)-ROW($X$27))*7+(COLUMN(AD32)-COLUMN($X$27)+1)),"",$X$25-(WEEKDAY($X$25,1)-(start_day-1))-IF((WEEKDAY($X$25,1)-(start_day-1))<=0,7,0)+(ROW(AD32)-ROW($X$27))*7+(COLUMN(AD32)-COLUMN($X$27)+1))

Sheet June
C2: =DATE(About!Q8,About!Q10+5,1) -> 46174
C4: =C5 -> 46173 | E4: =E5 -> 46174 | G4: =G5 -> 46175 | I4: =I5 -> 46176 | K4: =K5 -> 46177 | O4: =O5 -> 46178 | W4: =W5 -> 46179
C5: =$C$2-(WEEKDAY($C$2,1)-(start_day-1))-IF((WEEKDAY($C$2,1)-(start_day-1))<=0,7,0)+1 -> 46173 | E5: =C5+1 -> 46174 | G5: =E5+1 -> 46175 | I5: =G5+1 -> 46176 | K5: =I5+1 -> 46177 | O5: =K5+1 -> 46178 | W5: =O5+1 -> 46179
C7: =W5+1 -> 46180
E8: =C7+1 -> 46181 | G8: =E8+1 -> 46182 | I8: =G8+1 -> 46183 | K8: =I8+1 -> 46184 | O8: =K8+1 -> 46185 | W8: =O8+1 -> 46186
C10: =W8+1 -> 46187
E11: =C10+1 -> 46188 | G11: =E11+1 -> 46189 | I11: =G11+1 -> 46190 | K11: =I11+1 -> 46191 | O11: =K11+1 -> 46192 | W11: =O11+1 -> 46193
C13: =W11+1 -> 46194
E14: =C13+1 -> 46195 | G14: =E14+1 -> 46196 | I14: =G14+1 -> 46197 | K14: =I14+1 -> 46198 | O14: =K14+1 -> 46199 | W14: =O14+1 -> 46200
C16: =W14+1 -> 46201
E17: =C16+1 -> 46202 | G17: =E17+1 -> 46203 | I17: =G17+1 -> 46204 | K17: =I17+1 -> 46205 | O17: =K17+1 -> 46206 | W17: =O17+1 -> 46207
C19: =W17+1 -> 46208
E20: =C19+1 -> 46209 | G20: =E20+1 -> 46210 | I20: =G20+1 -> 46211 | K20: =I20+1 -> 46212 | O20: =K20+1 -> 46213 | W20: =O20+1 -> 46214
C25: Notes | O25: =DATE(YEAR(C2),MONTH(C2)-1,1) -> 46143 | X25: =DATE(YEAR(C2),MONTH(C2)+1,1) -> 46204
O26: {=INDEX({"S";"M";"T";"W";"T";"F";"S"},1+MOD(start_day+1-2,7))} -> S | P26: {=INDEX({"S";"M";"T";"W";"T";"F";"S"},1+MOD(start_day+2-2,7))} -> M | Q26: {=INDEX({"S";"M";"T";"W";"T";"F";"S"},1+MOD(start_day+3-2,7))} -> T | R26: {=INDEX({"S";"M";"T";"W";"T";"F";"S"},1+MOD(start_day+4-2,7))} -> W | S26: {=INDEX({"S";"M";"T";"W";"T";"F";"S"},1+MOD(start_day+5-2,7))} -> T | T26: {=INDEX({"S";"M";"T";"W";"T";"F";"S"},1+MOD(start_day+6-2,7))} -> F | U26: {=INDEX({"S";"M";"T";"W";"T";"F";"S"},1+MOD(start_day+7-2,7))} -> S | X26: {=INDEX({"S";"M";"T";"W";"T";"F";"S"},1+MOD(start_day+1-2,7))} -> S | Y26: {=INDEX({"S";"M";"T";"W";"T";"F";"S"},1+MOD(start_day+2-2,7))} -> M | Z26: {=INDEX({"S";"M";"T";"W";"T";"F";"S"},1+MOD(start_day+3-2,7))} -> T | AA26: {=INDEX({"S";"M";"T";"W";"T";"F";"S"},1+MOD(start_day+4-2,7))} -> W | AB26: {=INDEX({"S";"M";"T";"W";"T";"F";"S"},1+MOD(start_day+5-2,7))} -> T | AC26: {=INDEX({"S";"M";"T";"W";"T";"F";"S"},1+MOD(start_day+6-2,7))} -> F | AD26: {=INDEX({"S";"M";"T";"W";"T";"F";"S"},1+MOD(start_day+7-2,7))} -> S
O27: =IF(MONTH($O$25)<>MONTH($O$25-(WEEKDAY($O$25,1)-(start_day-1))-IF((WEEKDAY($O$25,1)-(start_day-1))<=0,7,0)+(ROW(O27)-ROW($O$27))*7+(COLUMN(O27)-COLUMN($O$27)+1)),"",$O$25-(WEEKDAY($O$25,1)-(start_day-1))-IF((WEEKDAY($O$25,1)-(start_day-1))<=0,7,0)+(ROW(O27)-ROW($O$27))*7+(COLUMN(O27)-COLUMN($O$27)+1)) | P27: =IF(MONTH($O$25)<>MONTH($O$25-(WEEKDAY($O$25,1)-(start_day-1))-IF((WEEKDAY($O$25,1)-(start_day-1))<=0,7,0)+(ROW(P27)-ROW($O$27))*7+(COLUMN(P27)-COLUMN($O$27)+1)),"",$O$25-(WEEKDAY($O$25,1)-(start_day-1))-IF((WEEKDAY($O$25,1)-(start_day-1))<=0,7,0)+(ROW(P27)-ROW($O$27))*7+(COLUMN(P27)-COLUMN($O$27)+1)) | Q27: =IF(MONTH($O$25)<>MONTH($O$25-(WEEKDAY($O$25,1)-(start_day-1))-IF((WEEKDAY($O$25,1)-(start_day-1))<=0,7,0)+(ROW(Q27)-ROW($O$27))*7+(COLUMN(Q27)-COLUMN($O$27)+1)),"",$O$25-(WEEKDAY($O$25,1)-(start_day-1))-IF((WEEKDAY($O$25,1)-(start_day-1))<=0,7,0)+(ROW(Q27)-ROW($O$27))*7+(COLUMN(Q27)-COLUMN($O$27)+1)) | R27: =IF(MONTH($O$25)<>MONTH($O$25-(WEEKDAY($O$25,1)-(start_day-1))-IF((WEEKDAY($O$25,1)-(start_day-1))<=0,7,0)+(ROW(R27)-ROW($O$27))*7+(COLUMN(R27)-COLUMN($O$27)+1)),"",$O$25-(WEEKDAY($O$25,1)-(start_day-1))-IF((WEEKDAY($O$25,1)-(start_day-1))<=0,7,0)+(ROW(R27)-ROW($O$27))*7+(COLUMN(R27)-COLUMN($O$27)+1)) | S27: =IF(MONTH($O$25)<>MONTH($O$25-(WEEKDAY($O$25,1)-(start_day-1))-IF((WEEKDAY($O$25,1)-(start_day-1))<=0,7,0)+(ROW(S27)-ROW($O$27))*7+(COLUMN(S27)-COLUMN($O$27)+1)),"",$O$25-(WEEKDAY($O$25,1)-(start_day-1))-IF((WEEKDAY($O$25,1)-(start_day-1))<=0,7,0)+(ROW(S27)-ROW($O$27))*7+(COLUMN(S27)-COLUMN($O$27)+1)) | T27: =IF(MONTH($O$25)<>MONTH($O$25-(WEEKDAY($O$25,1)-(start_day-1))-IF((WEEKDAY($O$25,1)-(start_day-1))<=0,7,0)+(ROW(T27)-ROW($O$27))*7+(COLUMN(T27)-COLUMN($O$27)+1)),"",$O$25-(WEEKDAY($O$25,1)-(start_day-1))-IF((WEEKDAY($O$25,1)-(start_day-1))<=0,7,0)+(ROW(T27)-ROW($O$27))*7+(COLUMN(T27)-COLUMN($O$27)+1)) -> 46143 | U27: =IF(MONTH($O$25)<>MONTH($O$25-(WEEKDAY($O$25,1)-(start_day-1))-IF((WEEKDAY($O$25,1)-(start_day-1))<=0,7,0)+(ROW(U27)-ROW($O$27))*7+(COLUMN(U27)-COLUMN($O$27)+1)),"",$O$25-(WEEKDAY($O$25,1)-(start_day-1))-IF((WEEKDAY($O$25,1)-(start_day-1))<=0,7,0)+(ROW(U27)-ROW($O$27))*7+(COLUMN(U27)-COLUMN($O$27)+1)) -> 46144 | X27: =IF(MONTH($X$25)<>MONTH($X$25-(WEEKDAY($X$25,1)-(start_day-1))-IF((WEEKDAY($X$25,1)-(start_day-1))<=0,7,0)+(ROW(X27)-ROW($X$27))*7+(COLUMN(X27)-COLUMN($X$27)+1)),"",$X$25-(WEEKDAY($X$25,1)-(start_day-1))-IF((WEEKDAY($X$25,1)-(start_day-1))<=0,7,0)+(ROW(X27)-ROW($X$27))*7+(COLUMN(X27)-COLUMN($X$27)+1)) | Y27: =IF(MONTH($X$25)<>MONTH($X$25-(WEEKDAY($X$25,1)-(start_day-1))-IF((WEEKDAY($X$25,1)-(start_day-1))<=0,7,0)+(ROW(Y27)-ROW($X$27))*7+(COLUMN(Y27)-COLUMN($X$27)+1)),"",$X$25-(WEEKDAY($X$25,1)-(start_day-1))-IF((WEEKDAY($X$25,1)-(start_day-1))<=0,7,0)+(ROW(Y27)-ROW($X$27))*7+(COLUMN(Y27)-COLUMN($X$27)+1)) | Z27: =IF(MONTH($X$25)<>MONTH($X$25-(WEEKDAY($X$25,1)-(start_day-1))-IF((WEEKDAY($X$25,1)-(start_day-1))<=0,7,0)+(ROW(Z27)-ROW($X$27))*7+(COLUMN(Z27)-COLUMN($X$27)+1)),"",$X$25-(WEEKDAY($X$25,1)-(start_day-1))-IF((WEEKDAY($X$25,1)-(start_day-1))<=0,7,0)+(ROW(Z27)-ROW($X$27))*7+(COLUMN(Z27)-COLUMN($X$27)+1)) | AA27: =IF(MONTH($X$25)<>MONTH($X$25-(WEEKDAY($X$25,1)-(start_day-1))-IF((WEEKDAY($X$25,1)-(start_day-1))<=0,7,0)+(ROW(AA27)-ROW($X$27))*7+(COLUMN(AA27)-COLUMN($X$27)+1)),"",$X$25-(WEEKDAY($X$25,1)-(start_day-1))-IF((WEEKDAY($X$25,1)-(start_day-1))<=0,7,0)+(ROW(AA27)-ROW($X$27))*7+(COLUMN(AA27)-COLUMN($X$27)+1)) -> 46204 | AB27: =IF(MONTH($X$25)<>MONTH($X$25-(WEEKDAY($X$25,1)-(start_day-1))-IF((WEEKDAY($X$25,1)-(start_day-1))<=0,7,0)+(ROW(AB27)-ROW($X$27))*7+(COLUMN(AB27)-COLUMN($X$27)+1)),"",$X$25-(WEEKDAY($X$25,1)-(start_day-1))-IF((WEEKDAY($X$25,1)-(start_day-1))<=0,7,0)+(ROW(AB27)-ROW($X$27))*7+(COLUMN(AB27)-COLUMN($X$27)+1)) -> 46205 | AC27: =IF(MONTH($X$25)<>MONTH($X$25-(WEEKDAY($X$25,1)-(start_day-1))-IF((WEEKDAY($X$25,1)-(start_day-1))<=0,7,0)+(ROW(AC27)-ROW($X$27))*7+(COLUMN(AC27)-COLUMN($X$27)+1)),"",$X$25-(WEEKDAY($X$25,1)-(start_day-1))-IF((WEEKDAY($X$25,1)-(start_day-1))<=0,7,0)+(ROW(AC27)-ROW($X$27))*7+(COLUMN(AC27)-COLUMN($X$27)+1)) -> 46206 | AD27: =IF(MONTH($X$25)<>MONTH($X$25-(WEEKDAY($X$25,1)-(start_day-1))-IF((WEEKDAY($X$25,1)-(start_day-1))<=0,7,0)+(ROW(AD27)-ROW($X$27))*7+(COLUMN(AD27)-COLUMN($X$27)+1)),"",$X$25-(WEEKDAY($X$25,1)-(start_day-1))-IF((WEEKDAY($X$25,1)-(start_day-1))<=0,7,0)+(ROW(AD27)-ROW($X$27))*7+(COLUMN(AD27)-COLUMN($X$27)+1)) -> 46207
O28: =IF(MONTH($O$25)<>MONTH($O$25-(WEEKDAY($O$25,1)-(start_day-1))-IF((WEEKDAY($O$25,1)-(start_day-1))<=0,7,0)+(ROW(O28)-ROW($O$27))*7+(COLUMN(O28)-COLUMN($O$27)+1)),"",$O$25-(WEEKDAY($O$25,1)-(start_day-1))-IF((WEEKDAY($O$25,1)-(start_day-1))<=0,7,0)+(ROW(O28)-ROW($O$27))*7+(COLUMN(O28)-COLUMN($O$27)+1)) -> 46145 | P28: =IF(MONTH($O$25)<>MONTH($O$25-(WEEKDAY($O$25,1)-(start_day-1))-IF((WEEKDAY($O$25,1)-(start_day-1))<=0,7,0)+(ROW(P28)-ROW($O$27))*7+(COLUMN(P28)-COLUMN($O$27)+1)),"",$O$25-(WEEKDAY($O$25,1)-(start_day-1))-IF((WEEKDAY($O$25,1)-(start_day-1))<=0,7,0)+(ROW(P28)-ROW($O$27))*7+(COLUMN(P28)-COLUMN($O$27)+1)) -> 46146 | Q28: =IF(MONTH($O$25)<>MONTH($O$25-(WEEKDAY($O$25,1)-(start_day-1))-IF((WEEKDAY($O$25,1)-(start_day-1))<=0,7,0)+(ROW(Q28)-ROW($O$27))*7+(COLUMN(Q28)-COLUMN($O$27)+1)),"",$O$25-(WEEKDAY($O$25,1)-(start_day-1))-IF((WEEKDAY($O$25,1)-(start_day-1))<=0,7,0)+(ROW(Q28)-ROW($O$27))*7+(COLUMN(Q28)-COLUMN($O$27)+1)) -> 46147 | R28: =IF(MONTH($O$25)<>MONTH($O$25-(WEEKDAY($O$25,1)-(start_day-1))-IF((WEEKDAY($O$25,1)-(start_day-1))<=0,7,0)+(ROW(R28)-ROW($O$27))*7+(COLUMN(R28)-COLUMN($O$27)+1)),"",$O$25-(WEEKDAY($O$25,1)-(start_day-1))-IF((WEEKDAY($O$25,1)-(start_day-1))<=0,7,0)+(ROW(R28)-ROW($O$27))*7+(COLUMN(R28)-COLUMN($O$27)+1)) -> 46148 | S28: =IF(MONTH($O$25)<>MONTH($O$25-(WEEKDAY($O$25,1)-(start_day-1))-IF((WEEKDAY($O$25,1)-(start_day-1))<=0,7,0)+(ROW(S28)-ROW($O$27))*7+(COLUMN(S28)-COLUMN($O$27)+1)),"",$O$25-(WEEKDAY($O$25,1)-(start_day-1))-IF((WEEKDAY($O$25,1)-(start_day-1))<=0,7,0)+(ROW(S28)-ROW($O$27))*7+(COLUMN(S28)-COLUMN($O$27)+1)) -> 46149 | T28: =IF(MONTH($O$25)<>MONTH($O$25-(WEEKDAY($O$25,1)-(start_day-1))-IF((WEEKDAY($O$25,1)-(start_day-1))<=0,7,0)+(ROW(T28)-ROW($O$27))*7+(COLUMN(T28)-COLUMN($O$27)+1)),"",$O$25-(WEEKDAY($O$25,1)-(start_day-1))-IF((WEEKDAY($O$25,1)-(start_day-1))<=0,7,0)+(ROW(T28)-ROW($O$27))*7+(COLUMN(T28)-COLUMN($O$27)+1)) -> 46150 | U28: =IF(MONTH($O$25)<>MONTH($O$25-(WEEKDAY($O$25,1)-(start_day-1))-IF((WEEKDAY($O$25,1)-(start_day-1))<=0,7,0)+(ROW(U28)-ROW($O$27))*7+(COLUMN(U28)-COLUMN($O$27)+1)),"",$O$25-(WEEKDAY($O$25,1)-(start_day-1))-IF((WEEKDAY($O$25,1)-(start_day-1))<=0,7,0)+(ROW(U28)-ROW($O$27))*7+(COLUMN(U28)-COLUMN($O$27)+1)) -> 46151 | X28: =IF(MONTH($X$25)<>MONTH($X$25-(WEEKDAY($X$25,1)-(start_day-1))-IF((WEEKDAY($X$25,1)-(start_day-1))<=0,7,0)+(ROW(X28)-ROW($X$27))*7+(COLUMN(X28)-COLUMN($X$27)+1)),"",$X$25-(WEEKDAY($X$25,1)-(start_day-1))-IF((WEEKDAY($X$25,1)-(start_day-1))<=0,7,0)+(ROW(X28)-ROW($X$27))*7+(COLUMN(X28)-COLUMN($X$27)+1)) -> 46208 | Y28: =IF(MONTH($X$25)<>MONTH($X$25-(WEEKDAY($X$25,1)-(start_day-1))-IF((WEEKDAY($X$25,1)-(start_day-1))<=0,7,0)+(ROW(Y28)-ROW($X$27))*7+(COLUMN(Y28)-COLUMN($X$27)+1)),"",$X$25-(WEEKDAY($X$25,1)-(start_day-1))-IF((WEEKDAY($X$25,1)-(start_day-1))<=0,7,0)+(ROW(Y28)-ROW($X$27))*7+(COLUMN(Y28)-COLUMN($X$27)+1)) -> 46209 | Z28: =IF(MONTH($X$25)<>MONTH($X$25-(WEEKDAY($X$25,1)-(start_day-1))-IF((WEEKDAY($X$25,1)-(start_day-1))<=0,7,0)+(ROW(Z28)-ROW($X$27))*7+(COLUMN(Z28)-COLUMN($X$27)+1)),"",$X$25-(WEEKDAY($X$25,1)-(start_day-1))-IF((WEEKDAY($X$25,1)-(start_day-1))<=0,7,0)+(ROW(Z28)-ROW($X$27))*7+(COLUMN(Z28)-COLUMN($X$27)+1)) -> 46210 | AA28: =IF(MONTH($X$25)<>MONTH($X$25-(WEEKDAY($X$25,1)-(start_day-1))-IF((WEEKDAY($X$25,1)-(start_day-1))<=0,7,0)+(ROW(AA28)-ROW($X$27))*7+(COLUMN(AA28)-COLUMN($X$27)+1)),"",$X$25-(WEEKDAY($X$25,1)-(start_day-1))-IF((WEEKDAY($X$25,1)-(start_day-1))<=0,7,0)+(ROW(AA28)-ROW($X$27))*7+(COLUMN(AA28)-COLUMN($X$27)+1)) -> 46211 | AB28: =IF(MONTH($X$25)<>MONTH($X$25-(WEEKDAY($X$25,1)-(start_day-1))-IF((WEEKDAY($X$25,1)-(start_day-1))<=0,7,0)+(ROW(AB28)-ROW($X$27))*7+(COLUMN(AB28)-COLUMN($X$27)+1)),"",$X$25-(WEEKDAY($X$25,1)-(start_day-1))-IF((WEEKDAY($X$25,1)-(start_day-1))<=0,7,0)+(ROW(AB28)-ROW($X$27))*7+(COLUMN(AB28)-COLUMN($X$27)+1)) -> 46212 | AC28: =IF(MONTH($X$25)<>MONTH($X$25-(WEEKDAY($X$25,1)-(start_day-1))-IF((WEEKDAY($X$25,1)-(start_day-1))<=0,7,0)+(ROW(AC28)-ROW($X$27))*7+(COLUMN(AC28)-COLUMN($X$27)+1)),"",$X$25-(WEEKDAY($X$25,1)-(start_day-1))-IF((WEEKDAY($X$25,1)-(start_day-1))<=0,7,0)+(ROW(AC28)-ROW($X$27))*7+(COLUMN(AC28)-COLUMN($X$27)+1)) -> 46213 | AD28: =IF(MONTH($X$25)<>MONTH($X$25-(WEEKDAY($X$25,1)-(start_day-1))-IF((WEEKDAY($X$25,1)-(start_day-1))<=0,7,0)+(ROW(AD28)-ROW($X$27))*7+(COLUMN(AD28)-COLUMN($X$27)+1)),"",$X$25-(WEEKDAY($X$25,1)-(start_day-1))-IF((WEEKDAY($X$25,1)-(start_day-1))<=0,7,0)+(ROW(AD28)-ROW($X$27))*7+(COLUMN(AD28)-COLUMN($X$27)+1)) -> 46214
O29: =IF(MONTH($O$25)<>MONTH($O$25-(WEEKDAY($O$25,1)-(start_day-1))-IF((WEEKDAY($O$25,1)-(start_day-1))<=0,7,0)+(ROW(O29)-ROW($O$27))*7+(COLUMN(O29)-COLUMN($O$27)+1)),"",$O$25-(WEEKDAY($O$25,1)-(start_day-1))-IF((WEEKDAY($O$25,1)-(start_day-1))<=0,7,0)+(ROW(O29)-ROW($O$27))*7+(COLUMN(O29)-COLUMN($O$27)+1)) -> 46152 | P29: =IF(MONTH($O$25)<>MONTH($O$25-(WEEKDAY($O$25,1)-(start_day-1))-IF((WEEKDAY($O$25,1)-(start_day-1))<=0,7,0)+(ROW(P29)-ROW($O$27))*7+(COLUMN(P29)-COLUMN($O$27)+1)),"",$O$25-(WEEKDAY($O$25,1)-(start_day-1))-IF((WEEKDAY($O$25,1)-(start_day-1))<=0,7,0)+(ROW(P29)-ROW($O$27))*7+(COLUMN(P29)-COLUMN($O$27)+1)) -> 46153 | Q29: =IF(MONTH($O$25)<>MONTH($O$25-(WEEKDAY($O$25,1)-(start_day-1))-IF((WEEKDAY($O$25,1)-(start_day-1))<=0,7,0)+(ROW(Q29)-ROW($O$27))*7+(COLUMN(Q29)-COLUMN($O$27)+1)),"",$O$25-(WEEKDAY($O$25,1)-(start_day-1))-IF((WEEKDAY($O$25,1)-(start_day-1))<=0,7,0)+(ROW(Q29)-ROW($O$27))*7+(COLUMN(Q29)-COLUMN($O$27)+1)) -> 46154 | R29: =IF(MONTH($O$25)<>MONTH($O$25-(WEEKDAY($O$25,1)-(start_day-1))-IF((WEEKDAY($O$25,1)-(start_day-1))<=0,7,0)+(ROW(R29)-ROW($O$27))*7+(COLUMN(R29)-COLUMN($O$27)+1)),"",$O$25-(WEEKDAY($O$25,1)-(start_day-1))-IF((WEEKDAY($O$25,1)-(start_day-1))<=0,7,0)+(ROW(R29)-ROW($O$27))*7+(COLUMN(R29)-COLUMN($O$27)+1)) -> 46155 | S29: =IF(MONTH($O$25)<>MONTH($O$25-(WEEKDAY($O$25,1)-(start_day-1))-IF((WEEKDAY($O$25,1)-(start_day-1))<=0,7,0)+(ROW(S29)-ROW($O$27))*7+(COLUMN(S29)-COLUMN($O$27)+1)),"",$O$25-(WEEKDAY($O$25,1)-(start_day-1))-IF((WEEKDAY($O$25,1)-(start_day-1))<=0,7,0)+(ROW(S29)-ROW($O$27))*7+(COLUMN(S29)-COLUMN($O$27)+1)) -> 46156 | T29: =IF(MONTH($O$25)<>MONTH($O$25-(WEEKDAY($O$25,1)-(start_day-1))-IF((WEEKDAY($O$25,1)-(start_day-1))<=0,7,0)+(ROW(T29)-ROW($O$27))*7+(COLUMN(T29)-COLUMN($O$27)+1)),"",$O$25-(WEEKDAY($O$25,1)-(start_day-1))-IF((WEEKDAY($O$25,1)-(start_day-1))<=0,7,0)+(ROW(T29)-ROW($O$27))*7+(COLUMN(T29)-COLUMN($O$27)+1)) -> 46157 | U29: =IF(MONTH($O$25)<>MONTH($O$25-(WEEKDAY($O$25,1)-(start_day-1))-IF((WEEKDAY($O$25,1)-(start_day-1))<=0,7,0)+(ROW(U29)-ROW($O$27))*7+(COLUMN(U29)-COLUMN($O$27)+1)),"",$O$25-(WEEKDAY($O$25,1)-(start_day-1))-IF((WEEKDAY($O$25,1)-(start_day-1))<=0,7,0)+(ROW(U29)-ROW($O$27))*7+(COLUMN(U29)-COLUMN($O$27)+1)) -> 46158 | X29: =IF(MONTH($X$25)<>MONTH($X$25-(WEEKDAY($X$25,1)-(start_day-1))-IF((WEEKDAY($X$25,1)-(start_day-1))<=0,7,0)+(ROW(X29)-ROW($X$27))*7+(COLUMN(X29)-COLUMN($X$27)+1)),"",$X$25-(WEEKDAY($X$25,1)-(start_day-1))-IF((WEEKDAY($X$25,1)-(start_day-1))<=0,7,0)+(ROW(X29)-ROW($X$27))*7+(COLUMN(X29)-COLUMN($X$27)+1)) -> 46215 | Y29: =IF(MONTH($X$25)<>MONTH($X$25-(WEEKDAY($X$25,1)-(start_day-1))-IF((WEEKDAY($X$25,1)-(start_day-1))<=0,7,0)+(ROW(Y29)-ROW($X$27))*7+(COLUMN(Y29)-COLUMN($X$27)+1)),"",$X$25-(WEEKDAY($X$25,1)-(start_day-1))-IF((WEEKDAY($X$25,1)-(start_day-1))<=0,7,0)+(ROW(Y29)-ROW($X$27))*7+(COLUMN(Y29)-COLUMN($X$27)+1)) -> 46216 | Z29: =IF(MONTH($X$25)<>MONTH($X$25-(WEEKDAY($X$25,1)-(start_day-1))-IF((WEEKDAY($X$25,1)-(start_day-1))<=0,7,0)+(ROW(Z29)-ROW($X$27))*7+(COLUMN(Z29)-COLUMN($X$27)+1)),"",$X$25-(WEEKDAY($X$25,1)-(start_day-1))-IF((WEEKDAY($X$25,1)-(start_day-1))<=0,7,0)+(ROW(Z29)-ROW($X$27))*7+(COLUMN(Z29)-COLUMN($X$27)+1)) -> 46217 | AA29: =IF(MONTH($X$25)<>MONTH($X$25-(WEEKDAY($X$25,1)-(start_day-1))-IF((WEEKDAY($X$25,1)-(start_day-1))<=0,7,0)+(ROW(AA29)-ROW($X$27))*7+(COLUMN(AA29)-COLUMN($X$27)+1)),"",$X$25-(WEEKDAY($X$25,1)-(start_day-1))-IF((WEEKDAY($X$25,1)-(start_day-1))<=0,7,0)+(ROW(AA29)-ROW($X$27))*7+(COLUMN(AA29)-COLUMN($X$27)+1)) -> 46218 | AB29: =IF(MONTH($X$25)<>MONTH($X$25-(WEEKDAY($X$25,1)-(start_day-1))-IF((WEEKDAY($X$25,1)-(start_day-1))<=0,7,0)+(ROW(AB29)-ROW($X$27))*7+(COLUMN(AB29)-COLUMN($X$27)+1)),"",$X$25-(WEEKDAY($X$25,1)-(start_day-1))-IF((WEEKDAY($X$25,1)-(start_day-1))<=0,7,0)+(ROW(AB29)-ROW($X$27))*7+(COLUMN(AB29)-COLUMN($X$27)+1)) -> 46219 | AC29: =IF(MONTH($X$25)<>MONTH($X$25-(WEEKDAY($X$25,1)-(start_day-1))-IF((WEEKDAY($X$25,1)-(start_day-1))<=0,7,0)+(ROW(AC29)-ROW($X$27))*7+(COLUMN(AC29)-COLUMN($X$27)+1)),"",$X$25-(WEEKDAY($X$25,1)-(start_day-1))-IF((WEEKDAY($X$25,1)-(start_day-1))<=0,7,0)+(ROW(AC29)-ROW($X$27))*7+(COLUMN(AC29)-COLUMN($X$27)+1)) -> 46220 | AD29: =IF(MONTH($X$25)<>MONTH($X$25-(WEEKDAY($X$25,1)-(start_day-1))-IF((WEEKDAY($X$25,1)-(start_day-1))<=0,7,0)+(ROW(AD29)-ROW($X$27))*7+(COLUMN(AD29)-COLUMN($X$27)+1)),"",$X$25-(WEEKDAY($X$25,1)-(start_day-1))-IF((WEEKDAY($X$25,1)-(start_day-1))<=0,7,0)+(ROW(AD29)-ROW($X$27))*7+(COLUMN(AD29)-COLUMN($X$27)+1)) -> 46221
O30: =IF(MONTH($O$25)<>MONTH($O$25-(WEEKDAY($O$25,1)-(start_day-1))-IF((WEEKDAY($O$25,1)-(start_day-1))<=0,7,0)+(ROW(O30)-ROW($O$27))*7+(COLUMN(O30)-COLUMN($O$27)+1)),"",$O$25-(WEEKDAY($O$25,1)-(start_day-1))-IF((WEEKDAY($O$25,1)-(start_day-1))<=0,7,0)+(ROW(O30)-ROW($O$27))*7+(COLUMN(O30)-COLUMN($O$27)+1)) -> 46159 | P30: =IF(MONTH($O$25)<>MONTH($O$25-(WEEKDAY($O$25,1)-(start_day-1))-IF((WEEKDAY($O$25,1)-(start_day-1))<=0,7,0)+(ROW(P30)-ROW($O$27))*7+(COLUMN(P30)-COLUMN($O$27)+1)),"",$O$25-(WEEKDAY($O$25,1)-(start_day-1))-IF((WEEKDAY($O$25,1)-(start_day-1))<=0,7,0)+(ROW(P30)-ROW($O$27))*7+(COLUMN(P30)-COLUMN($O$27)+1)) -> 46160 | Q30: =IF(MONTH($O$25)<>MONTH($O$25-(WEEKDAY($O$25,1)-(start_day-1))-IF((WEEKDAY($O$25,1)-(start_day-1))<=0,7,0)+(ROW(Q30)-ROW($O$27))*7+(COLUMN(Q30)-COLUMN($O$27)+1)),"",$O$25-(WEEKDAY($O$25,1)-(start_day-1))-IF((WEEKDAY($O$25,1)-(start_day-1))<=0,7,0)+(ROW(Q30)-ROW($O$27))*7+(COLUMN(Q30)-COLUMN($O$27)+1)) -> 46161 | R30: =IF(MONTH($O$25)<>MONTH($O$25-(WEEKDAY($O$25,1)-(start_day-1))-IF((WEEKDAY($O$25,1)-(start_day-1))<=0,7,0)+(ROW(R30)-ROW($O$27))*7+(COLUMN(R30)-COLUMN($O$27)+1)),"",$O$25-(WEEKDAY($O$25,1)-(start_day-1))-IF((WEEKDAY($O$25,1)-(start_day-1))<=0,7,0)+(ROW(R30)-ROW($O$27))*7+(COLUMN(R30)-COLUMN($O$27)+1)) -> 46162 | S30: =IF(MONTH($O$25)<>MONTH($O$25-(WEEKDAY($O$25,1)-(start_day-1))-IF((WEEKDAY($O$25,1)-(start_day-1))<=0,7,0)+(ROW(S30)-ROW($O$27))*7+(COLUMN(S30)-COLUMN($O$27)+1)),"",$O$25-(WEEKDAY($O$25,1)-(start_day-1))-IF((WEEKDAY($O$25,1)-(start_day-1))<=0,7,0)+(ROW(S30)-ROW($O$27))*7+(COLUMN(S30)-COLUMN($O$27)+1)) -> 46163 | T30: =IF(MONTH($O$25)<>MONTH($O$25-(WEEKDAY($O$25,1)-(start_day-1))-IF((WEEKDAY($O$25,1)-(start_day-1))<=0,7,0)+(ROW(T30)-ROW($O$27))*7+(COLUMN(T30)-COLUMN($O$27)+1)),"",$O$25-(WEEKDAY($O$25,1)-(start_day-1))-IF((WEEKDAY($O$25,1)-(start_day-1))<=0,7,0)+(ROW(T30)-ROW($O$27))*7+(COLUMN(T30)-COLUMN($O$27)+1)) -> 46164 | U30: =IF(MONTH($O$25)<>MONTH($O$25-(WEEKDAY($O$25,1)-(start_day-1))-IF((WEEKDAY($O$25,1)-(start_day-1))<=0,7,0)+(ROW(U30)-ROW($O$27))*7+(COLUMN(U30)-COLUMN($O$27)+1)),"",$O$25-(WEEKDAY($O$25,1)-(start_day-1))-IF((WEEKDAY($O$25,1)-(start_day-1))<=0,7,0)+(ROW(U30)-ROW($O$27))*7+(COLUMN(U30)-COLUMN($O$27)+1)) -> 46165 | X30: =IF(MONTH($X$25)<>MONTH($X$25-(WEEKDAY($X$25,1)-(start_day-1))-IF((WEEKDAY($X$25,1)-(start_day-1))<=0,7,0)+(ROW(X30)-ROW($X$27))*7+(COLUMN(X30)-COLUMN($X$27)+1)),"",$X$25-(WEEKDAY($X$25,1)-(start_day-1))-IF((WEEKDAY($X$25,1)-(start_day-1))<=0,7,0)+(ROW(X30)-ROW($X$27))*7+(COLUMN(X30)-COLUMN($X$27)+1)) -> 46222 | Y30: =IF(MONTH($X$25)<>MONTH($X$25-(WEEKDAY($X$25,1)-(start_day-1))-IF((WEEKDAY($X$25,1)-(start_day-1))<=0,7,0)+(ROW(Y30)-ROW($X$27))*7+(COLUMN(Y30)-COLUMN($X$27)+1)),"",$X$25-(WEEKDAY($X$25,1)-(start_day-1))-IF((WEEKDAY($X$25,1)-(start_day-1))<=0,7,0)+(ROW(Y30)-ROW($X$27))*7+(COLUMN(Y30)-COLUMN($X$27)+1)) -> 46223 | Z30: =IF(MONTH($X$25)<>MONTH($X$25-(WEEKDAY($X$25,1)-(start_day-1))-IF((WEEKDAY($X$25,1)-(start_day-1))<=0,7,0)+(ROW(Z30)-ROW($X$27))*7+(COLUMN(Z30)-COLUMN($X$27)+1)),"",$X$25-(WEEKDAY($X$25,1)-(start_day-1))-IF((WEEKDAY($X$25,1)-(start_day-1))<=0,7,0)+(ROW(Z30)-ROW($X$27))*7+(COLUMN(Z30)-COLUMN($X$27)+1)) -> 46224 | AA30: =IF(MONTH($X$25)<>MONTH($X$25-(WEEKDAY($X$25,1)-(start_day-1))-IF((WEEKDAY($X$25,1)-(start_day-1))<=0,7,0)+(ROW(AA30)-ROW($X$27))*7+(COLUMN(AA30)-COLUMN($X$27)+1)),"",$X$25-(WEEKDAY($X$25,1)-(start_day-1))-IF((WEEKDAY($X$25,1)-(start_day-1))<=0,7,0)+(ROW(AA30)-ROW($X$27))*7+(COLUMN(AA30)-COLUMN($X$27)+1)) -> 46225 | AB30: =IF(MONTH($X$25)<>MONTH($X$25-(WEEKDAY($X$25,1)-(start_day-1))-IF((WEEKDAY($X$25,1)-(start_day-1))<=0,7,0)+(ROW(AB30)-ROW($X$27))*7+(COLUMN(AB30)-COLUMN($X$27)+1)),"",$X$25-(WEEKDAY($X$25,1)-(start_day-1))-IF((WEEKDAY($X$25,1)-(start_day-1))<=0,7,0)+(ROW(AB30)-ROW($X$27))*7+(COLUMN(AB30)-COLUMN($X$27)+1)) -> 46226 | AC30: =IF(MONTH($X$25)<>MONTH($X$25-(WEEKDAY($X$25,1)-(start_day-1))-IF((WEEKDAY($X$25,1)-(start_day-1))<=0,7,0)+(ROW(AC30)-ROW($X$27))*7+(COLUMN(AC30)-COLUMN($X$27)+1)),"",$X$25-(WEEKDAY($X$25,1)-(start_day-1))-IF((WEEKDAY($X$25,1)-(start_day-1))<=0,7,0)+(ROW(AC30)-ROW($X$27))*7+(COLUMN(AC30)-COLUMN($X$27)+1)) -> 46227 | AD30: =IF(MONTH($X$25)<>MONTH($X$25-(WEEKDAY($X$25,1)-(start_day-1))-IF((WEEKDAY($X$25,1)-(start_day-1))<=0,7,0)+(ROW(AD30)-ROW($X$27))*7+(COLUMN(AD30)-COLUMN($X$27)+1)),"",$X$25-(WEEKDAY($X$25,1)-(start_day-1))-IF((WEEKDAY($X$25,1)-(start_day-1))<=0,7,0)+(ROW(AD30)-ROW($X$27))*7+(COLUMN(AD30)-COLUMN($X$27)+1)) -> 46228
O31: =IF(MONTH($O$25)<>MONTH($O$25-(WEEKDAY($O$25,1)-(start_day-1))-IF((WEEKDAY($O$25,1)-(start_day-1))<=0,7,0)+(ROW(O31)-ROW($O$27))*7+(COLUMN(O31)-COLUMN($O$27)+1)),"",$O$25-(WEEKDAY($O$25,1)-(start_day-1))-IF((WEEKDAY($O$25,1)-(start_day-1))<=0,7,0)+(ROW(O31)-ROW($O$27))*7+(COLUMN(O31)-COLUMN($O$27)+1)) -> 46166 | P31: =IF(MONTH($O$25)<>MONTH($O$25-(WEEKDAY($O$25,1)-(start_day-1))-IF((WEEKDAY($O$25,1)-(start_day-1))<=0,7,0)+(ROW(P31)-ROW($O$27))*7+(COLUMN(P31)-COLUMN($O$27)+1)),"",$O$25-(WEEKDAY($O$25,1)-(start_day-1))-IF((WEEKDAY($O$25,1)-(start_day-1))<=0,7,0)+(ROW(P31)-ROW($O$27))*7+(COLUMN(P31)-COLUMN($O$27)+1)) -> 46167 | Q31: =IF(MONTH($O$25)<>MONTH($O$25-(WEEKDAY($O$25,1)-(start_day-1))-IF((WEEKDAY($O$25,1)-(start_day-1))<=0,7,0)+(ROW(Q31)-ROW($O$27))*7+(COLUMN(Q31)-COLUMN($O$27)+1)),"",$O$25-(WEEKDAY($O$25,1)-(start_day-1))-IF((WEEKDAY($O$25,1)-(start_day-1))<=0,7,0)+(ROW(Q31)-ROW($O$27))*7+(COLUMN(Q31)-COLUMN($O$27)+1)) -> 46168 | R31: =IF(MONTH($O$25)<>MONTH($O$25-(WEEKDAY($O$25,1)-(start_day-1))-IF((WEEKDAY($O$25,1)-(start_day-1))<=0,7,0)+(ROW(R31)-ROW($O$27))*7+(COLUMN(R31)-COLUMN($O$27)+1)),"",$O$25-(WEEKDAY($O$25,1)-(start_day-1))-IF((WEEKDAY($O$25,1)-(start_day-1))<=0,7,0)+(ROW(R31)-ROW($O$27))*7+(COLUMN(R31)-COLUMN($O$27)+1)) -> 46169 | S31: =IF(MONTH($O$25)<>MONTH($O$25-(WEEKDAY($O$25,1)-(start_day-1))-IF((WEEKDAY($O$25,1)-(start_day-1))<=0,7,0)+(ROW(S31)-ROW($O$27))*7+(COLUMN(S31)-COLUMN($O$27)+1)),"",$O$25-(WEEKDAY($O$25,1)-(start_day-1))-IF((WEEKDAY($O$25,1)-(start_day-1))<=0,7,0)+(ROW(S31)-ROW($O$27))*7+(COLUMN(S31)-COLUMN($O$27)+1)) -> 46170 | T31: =IF(MONTH($O$25)<>MONTH($O$25-(WEEKDAY($O$25,1)-(start_day-1))-IF((WEEKDAY($O$25,1)-(start_day-1))<=0,7,0)+(ROW(T31)-ROW($O$27))*7+(COLUMN(T31)-COLUMN($O$27)+1)),"",$O$25-(WEEKDAY($O$25,1)-(start_day-1))-IF((WEEKDAY($O$25,1)-(start_day-1))<=0,7,0)+(ROW(T31)-ROW($O$27))*7+(COLUMN(T31)-COLUMN($O$27)+1)) -> 46171 | U31: =IF(MONTH($O$25)<>MONTH($O$25-(WEEKDAY($O$25,1)-(start_day-1))-IF((WEEKDAY($O$25,1)-(start_day-1))<=0,7,0)+(ROW(U31)-ROW($O$27))*7+(COLUMN(U31)-COLUMN($O$27)+1)),"",$O$25-(WEEKDAY($O$25,1)-(start_day-1))-IF((WEEKDAY($O$25,1)-(start_day-1))<=0,7,0)+(ROW(U31)-ROW($O$27))*7+(COLUMN(U31)-COLUMN($O$27)+1)) -> 46172 | X31: =IF(MONTH($X$25)<>MONTH($X$25-(WEEKDAY($X$25,1)-(start_day-1))-IF((WEEKDAY($X$25,1)-(start_day-1))<=0,7,0)+(ROW(X31)-ROW($X$27))*7+(COLUMN(X31)-COLUMN($X$27)+1)),"",$X$25-(WEEKDAY($X$25,1)-(start_day-1))-IF((WEEKDAY($X$25,1)-(start_day-1))<=0,7,0)+(ROW(X31)-ROW($X$27))*7+(COLUMN(X31)-COLUMN($X$27)+1)) -> 46229 | Y31: =IF(MONTH($X$25)<>MONTH($X$25-(WEEKDAY($X$25,1)-(start_day-1))-IF((WEEKDAY($X$25,1)-(start_day-1))<=0,7,0)+(ROW(Y31)-ROW($X$27))*7+(COLUMN(Y31)-COLUMN($X$27)+1)),"",$X$25-(WEEKDAY($X$25,1)-(start_day-1))-IF((WEEKDAY($X$25,1)-(start_day-1))<=0,7,0)+(ROW(Y31)-ROW($X$27))*7+(COLUMN(Y31)-COLUMN($X$27)+1)) -> 46230 | Z31: =IF(MONTH($X$25)<>MONTH($X$25-(WEEKDAY($X$25,1)-(start_day-1))-IF((WEEKDAY($X$25,1)-(start_day-1))<=0,7,0)+(ROW(Z31)-ROW($X$27))*7+(COLUMN(Z31)-COLUMN($X$27)+1)),"",$X$25-(WEEKDAY($X$25,1)-(start_day-1))-IF((WEEKDAY($X$25,1)-(start_day-1))<=0,7,0)+(ROW(Z31)-ROW($X$27))*7+(COLUMN(Z31)-COLUMN($X$27)+1)) -> 46231 | AA31: =IF(MONTH($X$25)<>MONTH($X$25-(WEEKDAY($X$25,1)-(start_day-1))-IF((WEEKDAY($X$25,1)-(start_day-1))<=0,7,0)+(ROW(AA31)-ROW($X$27))*7+(COLUMN(AA31)-COLUMN($X$27)+1)),"",$X$25-(WEEKDAY($X$25,1)-(start_day-1))-IF((WEEKDAY($X$25,1)-(start_day-1))<=0,7,0)+(ROW(AA31)-ROW($X$27))*7+(COLUMN(AA31)-COLUMN($X$27)+1)) -> 46232 | AB31: =IF(MONTH($X$25)<>MONTH($X$25-(WEEKDAY($X$25,1)-(start_day-1))-IF((WEEKDAY($X$25,1)-(start_day-1))<=0,7,0)+(ROW(AB31)-ROW($X$27))*7+(COLUMN(AB31)-COLUMN($X$27)+1)),"",$X$25-(WEEKDAY($X$25,1)-(start_day-1))-IF((WEEKDAY($X$25,1)-(start_day-1))<=0,7,0)+(ROW(AB31)-ROW($X$27))*7+(COLUMN(AB31)-COLUMN($X$27)+1)) -> 46233 | AC31: =IF(MONTH($X$25)<>MONTH($X$25-(WEEKDAY($X$25,1)-(start_day-1))-IF((WEEKDAY($X$25,1)-(start_day-1))<=0,7,0)+(ROW(AC31)-ROW($X$27))*7+(COLUMN(AC31)-COLUMN($X$27)+1)),"",$X$25-(WEEKDAY($X$25,1)-(start_day-1))-IF((WEEKDAY($X$25,1)-(start_day-1))<=0,7,0)+(ROW(AC31)-ROW($X$27))*7+(COLUMN(AC31)-COLUMN($X$27)+1)) -> 46234 | AD31: =IF(MONTH($X$25)<>MONTH($X$25-(WEEKDAY($X$25,1)-(start_day-1))-IF((WEEKDAY($X$25,1)-(start_day-1))<=0,7,0)+(ROW(AD31)-ROW($X$27))*7+(COLUMN(AD31)-COLUMN($X$27)+1)),"",$X$25-(WEEKDAY($X$25,1)-(start_day-1))-IF((WEEKDAY($X$25,1)-(start_day-1))<=0,7,0)+(ROW(AD31)-ROW($X$27))*7+(COLUMN(AD31)-COLUMN($X$27)+1))
O32: =IF(MONTH($O$25)<>MONTH($O$25-(WEEKDAY($O$25,1)-(start_day-1))-IF((WEEKDAY($O$25,1)-(start_day-1))<=0,7,0)+(ROW(O32)-ROW($O$27))*7+(COLUMN(O32)-COLUMN($O$27)+1)),"",$O$25-(WEEKDAY($O$25,1)-(start_day-1))-IF((WEEKDAY($O$25,1)-(start_day-1))<=0,7,0)+(ROW(O32)-ROW($O$27))*7+(COLUMN(O32)-COLUMN($O$27)+1)) -> 46173 | P32: =IF(MONTH($O$25)<>MONTH($O$25-(WEEKDAY($O$25,1)-(start_day-1))-IF((WEEKDAY($O$25,1)-(start_day-1))<=0,7,0)+(ROW(P32)-ROW($O$27))*7+(COLUMN(P32)-COLUMN($O$27)+1)),"",$O$25-(WEEKDAY($O$25,1)-(start_day-1))-IF((WEEKDAY($O$25,1)-(start_day-1))<=0,7,0)+(ROW(P32)-ROW($O$27))*7+(COLUMN(P32)-COLUMN($O$27)+1)) | Q32: =IF(MONTH($O$25)<>MONTH($O$25-(WEEKDAY($O$25,1)-(start_day-1))-IF((WEEKDAY($O$25,1)-(start_day-1))<=0,7,0)+(ROW(Q32)-ROW($O$27))*7+(COLUMN(Q32)-COLUMN($O$27)+1)),"",$O$25-(WEEKDAY($O$25,1)-(start_day-1))-IF((WEEKDAY($O$25,1)-(start_day-1))<=0,7,0)+(ROW(Q32)-ROW($O$27))*7+(COLUMN(Q32)-COLUMN($O$27)+1)) | R32: =IF(MONTH($O$25)<>MONTH($O$25-(WEEKDAY($O$25,1)-(start_day-1))-IF((WEEKDAY($O$25,1)-(start_day-1))<=0,7,0)+(ROW(R32)-ROW($O$27))*7+(COLUMN(R32)-COLUMN($O$27)+1)),"",$O$25-(WEEKDAY($O$25,1)-(start_day-1))-IF((WEEKDAY($O$25,1)-(start_day-1))<=0,7,0)+(ROW(R32)-ROW($O$27))*7+(COLUMN(R32)-COLUMN($O$27)+1)) | S32: =IF(MONTH($O$25)<>MONTH($O$25-(WEEKDAY($O$25,1)-(start_day-1))-IF((WEEKDAY($O$25,1)-(start_day-1))<=0,7,0)+(ROW(S32)-ROW($O$27))*7+(COLUMN(S32)-COLUMN($O$27)+1)),"",$O$25-(WEEKDAY($O$25,1)-(start_day-1))-IF((WEEKDAY($O$25,1)-(start_day-1))<=0,7,0)+(ROW(S32)-ROW($O$27))*7+(COLUMN(S32)-COLUMN($O$27)+1)) | T32: =IF(MONTH($O$25)<>MONTH($O$25-(WEEKDAY($O$25,1)-(start_day-1))-IF((WEEKDAY($O$25,1)-(start_day-1))<=0,7,0)+(ROW(T32)-ROW($O$27))*7+(COLUMN(T32)-COLUMN($O$27)+1)),"",$O$25-(WEEKDAY($O$25,1)-(start_day-1))-IF((WEEKDAY($O$25,1)-(start_day-1))<=0,7,0)+(ROW(T32)-ROW($O$27))*7+(COLUMN(T32)-COLUMN($O$27)+1)) | U32: =IF(MONTH($O$25)<>MONTH($O$25-(WEEKDAY($O$25,1)-(start_day-1))-IF((WEEKDAY($O$25,1)-(start_day-1))<=0,7,0)+(ROW(U32)-ROW($O$27))*7+(COLUMN(U32)-COLUMN($O$27)+1)),"",$O$25-(WEEKDAY($O$25,1)-(start_day-1))-IF((WEEKDAY($O$25,1)-(start_day-1))<=0,7,0)+(ROW(U32)-ROW($O$27))*7+(COLUMN(U32)-COLUMN($O$27)+1)) | X32: =IF(MONTH($X$25)<>MONTH($X$25-(WEEKDAY($X$25,1)-(start_day-1))-IF((WEEKDAY($X$25,1)-(start_day-1))<=0,7,0)+(ROW(X32)-ROW($X$27))*7+(COLUMN(X32)-COLUMN($X$27)+1)),"",$X$25-(WEEKDAY($X$25,1)-(start_day-1))-IF((WEEKDAY($X$25,1)-(start_day-1))<=0,7,0)+(ROW(X32)-ROW($X$27))*7+(COLUMN(X32)-COLUMN($X$27)+1)) | Y32: =IF(MONTH($X$25)<>MONTH($X$25-(WEEKDAY($X$25,1)-(start_day-1))-IF((WEEKDAY($X$25,1)-(start_day-1))<=0,7,0)+(ROW(Y32)-ROW($X$27))*7+(COLUMN(Y32)-COLUMN($X$27)+1)),"",$X$25-(WEEKDAY($X$25,1)-(start_day-1))-IF((WEEKDAY($X$25,1)-(start_day-1))<=0,7,0)+(ROW(Y32)-ROW($X$27))*7+(COLUMN(Y32)-COLUMN($X$27)+1)) | Z32: =IF(MONTH($X$25)<>MONTH($X$25-(WEEKDAY($X$25,1)-(start_day-1))-IF((WEEKDAY($X$25,1)-(start_day-1))<=0,7,0)+(ROW(Z32)-ROW($X$27))*7+(COLUMN(Z32)-COLUMN($X$27)+1)),"",$X$25-(WEEKDAY($X$25,1)-(start_day-1))-IF((WEEKDAY($X$25,1)-(start_day-1))<=0,7,0)+(ROW(Z32)-ROW($X$27))*7+(COLUMN(Z32)-COLUMN($X$27)+1)) | AA32: =IF(MONTH($X$25)<>MONTH($X$25-(WEEKDAY($X$25,1)-(start_day-1))-IF((WEEKDAY($X$25,1)-(start_day-1))<=0,7,0)+(ROW(AA32)-ROW($X$27))*7+(COLUMN(AA32)-COLUMN($X$27)+1)),"",$X$25-(WEEKDAY($X$25,1)-(start_day-1))-IF((WEEKDAY($X$25,1)-(start_day-1))<=0,7,0)+(ROW(AA32)-ROW($X$27))*7+(COLUMN(AA32)-COLUMN($X$27)+1)) | AB32: =IF(MONTH($X$25)<>MONTH($X$25-(WEEKDAY($X$25,1)-(start_day-1))-IF((WEEKDAY($X$25,1)-(start_day-1))<=0,7,0)+(ROW(AB32)-ROW($X$27))*7+(COLUMN(AB32)-COLUMN($X$27)+1)),"",$X$25-(WEEKDAY($X$25,1)-(start_day-1))-IF((WEEKDAY($X$25,1)-(start_day-1))<=0,7,0)+(ROW(AB32)-ROW($X$27))*7+(COLUMN(AB32)-COLUMN($X$27)+1)) | AC32: =IF(MONTH($X$25)<>MONTH($X$25-(WEEKDAY($X$25,1)-(start_day-1))-IF((WEEKDAY($X$25,1)-(start_day-1))<=0,7,0)+(ROW(AC32)-ROW($X$27))*7+(COLUMN(AC32)-COLUMN($X$27)+1)),"",$X$25-(WEEKDAY($X$25,1)-(start_day-1))-IF((WEEKDAY($X$25,1)-(start_day-1))<=0,7,0)+(ROW(AC32)-ROW($X$27))*7+(COLUMN(AC32)-COLUMN($X$27)+1)) | AD32: =IF(MONTH($X$25)<>MONTH($X$25-(WEEKDAY($X$25,1)-(start_day-1))-IF((WEEKDAY($X$25,1)-(start_day-1))<=0,7,0)+(ROW(AD32)-ROW($X$27))*7+(COLUMN(AD32)-COLUMN($X$27)+1)),"",$X$25-(WEEKDAY($X$25,1)-(start_day-1))-IF((WEEKDAY($X$25,1)-(start_day-1))<=0,7,0)+(ROW(AD32)-ROW($X$27))*7+(COLUMN(AD32)-COLUMN($X$27)+1))

Sheet July
C2: =DATE(About!Q8,About!Q10+6,1) -> 46204
C4: =C5 -> 46201 | E4: =E5 -> 46202 | G4: =G5 -> 46203 | I4: =I5 -> 46204 | K4: =K5 -> 46205 | O4: =O5 -> 46206 | W4: =W5 -> 46207
C5: =$C$2-(WEEKDAY($C$2,1)-(start_day-1))-IF((WEEKDAY($C$2,1)-(start_day-1))<=0,7,0)+1 -> 46201 | E5: =C5+1 -> 46202 | G5: =E5+1 -> 46203 | I5: =G5+1 -> 46204 | K5: =I5+1 -> 46205 | O5: =K5+1 -> 46206 | W5: =O5+1 -> 46207
C7: =W5+1 -> 46208
E8: =C7+1 -> 46209 | G8: =E8+1 -> 46210 | I8: =G8+1 -> 46211 | K8: =I8+1 -> 46212 | O8: =K8+1 -> 46213 | W8: =O8+1 -> 46214
C10: =W8+1 -> 46215
E11: =C10+1 -> 46216 | G11: =E11+1 -> 46217 | I11: =G11+1 -> 46218 | K11: =I11+1 -> 46219 | O11: =K11+1 -> 46220 | W11: =O11+1 -> 46221
C13: =W11+1 -> 46222
E14: =C13+1 -> 46223 | G14: =E14+1 -> 46224 | I14: =G14+1 -> 46225 | K14: =I14+1 -> 46226 | O14: =K14+1 -> 46227 | W14: =O14+1 -> 46228
C16: =W14+1 -> 46229
E17: =C16+1 -> 46230 | G17: =E17+1 -> 46231 | I17: =G17+1 -> 46232 | K17: =I17+1 -> 46233 | O17: =K17+1 -> 46234 | W17: =O17+1 -> 46235
C19: =W17+1 -> 46236
E20: =C19+1 -> 46237 | G20: =E20+1 -> 46238 | I20: =G20+1 -> 46239 | K20: =I20+1 -> 46240 | O20: =K20+1 -> 46241 | W20: =O20+1 -> 46242
C25: Notes | O25: =DATE(YEAR(C2),MONTH(C2)-1,1) -> 46174 | X25: =DATE(YEAR(C2),MONTH(C2)+1,1) -> 46235
O26: {=INDEX({"S";"M";"T";"W";"T";"F";"S"},1+MOD(start_day+1-2,7))} -> S | P26: {=INDEX({"S";"M";"T";"W";"T";"F";"S"},1+MOD(start_day+2-2,7))} -> M | Q26: {=INDEX({"S";"M";"T";"W";"T";"F";"S"},1+MOD(start_day+3-2,7))} -> T | R26: {=INDEX({"S";"M";"T";"W";"T";"F";"S"},1+MOD(start_day+4-2,7))} -> W | S26: {=INDEX({"S";"M";"T";"W";"T";"F";"S"},1+MOD(start_day+5-2,7))} -> T | T26: {=INDEX({"S";"M";"T";"W";"T";"F";"S"},1+MOD(start_day+6-2,7))} -> F | U26: {=INDEX({"S";"M";"T";"W";"T";"F";"S"},1+MOD(start_day+7-2,7))} -> S | X26: {=INDEX({"S";"M";"T";"W";"T";"F";"S"},1+MOD(start_day+1-2,7))} -> S | Y26: {=INDEX({"S";"M";"T";"W";"T";"F";"S"},1+MOD(start_day+2-2,7))} -> M | Z26: {=INDEX({"S";"M";"T";"W";"T";"F";"S"},1+MOD(start_day+3-2,7))} -> T | AA26: {=INDEX({"S";"M";"T";"W";"T";"F";"S"},1+MOD(start_day+4-2,7))} -> W | AB26: {=INDEX({"S";"M";"T";"W";"T";"F";"S"},1+MOD(start_day+5-2,7))} -> T | AC26: {=INDEX({"S";"M";"T";"W";"T";"F";"S"},1+MOD(start_day+6-2,7))} -> F | AD26: {=INDEX({"S";"M";"T";"W";"T";"F";"S"},1+MOD(start_day+7-2,7))} -> S
O27: =IF(MONTH($O$25)<>MONTH($O$25-(WEEKDAY($O$25,1)-(start_day-1))-IF((WEEKDAY($O$25,1)-(start_day-1))<=0,7,0)+(ROW(O27)-ROW($O$27))*7+(COLUMN(O27)-COLUMN($O$27)+1)),"",$O$25-(WEEKDAY($O$25,1)-(start_day-1))-IF((WEEKDAY($O$25,1)-(start_day-1))<=0,7,0)+(ROW(O27)-ROW($O$27))*7+(COLUMN(O27)-COLUMN($O$27)+1)) | P27: =IF(MONTH($O$25)<>MONTH($O$25-(WEEKDAY($O$25,1)-(start_day-1))-IF((WEEKDAY($O$25,1)-(start_day-1))<=0,7,0)+(ROW(P27)-ROW($O$27))*7+(COLUMN(P27)-COLUMN($O$27)+1)),"",$O$25-(WEEKDAY($O$25,1)-(start_day-1))-IF((WEEKDAY($O$25,1)-(start_day-1))<=0,7,0)+(ROW(P27)-ROW($O$27))*7+(COLUMN(P27)-COLUMN($O$27)+1)) -> 46174 | Q27: =IF(MONTH($O$25)<>MONTH($O$25-(WEEKDAY($O$25,1)-(start_day-1))-IF((WEEKDAY($O$25,1)-(start_day-1))<=0,7,0)+(ROW(Q27)-ROW($O$27))*7+(COLUMN(Q27)-COLUMN($O$27)+1)),"",$O$25-(WEEKDAY($O$25,1)-(start_day-1))-IF((WEEKDAY($O$25,1)-(start_day-1))<=0,7,0)+(ROW(Q27)-ROW($O$27))*7+(COLUMN(Q27)-COLUMN($O$27)+1)) -> 46175 | R27: =IF(MONTH($O$25)<>MONTH($O$25-(WEEKDAY($O$25,1)-(start_day-1))-IF((WEEKDAY($O$25,1)-(start_day-1))<=0,7,0)+(ROW(R27)-ROW($O$27))*7+(COLUMN(R27)-COLUMN($O$27)+1)),"",$O$25-(WEEKDAY($O$25,1)-(start_day-1))-IF((WEEKDAY($O$25,1)-(start_day-1))<=0,7,0)+(ROW(R27)-ROW($O$27))*7+(COLUMN(R27)-COLUMN($O$27)+1)) -> 46176 | S27: =IF(MONTH($O$25)<>MONTH($O$25-(WEEKDAY($O$25,1)-(start_day-1))-IF((WEEKDAY($O$25,1)-(start_day-1))<=0,7,0)+(ROW(S27)-ROW($O$27))*7+(COLUMN(S27)-COLUMN($O$27)+1)),"",$O$25-(WEEKDAY($O$25,1)-(start_day-1))-IF((WEEKDAY($O$25,1)-(start_day-1))<=0,7,0)+(ROW(S27)-ROW($O$27))*7+(COLUMN(S27)-COLUMN($O$27)+1)) -> 46177 | T27: =IF(MONTH($O$25)<>MONTH($O$25-(WEEKDAY($O$25,1)-(start_day-1))-IF((WEEKDAY($O$25,1)-(start_day-1))<=0,7,0)+(ROW(T27)-ROW($O$27))*7+(COLUMN(T27)-COLUMN($O$27)+1)),"",$O$25-(WEEKDAY($O$25,1)-(start_day-1))-IF((WEEKDAY($O$25,1)-(start_day-1))<=0,7,0)+(ROW(T27)-ROW($O$27))*7+(COLUMN(T27)-COLUMN($O$27)+1)) -> 46178 | U27: =IF(MONTH($O$25)<>MONTH($O$25-(WEEKDAY($O$25,1)-(start_day-1))-IF((WEEKDAY($O$25,1)-(start_day-1))<=0,7,0)+(ROW(U27)-ROW($O$27))*7+(COLUMN(U27)-COLUMN($O$27)+1)),"",$O$25-(WEEKDAY($O$25,1)-(start_day-1))-IF((WEEKDAY($O$25,1)-(start_day-1))<=0,7,0)+(ROW(U27)-ROW($O$27))*7+(COLUMN(U27)-COLUMN($O$27)+1)) -> 46179 | X27: =IF(MONTH($X$25)<>MONTH($X$25-(WEEKDAY($X$25,1)-(start_day-1))-IF((WEEKDAY($X$25,1)-(start_day-1))<=0,7,0)+(ROW(X27)-ROW($X$27))*7+(COLUMN(X27)-COLUMN($X$27)+1)),"",$X$25-(WEEKDAY($X$25,1)-(start_day-1))-IF((WEEKDAY($X$25,1)-(start_day-1))<=0,7,0)+(ROW(X27)-ROW($X$27))*7+(COLUMN(X27)-COLUMN($X$27)+1)) | Y27: =IF(MONTH($X$25)<>MONTH($X$25-(WEEKDAY($X$25,1)-(start_day-1))-IF((WEEKDAY($X$25,1)-(start_day-1))<=0,7,0)+(ROW(Y27)-ROW($X$27))*7+(COLUMN(Y27)-COLUMN($X$27)+1)),"",$X$25-(WEEKDAY($X$25,1)-(start_day-1))-IF((WEEKDAY($X$25,1)-(start_day-1))<=0,7,0)+(ROW(Y27)-ROW($X$27))*7+(COLUMN(Y27)-COLUMN($X$27)+1)) | Z27: =IF(MONTH($X$25)<>MONTH($X$25-(WEEKDAY($X$25,1)-(start_day-1))-IF((WEEKDAY($X$25,1)-(start_day-1))<=0,7,0)+(ROW(Z27)-ROW($X$27))*7+(COLUMN(Z27)-COLUMN($X$27)+1)),"",$X$25-(WEEKDAY($X$25,1)-(start_day-1))-IF((WEEKDAY($X$25,1)-(start_day-1))<=0,7,0)+(ROW(Z27)-ROW($X$27))*7+(COLUMN(Z27)-COLUMN($X$27)+1)) | AA27: =IF(MONTH($X$25)<>MONTH($X$25-(WEEKDAY($X$25,1)-(start_day-1))-IF((WEEKDAY($X$25,1)-(start_day-1))<=0,7,0)+(ROW(AA27)-ROW($X$27))*7+(COLUMN(AA27)-COLUMN($X$27)+1)),"",$X$25-(WEEKDAY($X$25,1)-(start_day-1))-IF((WEEKDAY($X$25,1)-(start_day-1))<=0,7,0)+(ROW(AA27)-ROW($X$27))*7+(COLUMN(AA27)-COLUMN($X$27)+1)) | AB27: =IF(MONTH($X$25)<>MONTH($X$25-(WEEKDAY($X$25,1)-(start_day-1))-IF((WEEKDAY($X$25,1)-(start_day-1))<=0,7,0)+(ROW(AB27)-ROW($X$27))*7+(COLUMN(AB27)-COLUMN($X$27)+1)),"",$X$25-(WEEKDAY($X$25,1)-(start_day-1))-IF((WEEKDAY($X$25,1)-(start_day-1))<=0,7,0)+(ROW(AB27)-ROW($X$27))*7+(COLUMN(AB27)-COLUMN($X$27)+1)) | AC27: =IF(MONTH($X$25)<>MONTH($X$25-(WEEKDAY($X$25,1)-(start_day-1))-IF((WEEKDAY($X$25,1)-(start_day-1))<=0,7,0)+(ROW(AC27)-ROW($X$27))*7+(COLUMN(AC27)-COLUMN($X$27)+1)),"",$X$25-(WEEKDAY($X$25,1)-(start_day-1))-IF((WEEKDAY($X$25,1)-(start_day-1))<=0,7,0)+(ROW(AC27)-ROW($X$27))*7+(COLUMN(AC27)-COLUMN($X$27)+1)) | AD27: =IF(MONTH($X$25)<>MONTH($X$25-(WEEKDAY($X$25,1)-(start_day-1))-IF((WEEKDAY($X$25,1)-(start_day-1))<=0,7,0)+(ROW(AD27)-ROW($X$27))*7+(COLUMN(AD27)-COLUMN($X$27)+1)),"",$X$25-(WEEKDAY($X$25,1)-(start_day-1))-IF((WEEKDAY($X$25,1)-(start_day-1))<=0,7,0)+(ROW(AD27)-ROW($X$27))*7+(COLUMN(AD27)-COLUMN($X$27)+1)) -> 46235
O28: =IF(MONTH($O$25)<>MONTH($O$25-(WEEKDAY($O$25,1)-(start_day-1))-IF((WEEKDAY($O$25,1)-(start_day-1))<=0,7,0)+(ROW(O28)-ROW($O$27))*7+(COLUMN(O28)-COLUMN($O$27)+1)),"",$O$25-(WEEKDAY($O$25,1)-(start_day-1))-IF((WEEKDAY($O$25,1)-(start_day-1))<=0,7,0)+(ROW(O28)-ROW($O$27))*7+(COLUMN(O28)-COLUMN($O$27)+1)) -> 46180 | P28: =IF(MONTH($O$25)<>MONTH($O$25-(WEEKDAY($O$25,1)-(start_day-1))-IF((WEEKDAY($O$25,1)-(start_day-1))<=0,7,0)+(ROW(P28)-ROW($O$27))*7+(COLUMN(P28)-COLUMN($O$27)+1)),"",$O$25-(WEEKDAY($O$25,1)-(start_day-1))-IF((WEEKDAY($O$25,1)-(start_day-1))<=0,7,0)+(ROW(P28)-ROW($O$27))*7+(COLUMN(P28)-COLUMN($O$27)+1)) -> 46181 | Q28: =IF(MONTH($O$25)<>MONTH($O$25-(WEEKDAY($O$25,1)-(start_day-1))-IF((WEEKDAY($O$25,1)-(start_day-1))<=0,7,0)+(ROW(Q28)-ROW($O$27))*7+(COLUMN(Q28)-COLUMN($O$27)+1)),"",$O$25-(WEEKDAY($O$25,1)-(start_day-1))-IF((WEEKDAY($O$25,1)-(start_day-1))<=0,7,0)+(ROW(Q28)-ROW($O$27))*7+(COLUMN(Q28)-COLUMN($O$27)+1)) -> 46182 | R28: =IF(MONTH($O$25)<>MONTH($O$25-(WEEKDAY($O$25,1)-(start_day-1))-IF((WEEKDAY($O$25,1)-(start_day-1))<=0,7,0)+(ROW(R28)-ROW($O$27))*7+(COLUMN(R28)-COLUMN($O$27)+1)),"",$O$25-(WEEKDAY($O$25,1)-(start_day-1))-IF((WEEKDAY($O$25,1)-(start_day-1))<=0,7,0)+(ROW(R28)-ROW($O$27))*7+(COLUMN(R28)-COLUMN($O$27)+1)) -> 46183 | S28: =IF(MONTH($O$25)<>MONTH($O$25-(WEEKDAY($O$25,1)-(start_day-1))-IF((WEEKDAY($O$25,1)-(start_day-1))<=0,7,0)+(ROW(S28)-ROW($O$27))*7+(COLUMN(S28)-COLUMN($O$27)+1)),"",$O$25-(WEEKDAY($O$25,1)-(start_day-1))-IF((WEEKDAY($O$25,1)-(start_day-1))<=0,7,0)+(ROW(S28)-ROW($O$27))*7+(COLUMN(S28)-COLUMN($O$27)+1)) -> 46184 | T28: =IF(MONTH($O$25)<>MONTH($O$25-(WEEKDAY($O$25,1)-(start_day-1))-IF((WEEKDAY($O$25,1)-(start_day-1))<=0,7,0)+(ROW(T28)-ROW($O$27))*7+(COLUMN(T28)-COLUMN($O$27)+1)),"",$O$25-(WEEKDAY($O$25,1)-(start_day-1))-IF((WEEKDAY($O$25,1)-(start_day-1))<=0,7,0)+(ROW(T28)-ROW($O$27))*7+(COLUMN(T28)-COLUMN($O$27)+1)) -> 46185 | U28: =IF(MONTH($O$25)<>MONTH($O$25-(WEEKDAY($O$25,1)-(start_day-1))-IF((WEEKDAY($O$25,1)-(start_day-1))<=0,7,0)+(ROW(U28)-ROW($O$27))*7+(COLUMN(U28)-COLUMN($O$27)+1)),"",$O$25-(WEEKDAY($O$25,1)-(start_day-1))-IF((WEEKDAY($O$25,1)-(start_day-1))<=0,7,0)+(ROW(U28)-ROW($O$27))*7+(COLUMN(U28)-COLUMN($O$27)+1)) -> 46186 | X28: =IF(MONTH($X$25)<>MONTH($X$25-(WEEKDAY($X$25,1)-(start_day-1))-IF((WEEKDAY($X$25,1)-(start_day-1))<=0,7,0)+(ROW(X28)-ROW($X$27))*7+(COLUMN(X28)-COLUMN($X$27)+1)),"",$X$25-(WEEKDAY($X$25,1)-(start_day-1))-IF((WEEKDAY($X$25,1)-(start_day-1))<=0,7,0)+(ROW(X28)-ROW($X$27))*7+(COLUMN(X28)-COLUMN($X$27)+1)) -> 46236 | Y28: =IF(MONTH($X$25)<>MONTH($X$25-(WEEKDAY($X$25,1)-(start_day-1))-IF((WEEKDAY($X$25,1)-(start_day-1))<=0,7,0)+(ROW(Y28)-ROW($X$27))*7+(COLUMN(Y28)-COLUMN($X$27)+1)),"",$X$25-(WEEKDAY($X$25,1)-(start_day-1))-IF((WEEKDAY($X$25,1)-(start_day-1))<=0,7,0)+(ROW(Y28)-ROW($X$27))*7+(COLUMN(Y28)-COLUMN($X$27)+1)) -> 46237 | Z28: =IF(MONTH($X$25)<>MONTH($X$25-(WEEKDAY($X$25,1)-(start_day-1))-IF((WEEKDAY($X$25,1)-(start_day-1))<=0,7,0)+(ROW(Z28)-ROW($X$27))*7+(COLUMN(Z28)-COLUMN($X$27)+1)),"",$X$25-(WEEKDAY($X$25,1)-(start_day-1))-IF((WEEKDAY($X$25,1)-(start_day-1))<=0,7,0)+(ROW(Z28)-ROW($X$27))*7+(COLUMN(Z28)-COLUMN($X$27)+1)) -> 46238 | AA28: =IF(MONTH($X$25)<>MONTH($X$25-(WEEKDAY($X$25,1)-(start_day-1))-IF((WEEKDAY($X$25,1)-(start_day-1))<=0,7,0)+(ROW(AA28)-ROW($X$27))*7+(COLUMN(AA28)-COLUMN($X$27)+1)),"",$X$25-(WEEKDAY($X$25,1)-(start_day-1))-IF((WEEKDAY($X$25,1)-(start_day-1))<=0,7,0)+(ROW(AA28)-ROW($X$27))*7+(COLUMN(AA28)-COLUMN($X$27)+1)) -> 46239 | AB28: =IF(MONTH($X$25)<>MONTH($X$25-(WEEKDAY($X$25,1)-(start_day-1))-IF((WEEKDAY($X$25,1)-(start_day-1))<=0,7,0)+(ROW(AB28)-ROW($X$27))*7+(COLUMN(AB28)-COLUMN($X$27)+1)),"",$X$25-(WEEKDAY($X$25,1)-(start_day-1))-IF((WEEKDAY($X$25,1)-(start_day-1))<=0,7,0)+(ROW(AB28)-ROW($X$27))*7+(COLUMN(AB28)-COLUMN($X$27)+1)) -> 46240 | AC28: =IF(MONTH($X$25)<>MONTH($X$25-(WEEKDAY($X$25,1)-(start_day-1))-IF((WEEKDAY($X$25,1)-(start_day-1))<=0,7,0)+(ROW(AC28)-ROW($X$27))*7+(COLUMN(AC28)-COLUMN($X$27)+1)),"",$X$25-(WEEKDAY($X$25,1)-(start_day-1))-IF((WEEKDAY($X$25,1)-(start_day-1))<=0,7,0)+(ROW(AC28)-ROW($X$27))*7+(COLUMN(AC28)-COLUMN($X$27)+1)) -> 46241 | AD28: =IF(MONTH($X$25)<>MONTH($X$25-(WEEKDAY($X$25,1)-(start_day-1))-IF((WEEKDAY($X$25,1)-(start_day-1))<=0,7,0)+(ROW(AD28)-ROW($X$27))*7+(COLUMN(AD28)-COLUMN($X$27)+1)),"",$X$25-(WEEKDAY($X$25,1)-(start_day-1))-IF((WEEKDAY($X$25,1)-(start_day-1))<=0,7,0)+(ROW(AD28)-ROW($X$27))*7+(COLUMN(AD28)-COLUMN($X$27)+1)) -> 46242
O29: =IF(MONTH($O$25)<>MONTH($O$25-(WEEKDAY($O$25,1)-(start_day-1))-IF((WEEKDAY($O$25,1)-(start_day-1))<=0,7,0)+(ROW(O29)-ROW($O$27))*7+(COLUMN(O29)-COLUMN($O$27)+1)),"",$O$25-(WEEKDAY($O$25,1)-(start_day-1))-IF((WEEKDAY($O$25,1)-(start_day-1))<=0,7,0)+(ROW(O29)-ROW($O$27))*7+(COLUMN(O29)-COLUMN($O$27)+1)) -> 46187 | P29: =IF(MONTH($O$25)<>MONTH($O$25-(WEEKDAY($O$25,1)-(start_day-1))-IF((WEEKDAY($O$25,1)-(start_day-1))<=0,7,0)+(ROW(P29)-ROW($O$27))*7+(COLUMN(P29)-COLUMN($O$27)+1)),"",$O$25-(WEEKDAY($O$25,1)-(start_day-1))-IF((WEEKDAY($O$25,1)-(start_day-1))<=0,7,0)+(ROW(P29)-ROW($O$27))*7+(COLUMN(P29)-COLUMN($O$27)+1)) -> 46188 | Q29: =IF(MONTH($O$25)<>MONTH($O$25-(WEEKDAY($O$25,1)-(start_day-1))-IF((WEEKDAY($O$25,1)-(start_day-1))<=0,7,0)+(ROW(Q29)-ROW($O$27))*7+(COLUMN(Q29)-COLUMN($O$27)+1)),"",$O$25-(WEEKDAY($O$25,1)-(start_day-1))-IF((WEEKDAY($O$25,1)-(start_day-1))<=0,7,0)+(ROW(Q29)-ROW($O$27))*7+(COLUMN(Q29)-COLUMN($O$27)+1)) -> 46189 | R29: =IF(MONTH($O$25)<>MONTH($O$25-(WEEKDAY($O$25,1)-(start_day-1))-IF((WEEKDAY($O$25,1)-(start_day-1))<=0,7,0)+(ROW(R29)-ROW($O$27))*7+(COLUMN(R29)-COLUMN($O$27)+1)),"",$O$25-(WEEKDAY($O$25,1)-(start_day-1))-IF((WEEKDAY($O$25,1)-(start_day-1))<=0,7,0)+(ROW(R29)-ROW($O$27))*7+(COLUMN(R29)-COLUMN($O$27)+1)) -> 46190 | S29: =IF(MONTH($O$25)<>MONTH($O$25-(WEEKDAY($O$25,1)-(start_day-1))-IF((WEEKDAY($O$25,1)-(start_day-1))<=0,7,0)+(ROW(S29)-ROW($O$27))*7+(COLUMN(S29)-COLUMN($O$27)+1)),"",$O$25-(WEEKDAY($O$25,1)-(start_day-1))-IF((WEEKDAY($O$25,1)-(start_day-1))<=0,7,0)+(ROW(S29)-ROW($O$27))*7+(COLUMN(S29)-COLUMN($O$27)+1)) -> 46191 | T29: =IF(MONTH($O$25)<>MONTH($O$25-(WEEKDAY($O$25,1)-(start_day-1))-IF((WEEKDAY($O$25,1)-(start_day-1))<=0,7,0)+(ROW(T29)-ROW($O$27))*7+(COLUMN(T29)-COLUMN($O$27)+1)),"",$O$25-(WEEKDAY($O$25,1)-(start_day-1))-IF((WEEKDAY($O$25,1)-(start_day-1))<=0,7,0)+(ROW(T29)-ROW($O$27))*7+(COLUMN(T29)-COLUMN($O$27)+1)) -> 46192 | U29: =IF(MONTH($O$25)<>MONTH($O$25-(WEEKDAY($O$25,1)-(start_day-1))-IF((WEEKDAY($O$25,1)-(start_day-1))<=0,7,0)+(ROW(U29)-ROW($O$27))*7+(COLUMN(U29)-COLUMN($O$27)+1)),"",$O$25-(WEEKDAY($O$25,1)-(start_day-1))-IF((WEEKDAY($O$25,1)-(start_day-1))<=0,7,0)+(ROW(U29)-ROW($O$27))*7+(COLUMN(U29)-COLUMN($O$27)+1)) -> 46193 | X29: =IF(MONTH($X$25)<>MONTH($X$25-(WEEKDAY($X$25,1)-(start_day-1))-IF((WEEKDAY($X$25,1)-(start_day-1))<=0,7,0)+(ROW(X29)-ROW($X$27))*7+(COLUMN(X29)-COLUMN($X$27)+1)),"",$X$25-(WEEKDAY($X$25,1)-(start_day-1))-IF((WEEKDAY($X$25,1)-(start_day-1))<=0,7,0)+(ROW(X29)-ROW($X$27))*7+(COLUMN(X29)-COLUMN($X$27)+1)) -> 46243 | Y29: =IF(MONTH($X$25)<>MONTH($X$25-(WEEKDAY($X$25,1)-(start_day-1))-IF((WEEKDAY($X$25,1)-(start_day-1))<=0,7,0)+(ROW(Y29)-ROW($X$27))*7+(COLUMN(Y29)-COLUMN($X$27)+1)),"",$X$25-(WEEKDAY($X$25,1)-(start_day-1))-IF((WEEKDAY($X$25,1)-(start_day-1))<=0,7,0)+(ROW(Y29)-ROW($X$27))*7+(COLUMN(Y29)-COLUMN($X$27)+1)) -> 46244 | Z29: =IF(MONTH($X$25)<>MONTH($X$25-(WEEKDAY($X$25,1)-(start_day-1))-IF((WEEKDAY($X$25,1)-(start_day-1))<=0,7,0)+(ROW(Z29)-ROW($X$27))*7+(COLUMN(Z29)-COLUMN($X$27)+1)),"",$X$25-(WEEKDAY($X$25,1)-(start_day-1))-IF((WEEKDAY($X$25,1)-(start_day-1))<=0,7,0)+(ROW(Z29)-ROW($X$27))*7+(COLUMN(Z29)-COLUMN($X$27)+1)) -> 46245 | AA29: =IF(MONTH($X$25)<>MONTH($X$25-(WEEKDAY($X$25,1)-(start_day-1))-IF((WEEKDAY($X$25,1)-(start_day-1))<=0,7,0)+(ROW(AA29)-ROW($X$27))*7+(COLUMN(AA29)-COLUMN($X$27)+1)),"",$X$25-(WEEKDAY($X$25,1)-(start_day-1))-IF((WEEKDAY($X$25,1)-(start_day-1))<=0,7,0)+(ROW(AA29)-ROW($X$27))*7+(COLUMN(AA29)-COLUMN($X$27)+1)) -> 46246 | AB29: =IF(MONTH($X$25)<>MONTH($X$25-(WEEKDAY($X$25,1)-(start_day-1))-IF((WEEKDAY($X$25,1)-(start_day-1))<=0,7,0)+(ROW(AB29)-ROW($X$27))*7+(COLUMN(AB29)-COLUMN($X$27)+1)),"",$X$25-(WEEKDAY($X$25,1)-(start_day-1))-IF((WEEKDAY($X$25,1)-(start_day-1))<=0,7,0)+(ROW(AB29)-ROW($X$27))*7+(COLUMN(AB29)-COLUMN($X$27)+1)) -> 46247 | AC29: =IF(MONTH($X$25)<>MONTH($X$25-(WEEKDAY($X$25,1)-(start_day-1))-IF((WEEKDAY($X$25,1)-(start_day-1))<=0,7,0)+(ROW(AC29)-ROW($X$27))*7+(COLUMN(AC29)-COLUMN($X$27)+1)),"",$X$25-(WEEKDAY($X$25,1)-(start_day-1))-IF((WEEKDAY($X$25,1)-(start_day-1))<=0,7,0)+(ROW(AC29)-ROW($X$27))*7+(COLUMN(AC29)-COLUMN($X$27)+1)) -> 46248 | AD29: =IF(MONTH($X$25)<>MONTH($X$25-(WEEKDAY($X$25,1)-(start_day-1))-IF((WEEKDAY($X$25,1)-(start_day-1))<=0,7,0)+(ROW(AD29)-ROW($X$27))*7+(COLUMN(AD29)-COLUMN($X$27)+1)),"",$X$25-(WEEKDAY($X$25,1)-(start_day-1))-IF((WEEKDAY($X$25,1)-(start_day-1))<=0,7,0)+(ROW(AD29)-ROW($X$27))*7+(COLUMN(AD29)-COLUMN($X$27)+1)) -> 46249
O30: =IF(MONTH($O$25)<>MONTH($O$25-(WEEKDAY($O$25,1)-(start_day-1))-IF((WEEKDAY($O$25,1)-(start_day-1))<=0,7,0)+(ROW(O30)-ROW($O$27))*7+(COLUMN(O30)-COLUMN($O$27)+1)),"",$O$25-(WEEKDAY($O$25,1)-(start_day-1))-IF((WEEKDAY($O$25,1)-(start_day-1))<=0,7,0)+(ROW(O30)-ROW($O$27))*7+(COLUMN(O30)-COLUMN($O$27)+1)) -> 46194 | P30: =IF(MONTH($O$25)<>MONTH($O$25-(WEEKDAY($O$25,1)-(start_day-1))-IF((WEEKDAY($O$25,1)-(start_day-1))<=0,7,0)+(ROW(P30)-ROW($O$27))*7+(COLUMN(P30)-COLUMN($O$27)+1)),"",$O$25-(WEEKDAY($O$25,1)-(start_day-1))-IF((WEEKDAY($O$25,1)-(start_day-1))<=0,7,0)+(ROW(P30)-ROW($O$27))*7+(COLUMN(P30)-COLUMN($O$27)+1)) -> 46195 | Q30: =IF(MONTH($O$25)<>MONTH($O$25-(WEEKDAY($O$25,1)-(start_day-1))-IF((WEEKDAY($O$25,1)-(start_day-1))<=0,7,0)+(ROW(Q30)-ROW($O$27))*7+(COLUMN(Q30)-COLUMN($O$27)+1)),"",$O$25-(WEEKDAY($O$25,1)-(start_day-1))-IF((WEEKDAY($O$25,1)-(start_day-1))<=0,7,0)+(ROW(Q30)-ROW($O$27))*7+(COLUMN(Q30)-COLUMN($O$27)+1)) -> 46196 | R30: =IF(MONTH($O$25)<>MONTH($O$25-(WEEKDAY($O$25,1)-(start_day-1))-IF((WEEKDAY($O$25,1)-(start_day-1))<=0,7,0)+(ROW(R30)-ROW($O$27))*7+(COLUMN(R30)-COLUMN($O$27)+1)),"",$O$25-(WEEKDAY($O$25,1)-(start_day-1))-IF((WEEKDAY($O$25,1)-(start_day-1))<=0,7,0)+(ROW(R30)-ROW($O$27))*7+(COLUMN(R30)-COLUMN($O$27)+1)) -> 46197 | S30: =IF(MONTH($O$25)<>MONTH($O$25-(WEEKDAY($O$25,1)-(start_day-1))-IF((WEEKDAY($O$25,1)-(start_day-1))<=0,7,0)+(ROW(S30)-ROW($O$27))*7+(COLUMN(S30)-COLUMN($O$27)+1)),"",$O$25-(WEEKDAY($O$25,1)-(start_day-1))-IF((WEEKDAY($O$25,1)-(start_day-1))<=0,7,0)+(ROW(S30)-ROW($O$27))*7+(COLUMN(S30)-COLUMN($O$27)+1)) -> 46198 | T30: =IF(MONTH($O$25)<>MONTH($O$25-(WEEKDAY($O$25,1)-(start_day-1))-IF((WEEKDAY($O$25,1)-(start_day-1))<=0,7,0)+(ROW(T30)-ROW($O$27))*7+(COLUMN(T30)-COLUMN($O$27)+1)),"",$O$25-(WEEKDAY($O$25,1)-(start_day-1))-IF((WEEKDAY($O$25,1)-(start_day-1))<=0,7,0)+(ROW(T30)-ROW($O$27))*7+(COLUMN(T30)-COLUMN($O$27)+1)) -> 46199 | U30: =IF(MONTH($O$25)<>MONTH($O$25-(WEEKDAY($O$25,1)-(start_day-1))-IF((WEEKDAY($O$25,1)-(start_day-1))<=0,7,0)+(ROW(U30)-ROW($O$27))*7+(COLUMN(U30)-COLUMN($O$27)+1)),"",$O$25-(WEEKDAY($O$25,1)-(start_day-1))-IF((WEEKDAY($O$25,1)-(start_day-1))<=0,7,0)+(ROW(U30)-ROW($O$27))*7+(COLUMN(U30)-COLUMN($O$27)+1)) -> 46200 | X30: =IF(MONTH($X$25)<>MONTH($X$25-(WEEKDAY($X$25,1)-(start_day-1))-IF((WEEKDAY($X$25,1)-(start_day-1))<=0,7,0)+(ROW(X30)-ROW($X$27))*7+(COLUMN(X30)-COLUMN($X$27)+1)),"",$X$25-(WEEKDAY($X$25,1)-(start_day-1))-IF((WEEKDAY($X$25,1)-(start_day-1))<=0,7,0)+(ROW(X30)-ROW($X$27))*7+(COLUMN(X30)-COLUMN($X$27)+1)) -> 46250 | Y30: =IF(MONTH($X$25)<>MONTH($X$25-(WEEKDAY($X$25,1)-(start_day-1))-IF((WEEKDAY($X$25,1)-(start_day-1))<=0,7,0)+(ROW(Y30)-ROW($X$27))*7+(COLUMN(Y30)-COLUMN($X$27)+1)),"",$X$25-(WEEKDAY($X$25,1)-(start_day-1))-IF((WEEKDAY($X$25,1)-(start_day-1))<=0,7,0)+(ROW(Y30)-ROW($X$27))*7+(COLUMN(Y30)-COLUMN($X$27)+1)) -> 46251 | Z30: =IF(MONTH($X$25)<>MONTH($X$25-(WEEKDAY($X$25,1)-(start_day-1))-IF((WEEKDAY($X$25,1)-(start_day-1))<=0,7,0)+(ROW(Z30)-ROW($X$27))*7+(COLUMN(Z30)-COLUMN($X$27)+1)),"",$X$25-(WEEKDAY($X$25,1)-(start_day-1))-IF((WEEKDAY($X$25,1)-(start_day-1))<=0,7,0)+(ROW(Z30)-ROW($X$27))*7+(COLUMN(Z30)-COLUMN($X$27)+1)) -> 46252 | AA30: =IF(MONTH($X$25)<>MONTH($X$25-(WEEKDAY($X$25,1)-(start_day-1))-IF((WEEKDAY($X$25,1)-(start_day-1))<=0,7,0)+(ROW(AA30)-ROW($X$27))*7+(COLUMN(AA30)-COLUMN($X$27)+1)),"",$X$25-(WEEKDAY($X$25,1)-(start_day-1))-IF((WEEKDAY($X$25,1)-(start_day-1))<=0,7,0)+(ROW(AA30)-ROW($X$27))*7+(COLUMN(AA30)-COLUMN($X$27)+1)) -> 46253 | AB30: =IF(MONTH($X$25)<>MONTH($X$25-(WEEKDAY($X$25,1)-(start_day-1))-IF((WEEKDAY($X$25,1)-(start_day-1))<=0,7,0)+(ROW(AB30)-ROW($X$27))*7+(COLUMN(AB30)-COLUMN($X$27)+1)),"",$X$25-(WEEKDAY($X$25,1)-(start_day-1))-IF((WEEKDAY($X$25,1)-(start_day-1))<=0,7,0)+(ROW(AB30)-ROW($X$27))*7+(COLUMN(AB30)-COLUMN($X$27)+1)) -> 46254 | AC30: =IF(MONTH($X$25)<>MONTH($X$25-(WEEKDAY($X$25,1)-(start_day-1))-IF((WEEKDAY($X$25,1)-(start_day-1))<=0,7,0)+(ROW(AC30)-ROW($X$27))*7+(COLUMN(AC30)-COLUMN($X$27)+1)),"",$X$25-(WEEKDAY($X$25,1)-(start_day-1))-IF((WEEKDAY($X$25,1)-(start_day-1))<=0,7,0)+(ROW(AC30)-ROW($X$27))*7+(COLUMN(AC30)-COLUMN($X$27)+1)) -> 46255 | AD30: =IF(MONTH($X$25)<>MONTH($X$25-(WEEKDAY($X$25,1)-(start_day-1))-IF((WEEKDAY($X$25,1)-(start_day-1))<=0,7,0)+(ROW(AD30)-ROW($X$27))*7+(COLUMN(AD30)-COLUMN($X$27)+1)),"",$X$25-(WEEKDAY($X$25,1)-(start_day-1))-IF((WEEKDAY($X$25,1)-(start_day-1))<=0,7,0)+(ROW(AD30)-ROW($X$27))*7+(COLUMN(AD30)-COLUMN($X$27)+1)) -> 46256
O31: =IF(MONTH($O$25)<>MONTH($O$25-(WEEKDAY($O$25,1)-(start_day-1))-IF((WEEKDAY($O$25,1)-(start_day-1))<=0,7,0)+(ROW(O31)-ROW($O$27))*7+(COLUMN(O31)-COLUMN($O$27)+1)),"",$O$25-(WEEKDAY($O$25,1)-(start_day-1))-IF((WEEKDAY($O$25,1)-(start_day-1))<=0,7,0)+(ROW(O31)-ROW($O$27))*7+(COLUMN(O31)-COLUMN($O$27)+1)) -> 46201 | P31: =IF(MONTH($O$25)<>MONTH($O$25-(WEEKDAY($O$25,1)-(start_day-1))-IF((WEEKDAY($O$25,1)-(start_day-1))<=0,7,0)+(ROW(P31)-ROW($O$27))*7+(COLUMN(P31)-COLUMN($O$27)+1)),"",$O$25-(WEEKDAY($O$25,1)-(start_day-1))-IF((WEEKDAY($O$25,1)-(start_day-1))<=0,7,0)+(ROW(P31)-ROW($O$27))*7+(COLUMN(P31)-COLUMN($O$27)+1)) -> 46202 | Q31: =IF(MONTH($O$25)<>MONTH($O$25-(WEEKDAY($O$25,1)-(start_day-1))-IF((WEEKDAY($O$25,1)-(start_day-1))<=0,7,0)+(ROW(Q31)-ROW($O$27))*7+(COLUMN(Q31)-COLUMN($O$27)+1)),"",$O$25-(WEEKDAY($O$25,1)-(start_day-1))-IF((WEEKDAY($O$25,1)-(start_day-1))<=0,7,0)+(ROW(Q31)-ROW($O$27))*7+(COLUMN(Q31)-COLUMN($O$27)+1)) -> 46203 | R31: =IF(MONTH($O$25)<>MONTH($O$25-(WEEKDAY($O$25,1)-(start_day-1))-IF((WEEKDAY($O$25,1)-(start_day-1))<=0,7,0)+(ROW(R31)-ROW($O$27))*7+(COLUMN(R31)-COLUMN($O$27)+1)),"",$O$25-(WEEKDAY($O$25,1)-(start_day-1))-IF((WEEKDAY($O$25,1)-(start_day-1))<=0,7,0)+(ROW(R31)-ROW($O$27))*7+(COLUMN(R31)-COLUMN($O$27)+1)) | S31: =IF(MONTH($O$25)<>MONTH($O$25-(WEEKDAY($O$25,1)-(start_day-1))-IF((WEEKDAY($O$25,1)-(start_day-1))<=0,7,0)+(ROW(S31)-ROW($O$27))*7+(COLUMN(S31)-COLUMN($O$27)+1)),"",$O$25-(WEEKDAY($O$25,1)-(start_day-1))-IF((WEEKDAY($O$25,1)-(start_day-1))<=0,7,0)+(ROW(S31)-ROW($O$27))*7+(COLUMN(S31)-COLUMN($O$27)+1)) | T31: =IF(MONTH($O$25)<>MONTH($O$25-(WEEKDAY($O$25,1)-(start_day-1))-IF((WEEKDAY($O$25,1)-(start_day-1))<=0,7,0)+(ROW(T31)-ROW($O$27))*7+(COLUMN(T31)-COLUMN($O$27)+1)),"",$O$25-(WEEKDAY($O$25,1)-(start_day-1))-IF((WEEKDAY($O$25,1)-(start_day-1))<=0,7,0)+(ROW(T31)-ROW($O$27))*7+(COLUMN(T31)-COLUMN($O$27)+1)) | U31: =IF(MONTH($O$25)<>MONTH($O$25-(WEEKDAY($O$25,1)-(start_day-1))-IF((WEEKDAY($O$25,1)-(start_day-1))<=0,7,0)+(ROW(U31)-ROW($O$27))*7+(COLUMN(U31)-COLUMN($O$27)+1)),"",$O$25-(WEEKDAY($O$25,1)-(start_day-1))-IF((WEEKDAY($O$25,1)-(start_day-1))<=0,7,0)+(ROW(U31)-ROW($O$27))*7+(COLUMN(U31)-COLUMN($O$27)+1)) | X31: =IF(MONTH($X$25)<>MONTH($X$25-(WEEKDAY($X$25,1)-(start_day-1))-IF((WEEKDAY($X$25,1)-(start_day-1))<=0,7,0)+(ROW(X31)-ROW($X$27))*7+(COLUMN(X31)-COLUMN($X$27)+1)),"",$X$25-(WEEKDAY($X$25,1)-(start_day-1))-IF((WEEKDAY($X$25,1)-(start_day-1))<=0,7,0)+(ROW(X31)-ROW($X$27))*7+(COLUMN(X31)-COLUMN($X$27)+1)) -> 46257 | Y31: =IF(MONTH($X$25)<>MONTH($X$25-(WEEKDAY($X$25,1)-(start_day-1))-IF((WEEKDAY($X$25,1)-(start_day-1))<=0,7,0)+(ROW(Y31)-ROW($X$27))*7+(COLUMN(Y31)-COLUMN($X$27)+1)),"",$X$25-(WEEKDAY($X$25,1)-(start_day-1))-IF((WEEKDAY($X$25,1)-(start_day-1))<=0,7,0)+(ROW(Y31)-ROW($X$27))*7+(COLUMN(Y31)-COLUMN($X$27)+1)) -> 46258 | Z31: =IF(MONTH($X$25)<>MONTH($X$25-(WEEKDAY($X$25,1)-(start_day-1))-IF((WEEKDAY($X$25,1)-(start_day-1))<=0,7,0)+(ROW(Z31)-ROW($X$27))*7+(COLUMN(Z31)-COLUMN($X$27)+1)),"",$X$25-(WEEKDAY($X$25,1)-(start_day-1))-IF((WEEKDAY($X$25,1)-(start_day-1))<=0,7,0)+(ROW(Z31)-ROW($X$27))*7+(COLUMN(Z31)-COLUMN($X$27)+1)) -> 46259 | AA31: =IF(MONTH($X$25)<>MONTH($X$25-(WEEKDAY($X$25,1)-(start_day-1))-IF((WEEKDAY($X$25,1)-(start_day-1))<=0,7,0)+(ROW(AA31)-ROW($X$27))*7+(COLUMN(AA31)-COLUMN($X$27)+1)),"",$X$25-(WEEKDAY($X$25,1)-(start_day-1))-IF((WEEKDAY($X$25,1)-(start_day-1))<=0,7,0)+(ROW(AA31)-ROW($X$27))*7+(COLUMN(AA31)-COLUMN($X$27)+1)) -> 46260 | AB31: =IF(MONTH($X$25)<>MONTH($X$25-(WEEKDAY($X$25,1)-(start_day-1))-IF((WEEKDAY($X$25,1)-(start_day-1))<=0,7,0)+(ROW(AB31)-ROW($X$27))*7+(COLUMN(AB31)-COLUMN($X$27)+1)),"",$X$25-(WEEKDAY($X$25,1)-(start_day-1))-IF((WEEKDAY($X$25,1)-(start_day-1))<=0,7,0)+(ROW(AB31)-ROW($X$27))*7+(COLUMN(AB31)-COLUMN($X$27)+1)) -> 46261 | AC31: =IF(MONTH($X$25)<>MONTH($X$25-(WEEKDAY($X$25,1)-(start_day-1))-IF((WEEKDAY($X$25,1)-(start_day-1))<=0,7,0)+(ROW(AC31)-ROW($X$27))*7+(COLUMN(AC31)-COLUMN($X$27)+1)),"",$X$25-(WEEKDAY($X$25,1)-(start_day-1))-IF((WEEKDAY($X$25,1)-(start_day-1))<=0,7,0)+(ROW(AC31)-ROW($X$27))*7+(COLUMN(AC31)-COLUMN($X$27)+1)) -> 46262 | AD31: =IF(MONTH($X$25)<>MONTH($X$25-(WEEKDAY($X$25,1)-(start_day-1))-IF((WEEKDAY($X$25,1)-(start_day-1))<=0,7,0)+(ROW(AD31)-ROW($X$27))*7+(COLUMN(AD31)-COLUMN($X$27)+1)),"",$X$25-(WEEKDAY($X$25,1)-(start_day-1))-IF((WEEKDAY($X$25,1)-(start_day-1))<=0,7,0)+(ROW(AD31)-ROW($X$27))*7+(COLUMN(AD31)-COLUMN($X$27)+1)) -> 46263
